{"text_format":"1","workbook":"xlsx","n_sheets":27,"sheets":["Sommaire","Graph 1 Note pdf","Graph 2 Zone euro Note pdf","Graph 2 France Note pdf","Graph 3 Note pdf","Graph 4 note pdf","Graph 5 Note pdf","Graph 6 note pdf","Graph 7 Note pdf","Graph 8 Note pdf","Graphique A Encadré HTML","Graphique B Encadré HTML","Graphique C Encadré HTML","Graphique  D Encadré  HTML","Graphique  E Encadré HTML  ","Graph Hyper 1,1","Graph Hyper1,2","Graph hyper 2","Graph hyper 3","Graph hyper 4","Graph hyper 5 ","Graph Hyper 6","Graph Hyper 7","Graph Hyper 8","Graph Hyper 9","Graph Hyper 10","Graph hyper 11 "],"not_rendered":{"charts":29,"images":1,"macros":0,"external_links":5,"defined_names":1,"comments":0,"pivot_tables":0},"unopened":[],"bounds":{"document_bytes":16777216,"sheet_cells":100000,"rows_first":2000,"rows_last":500,"rows_between":2000,"halvings":0,"cell_chars":16384,"cell_head_chars":4096},"cells_cut":0,"cells_raw":0,"read":"whole","date_system":"1900"}

{"sheet":"Sommaire","index":0,"n_rows":88,"n_cols":2,"rows_kept":88,"cut":false,"hidden":false,"merged":[]}
["Graphiques Note à télécharger"]
["1. SOLDE DES BIENS ET SERVICES DE LA FRANCE","Graph 1 Note pdf'!A1"]
["2. ÉVOLUTION DES PARTS DE MARCHÉ À L’EXPORTATION, France","Graph 2 Zone euro Note pdf'!A1"]
["2. ÉVOLUTION DES PARTS DE MARCHÉ À L’EXPORTATION, zone euro","Graph 2 France Note pdf'!A1"]
["3. CROISSANCE ANNUELLE MOYENNE DES SALAIRES BRUTS NOMINAUX\n","Graph 3 Note pdf'!A1"]
["4. COÛT SALARIAL UNITAIRE NOMINAL FRANCE ET ALLEMAGNE\n","Graph 4 note pdf'!A1"]
["5. COMPÉTENCES DE LA POPULATION ACTIVE EN LECTURE ET EN CALCUL","Graph 5 Note pdf'!A1"]
["6. QUALITÉ DU MANAGEMENT EN FRANCE ET DANS L’UNION EUROPÉENNE","GRAPH 6 NOTE PDF'!A1"]
["7. NOMBRE D'ENTREPRISES FRANÇAISES EXPORTATRICES","Graph 7 Note pdf'!A1"]
["8. DIFFUSION DU NUMÉRIQUE DANS LES ENTREPRISES FRANÇAISES EN 2015 ","Graph 8 Note pdf'!A1"]
["Graphiques insérés dans les encadrés"]
["GRAPHIQUE A : ÉVOLUTION DES COÛTS SALARIAUX UNITAIRES  NOMINAUX","Graphique A Encadré HTML'!A1"]
["GRAPHIQUE B : TAUX MOYENS DES PRÉLEVEMENTS SOCIAUX À LA CHARGE DES EMPLOYEURS","Graphique B Encadré HTML'!A1"]
["GRAPHIQUE C : PARTS DE MARCHÉ MONDIAL DÉTENUES DANS LE SECTEUR DES PRODUITS DE HAUTE TECHNOLOGIE","Graphique C Encadré HTML'!A1"]
["GRAPHIQUE D : PARTS DES EXPORTATIONS DE PRODUITS HAUT DE GAMME DANS LES EXPORTATIONS TOTALES","Graphique  D Encadré  HTML'!A1"]
["GRAPHIQUE E : PARTS DE MARCHÉ MONDIAL DÉTENUES DANS LES PRODUITS HAUT DE GAMME","Graphique  E Encadré HTML  '!A1"]
["Graphiques en accès via liens hypertexte"]
["COMPTE COURANT ET ENDETTEMENT EXTÉRIEUR DE LA FRANCE  (compte courant)\n","Graph Hyper 1,1'!A1"]
["COMPTE COURANT ET ENDETTEMENT EXTÉRIEUR DE LA FRANCE  (position extérieure nette)\n","Graph Hyper1,2'!A1"]
["PERFORMANCES À L'EXPORTATION DE BIENS ET SERVICES (en volume)","Graph hyper 2'!A1"]
["TAUX DE CHANGE EURO/DOLLAR ET TAUX DE CHANGE EFFECTIF NOMINAL DE LA ZONE EURO","Graph hyper 3'!A1"]
["DIFFÉRENTS INDICATEURS DE LA COMPÉTITIVITÉ-PRIX","Graph hyper 4'!A1"]
["COUTS SALARIAUX UNITAIRES EN ZONE EURO","Graph hyper 5 '!A1"]
["COMPTE COURANT DE LA FRANCE ET DE L'ALLEMAGNE","Graph Hyper 6'!A1"]
["COÛTS SALARIAUX UNITAIRES NOMINAUX, SECTEUR ABRITÉ ET SECTEUR EXPOSÉ, COMPARAISON FRANCE-ALLEMAGNE","Graph Hyper 7'!A1"]
["CROISSANCE DE LA PRODUCTIVITÉ ET DES SALAIRES RÉELS BRUTS EN FRANCE","Graph Hyper 8'!A1"]
["COURBE DE PHILIPPS POUR LA FRANCE","Graph Hyper 9'!A1"]
["PRIX DE L'IMMOBILIER ","Graph Hyper 10'!A1"]
["PARTS DE MARCHÉ MONDIAL DÉTENUES DANS LES PRODUITS HAUT DE GAMME ","Graph hyper 11 '!A1"]
[]
[]
[]
[]
[]
[]
[]
[]
[]
[]
[]
[]
[]
[]
[]
[]
[]
[]
[]
[]
["Graph","Source"]
["Balance commerciale comparaison internationale","OCDE"]
["Balance commerciale France","OCDE"]
[]
["Compte courant comparaison internationale","OCDE"]
["Compte courant France","OCDE"]
[]
["Position extérieure nette France","Banque de France"]
[]
["Parts de marché comparaison internationale","OCDE"]
["Parts de marché décomposition FR","MEC WB"]
["Parts de marché décomposition comparaison ZE","MEC WB"]
[]
["Croissance des exportations","OCDE"]
[]
["Attractivité","Graph"]
[]
["Indicateur de compétivité prix (prix des X/Prix des X cc) multi pays","OCDE"]
["Indicateur de compétivité prix (prix des X/Prix des X cc) France Allemagne","OCDE"]
["Indicateur de compétivité prix (prix des X/Prix des X cc) France ","OCDE"]
["Indicateurs de compétitivité prix ","OCDE"]
[]
["CSU zone euro","Graph"]
["CSU France-Allemagne","Graph"]
["CSU réel"]
[]
["Taux de marge ZE","AMECO"]
["Taux de marge FR manuf","INSEE"]
[]
[]
["Taux de change effectif et euro/dollar","Graph"]
[]
["Evolutions salaires nominaux zone euro","Graph"]
["Evolutions salaires nominaux Franc Allemagne","Graph"]
[]
["Taux de marge","Graph"]
["Compétences","Graph"]
["Numérique","Graph"]
["Management","Graph"]

{"sheet":"Graph 1 Note pdf","index":1,"n_rows":21,"n_cols":19,"rows_kept":21,"cut":false,"hidden":false,"merged":[]}
[]
[null,null,2000,2001,2002,2003,2004,2005,2006,2007,2008,2009,2010,2011,2012,2013,2014,2015]
[null,"Energie",-1.5729338320603598E-2,-1.4759882105904034E-2,-1.3418549298018164E-2,-1.3926761070720332E-2,-1.6488582272000438E-2,-2.145398655668913E-2,-2.4720134613637916E-2,-2.3057357236599161E-2,-2.9521761137929016E-2,-2.0504203934261535E-2,-2.4037756676195569E-2,-3.0290625285293343E-2,-3.3138645349218877E-2,-3.1069674532499609E-2,-2.5657821063216884E-2,-1.8371430442606106E-2]
[null,"Alimentaire",6.2546378496690144E-3,4.6667176385500027E-3,5.1394005154758119E-3,5.0689286978704137E-3,4.5137844691005161E-3,4.2302999586737618E-3,4.6436923686501196E-3,4.5526742098389592E-3,4.3490247395194222E-3,2.6167898476392934E-3,3.9595072457531489E-3,5.5300774443932952E-3,5.4711971514124344E-3,5.2863944943680619E-3,4.2373811296419154E-3,4.2198324798866397E-3]
[null,"Transports",1.3246264667129198E-2,1.5336859361993879E-2,1.3389427299240529E-2,1.3523614888544363E-2,1.2758727362376448E-2,1.0830267677015497E-2,1.0152883524113483E-2,6.4491934957167825E-3,6.2158987233269531E-3,3.6240012336147646E-3,7.1839562147450985E-3,5.0405869224448901E-3,8.0534603716753174E-3,8.3592973267364486E-3,6.9239633000401594E-3,6.8756614956086521E-3]
[null,"Autres biens industriels",-1.2377944929384517E-2,-1.0331281140241814E-2,-7.3789780653936944E-3,-8.8974344756716211E-3,-1.228577078108711E-2,-1.4633361516596936E-2,-1.3890608023025799E-2,-1.7898721986638264E-2,-1.7162113410456079E-2,-1.6671333980052779E-2,-2.150133026033272E-2,-2.4685764566713484E-2,-2.0892421352139916E-2,-1.9890714828214803E-2,-2.0665439533096495E-2,-2.1637289506429812E-2]
[null,"Services",8.8184021041652662E-3,9.577702292814726E-3,1.2010597755538801E-2,8.863234713804808E-3,8.2127262096428726E-3,8.5774184994507081E-3,8.245440748935913E-3,1.0356845563610844E-2,9.8494387476351156E-3,6.564666529483754E-3,7.7258677965915106E-3,1.1663277139044448E-2,1.1911282080032431E-2,1.0582238259438364E-2,8.3603398383417515E-3,6.2908203759195662E-3]
[null,"Négoce international",3.3373659513167829E-3,3.4836836580800349E-3,3.0703925221100079E-3,3.0254575051463528E-3,2.3597705130482759E-3,4.1151743994996088E-3,4.1283860460773949E-3,3.6645481052327588E-3,5.511436881879452E-3,4.6508101785595482E-3,4.7751267087352842E-3,7.4661872767427919E-3,8.5321541844499745E-3,8.5137929027180696E-3,9.6386821313258E-3,1.1411042551427775E-2]
[null,"Solde biens et services",9.3576859708194397E-3,1.2986287027955292E-2,1.8229789146084405E-2,1.2881096023122098E-2,8.3062519173683416E-3,-1.7833174852474926E-4,-3.4884349480971064E-3,-6.7025766956999447E-3,-1.4479546768130333E-2,-1.2198449007925131E-2,-1.6232828833499E-2,-1.9695195028951756E-2,-1.4019643217378336E-2,-9.7129053548322981E-3,-7.8876439354334596E-3,-4.3073067585559163E-3]
[null,"Biens hors négoce",-2.7980820846626084E-3,-7.5098922939469253E-5,3.1487988684355955E-3,9.924038041709373E-4,-2.2662448053228051E-3,-1.2870924647475065E-2,-1.5862261743110416E-2,-2.0723970364543549E-2,-2.9840422397644898E-2,-2.3413925715968432E-2,-2.8733823338825792E-2,-3.8824659444739E-2,-3.4463079481860739E-2,-2.8808936516988733E-2,-2.5886665905101011E-2,-2.2009169685903256E-2]
[null,"Ecart b&s vs total",5.8082986485272943E-3,5.0124873226624986E-3,5.4174984171311124E-3,5.2240557641481129E-3,9.2355964162877772E-3,8.1558557901217424E-3,7.9519050007896986E-3,9.2302411531381377E-3,6.2785286878938168E-3,7.5208211170918211E-3,5.661800137204246E-3,5.5810660404296449E-3,6.0433296964103045E-3,8.5057610226211677E-3,9.2752502615302893E-3,6.9040562876373675E-3]
[null,"Ecart CAF/FAB vs FAB/FAB",5.3163748122300701E-3,3.6252975675860905E-3,4.3357354656385402E-3,4.0605499406474732E-3,7.814382684369894E-3,7.6366620918854513E-3,7.8072954778060158E-3,8.3832319978192887E-3,8.231080463228695E-3,7.7822938117613205E-3,8.385869067556808E-3,8.3276517469178628E-3,8.0807732318636614E-3,8.1315699028124688E-3,8.0733458972903072E-3,8.0709906439160248E-3]
[null,"Ecart entre les deux",4.9192383629722419E-4,1.3871897550764081E-3,1.0817629514925722E-3,1.1635058235006396E-3,1.4212137319178832E-3,5.1919369823629109E-4,1.4460952298368281E-4,8.4700915531884906E-4,-1.9525517753348782E-3,-2.6147269466949945E-4,-2.724068930352562E-3,-2.7465857064882179E-3,-2.0374435354533569E-3,3.7419111980869883E-4,1.2019043642399821E-3,-1.1669343562786573E-3]
[]
[]
[null,null,2000,2001,2002,2003,2004,2005,2006,2007,2008,2009,2010,2011,2012,2013,2014,2015]
[null,"Solde commercial (FAB/FAB)",13029,-5383,-1533,3548,-231,-5739,-24212,-29928,-42494,-56217,-45391,-52444,-74510,-67581,-61538,-58306,-45670]
[null,"Energie",-11660.076999999999,-23362.834999999999,-22798.546999999999,-21392.638999999999,-22804.212,-28208,-38016,-45813,-44862,-58921,-39758,-48039,-62377,-69158,-65761,-54714,-40114]
[null,"Alimentaire",9187.3860000000004,9290.0329999999994,7208.3490000000002,8193.5339999999997,8300.0580000000009,7722,7496,8606,8858,8680,5074,7913,11388,11418,11189,9036,9214]
[null,"Transports",15888.852000000001,19674.718000000001,23689.762999999999,21346.210999999999,22144.084999999999,21827.115000000002,19191,18816,12548,12406,7027,14357,10380,16807,17693,14765,15013]
[null,"Autres biens industriels",-7134.3480000000018,-18385,-15958,-11764,-14569,-21018,-25930,-25743,-34825,-34253,-32326,-42970,-50835,-43601,-42100,-44068,-47245]

{"sheet":"Graph 2 Zone euro Note pdf","index":2,"n_rows":27,"n_cols":6,"rows_kept":27,"cut":false,"hidden":false,"merged":[[10,25,10,27],[17,2,17,5],[19,0,22,0],[23,0,26,0]]}
[]
[]
["T1-2006 T42011"]
[null,"Géographie","Secteurs","Effet compétitivité pur","Evolution p.d.m.","Export Growth, Values (xg_v)"]
["Allemagne",-0.2,-0.8,-1.6,-2.6,6.8]
["Espagne",-0.8,-0.7,-1.1000000000000001,-2.6,6.8]
["France",-0.6,0,-3.4,-4.0999999999999996,5.3]
["Italie",-0.2,-1.4,-1.4,-3,6.4]
[]
[]
["T1-2012 T22015"]
[null,"Géographie","Secteurs","Effet compétitivité pur","Evolution p.d.m.","Export Growth, Values (xg_v)"]
["Allemagne",-1.2,1.9,-0.9,-0.2,-1.6]
["Espagne",-1.7,1.6,0.5,0.4,-1.1000000000000001]
["France",-1.2,2.8,-2.9,-1.3,-2.8]
["Italie",-1.2,1.6,-0.8,-0.4,-1.8]
[]
[]
[null,null,"Géographie","Secteurs","Effet compétitivité pur","Evolution part de marché"]
["T1-2006 T4-2011","Allemagne",-0.2,-0.8,-1.6,-2.6]
[null,"Espagne",-0.8,-0.7,-1.1000000000000001,-2.6]
[null,"France",-0.6,0,-3.4,-4.0999999999999996]
[null,"Italie",-0.2,-1.4,-1.4,-3]
["T1-2012 T2-2015","Allemagne",-1.2,1.9,-0.9,-0.2]
[null,"Espagne",-1.7,1.6,0.5,0.4]
[null,"France",-1.2,2.8,-2.9,-1.3]
[null,"Italie",-1.2,1.6,-0.8,-0.4]

{"sheet":"Graph 2 France Note pdf","index":3,"n_rows":39,"n_cols":7,"rows_kept":39,"cut":false,"hidden":false,"merged":[[58,2,58,5],[58,6,58,9],[60,0,63,0],[64,0,67,0]]}
["Country",null,"Géographie","Secteurs","Effet compétitivité pure","Évolution de la part de marché","Export Growth, Values (xg_v)"]
["France","2006q1",-0.5,-1.7,-6.3,-8.5,3.6]
["France","2006q2",0.1,-2.5,-3.4,-5.9,7.2]
["France","2006q3",0.5,-0.3,-4.3,-4,10.7]
["France","2006q4",2,2.2000000000000002,-2.6,1.6,15.5]
["France","2007q1",2.2999999999999998,1.5,-3.3,0.5,15.8]
["France","2007q2",1.2,1.5,-3.8,-1.1000000000000001,13.1]
["France","2007q3",1.6,0.8,-0.2,2.2000000000000002,18.600000000000001]
["France","2007q4",0.8,-2.1,-4.0999999999999996,-5.4,15.4]
["France","2008q1",0.1,-2.5,-0.8,-3.2,17.899999999999999]
["France","2008q2",1,-3,-0.2,-2.2000000000000002,20.9]
["France","2008q3",-0.4,-4.4000000000000004,-0.9,-5.7,14.4]
["France","2008q4",-2.1,1.3,0.2,-0.6,-9.3000000000000007]
["France","2009q1",-1.3,6.4,-3.3,1.8,-32.6]
["France","2009q2",-3.1,8.3000000000000007,-1.4,3.7,-34.5]
["France","2009q3",-2.8,8.3000000000000007,0.3,5.8,-23.8]
["France","2009q4",-1.9,2.5,-0.6,-0.1,-0.3]
["France","2010q1",-3.8,-2.9,-4.0999999999999996,-10.7,10.7]
["France","2010q2",-2.5,-4.5999999999999996,-11,-18.2,5.0999999999999996]
["France","2010q3",-2.1,-0.9,-11.7,-14.7,2.2999999999999998]
["France","2010q4",-0.7,-1,-10.3,-11.9,3.7]
["France","2011q1",-0.3,-3.2,-5.0999999999999996,-8.6,11.9]
["France","2011q2",0.2,-1.2,1,0,22.5]
["France","2011q3",-0.4,-2.7,-3.3,-6.4,13.5]
["France","2011q4",-2.8,-0.9,-2.2000000000000002,-5.9,4.9000000000000004]
["France","2012q1",-2.7,0.5,-4.4000000000000004,-6.6,-0.7]
["France","2012q2",-3.7,3.1,-9.3000000000000007,-10,-10.8]
["France","2012q3",-3.2,3.3,-3.6,-3.5,-6.8]
["France","2012q4",-1.9,1.5,-3.8,-4.2,-3.3]
["France","2013q1",-1.8,1.7,-1.6,-1.7,-1.8]
["France","2013q2",-1.2,1.8,0.9,1.5,1.8]
["France","2013q3",-0.7,2,0.2,1.5,3.8]
["France","2013q4",0,2.9,-0.9,2.1,4.2]
["France","2014q1",1.4,3.8,0.4,5.6,6.9]
["France","2014q2",0.7,3.1,-2.8,1.1000000000000001,4.0999999999999996]
["France","2014q3",0.7,2.2000000000000002,-1.9,0.9,2.4]
["France","2014q4",-1.9,2,-2,-1.8,-5.4]
["France","2015q1",-1.6,5.3,-6.7,-3,-17.2]
["France","2015q2",-0.8,5.7,-5.5,-0.6,-16.3]

{"sheet":"Graph 3 Note pdf","index":4,"n_rows":21,"n_cols":30,"rows_kept":21,"cut":false,"hidden":false,"merged":[[24,5,24,9]]}
[]
[null,1989,1990,1991,1992,1993,1994,1995,1996,1997,1998,1999,2000,2001,2002,2003,2004,2005,2006,2007,2008,2009,2010,2011,2012,2013,2014,2015,2016,2017]
["Allemagne","NA","NA",24.254149999999999,26.746649999999999,27.844519999999999,28.650089999999999,29.642810000000001,29.95363,30.157160000000001,30.432780000000001,30.776489999999999,31.19331,31.782800000000002,32.183239999999998,32.67624,32.738160000000001,32.818109999999997,33.149949999999997,33.439579999999999,34.14499,34.214930000000003,35.09055,36.128839999999997,37.045119999999997,37.717979999999997,38.70926,39.814639999999997,40.893990000000002,42.222000000000001]
["France",25.988520000000001,27.29176,28.334720000000001,29.497250000000001,30.295559999999998,30.698340000000002,31.441839999999999,32.18929,32.718870000000003,33.336269999999999,33.97334,34.756540000000001,35.554340000000003,36.676409999999997,37.713160000000002,38.99212,40.158380000000001,41.416220000000003,42.511389999999999,43.633029999999998,44.422600000000003,45.810189999999999,46.961120000000001,48.08117,48.855469999999997,49.547939999999997,49.951990000000002,50.593269999999997,51.371360000000003]
["Espagne",13.29316,14.636290000000001,16.110320000000002,17.933910000000001,19.2683,19.983039999999999,20.725370000000002,21.555109999999999,22.03978,22.47147,22.91703,23.58304,24.457229999999999,25.317799999999998,26.194379999999999,27.056080000000001,28.047419999999999,29.151009999999999,30.52937,32.619329999999998,34.042250000000003,34.40164,34.640889999999999,34.264879999999998,34.808509999999998,34.568770000000001,34.808190000000003,35.011769999999999,35.483820000000001]
["Italie",17.358989999999999,19.160119999999999,20.863340000000001,22.058070000000001,23.05968,23.841529999999999,24.86431,26.418209999999998,27.50996,27.282389999999999,28.015350000000002,28.654070000000001,29.48029,30.464500000000001,31.777570000000001,32.907380000000003,33.87435,34.729289999999999,35.580530000000003,36.88259,37.708710000000004,38.714410000000001,39.15934,39.322099999999999,39.894869999999997,40.14967,40.336770000000001,40.494129999999998,40.937379999999997]
["Zone euro","NA","NA","NA","NA","NA","NA",26.543089999999999,27.340070000000001,27.392959999999999,27.666889999999999,28.472819999999999,29.224889999999998,30.00825,30.828399999999998,31.670449999999999,32.394370000000002,33.130920000000003,33.955509999999997,34.884419999999999,36.098950000000002,36.782020000000003,37.578000000000003,38.379420000000003,39.056890000000003,39.712310000000002,40.24906,40.795580000000001,41.431629999999998,42.271129999999999]
[]
[]
[]
[null,null,null,"1999-2008","2009-2015"]
[null,null,"Allemagne",{"$f":"(U3/L3)^(1/9)-1","v":1.1607380255969968E-2},{"$f":"(AB3/V3)^(1/6)-1","v":2.5583888331470517E-2}]
[null,null,"France",{"$f":"(U4/L4)^(1/9)-1","v":2.8194405146087398E-2},{"$f":"(AB4/V4)^(1/6)-1","v":1.9744731288551476E-2}]
[null,null,"Espagne",{"$f":"(U5/L5)^(1/9)-1","v":4.0004430034776606E-2},{"$f":"(AB5/V5)^(1/6)-1","v":3.7152685117607387E-3}]
[null,null,"Italie",{"$f":"(U6/L6)^(1/9)-1","v":3.1025684182780067E-2},{"$f":"(AB6/V6)^(1/6)-1","v":1.1292005048100018E-2}]
[null,null,"Zone euro",{"$f":"(U7/L7)^(1/9)-1","v":2.6718920329729778E-2},{"$f":"(AB7/V7)^(1/6)-1","v":1.7410595080429747E-2}]
[]
[]
[null,1989,2008,2009,2010,2011,2012,2013,2014,2015,2016,2017]
["Allemagne","NA",{"$f":"U3/T3-1","v":2.1095061600653997E-2},2.0483239268778153E-3,2.5591751904797011E-2,2.9588877917273937E-2,2.5361456387750003E-2,1.8163256050999443E-2,2.6281365014775515E-2,2.8555957928412923E-2,2.7109374843022671E-2,3.247445407014582E-2]
["France",25.988520000000001,2.6384458376919717E-2,1.8095694935694517E-2,3.1236127556693916E-2,2.5123886192133238E-2,2.3850581076430899E-2,1.6104017435515816E-2,1.4173847882335444E-2,8.1547285315999307E-3,1.2837926977483649E-2,1.5379318237386252E-2]

{"sheet":"Graph 4 note pdf","index":5,"n_rows":29,"n_cols":10,"rows_kept":29,"cut":false,"hidden":false,"merged":[]}
[]
["Country","Euro area","Germany","France",null,null,"Zone euro","Allemagne","France","Écart France-Allemagne"]
["Unit"," "," "," ",null,1999,{"$f":"B13/B$13*100","v":100},{"$f":"C13/C$13*100","v":100},{"$f":"D13/D$13*100","v":100},{"$f":"I3/H3-1","v":0}]
[1990,"NA",79.871615000000006,74.462345200000001,null,2000,101.1372229812267,100.67307705791207,101.1849415341254,{"$f":"I4/H4-1","v":5.0844226795498937E-3}]
[1991,"NA",82.725232300000002,76.536284600000002,null,2001,103.05812317367436,100.59256224812019,103.38970293909388,2.7806635286556247E-2]
[1992,"NA",88.334795299999996,77.792251199999995,null,2002,105.71983085235708,101.40194837638772,106.31155598913722,4.8417290706543659E-2]
[1993,"NA",91.643082699999994,79.162938800000006,null,2003,108.30506974894001,102.56627265840483,108.48482991073409,5.7704712269704084E-2]
[1994,"NA",92.062063300000005,78.534731500000007,null,2004,109.23972512926032,101.92727092637364,109.33392752474147,7.2666093490504347E-2]
[1995,78.5642371,94.0214292,79.303264900000002,null,2005,110.95295924596422,101.43077151518357,111.60993191850595,0.1003557426534869]
[1996,79.872136800000007,94.263837699999996,80.112500999999995,null,2006,112.04525363484012,99.576930771160903,113.71291908050713,0.14196047417681856]
[1997,80.278345400000006,93.127245000000002,80.014630600000004,null,2007,113.77788619232501,98.968684735936534,115.52375840648241,0.1672758783722077]
[1998,80.538533299999997,93.271196900000007,79.872293200000001,null,2008,118.08387420641264,101.29088257368757,118.86556776687701,0.17350707928133735]
[1999,81.530264099999997,93.989416599999998,80.493254100000001,null,2009,123.44403444659025,107.63568139862249,123.05634367439495,0.14326719611373973]
[2000,82.457445000000007,94.622037800000001,81.447052099999993,null,2010,122.65384039152156,106.39495766377595,124.23401329478617,0.16766824314535955]
[2001,84.023560000000003,94.546362400000007,83.221736300000003,null,2011,123.34060561444937,107.11030011861995,125.43808376110862,0.17111130883016346]
[2002,86.193657299999998,95.307099699999995,85.573630899999998,null,2012,125.62649787859574,110.6542825375937,128.30091161639345,0.15947533772860956]
[2003,88.301409399999997,96.401441300000002,87.322969799999996,null,2013,127.04644041500168,113.04528610086084,129.49657144001588,0.1455282737263095]
[2004,89.063436400000001,95.800847300000001,88.006436100000002,null,2014,128.40148888957174,115.20117095822042,131.46548351559315,0.14118183367486137]
[2005,90.4602407,95.334190399999997,89.838466100000005,null,2015,129.27871160912872,117.03429681677586,131.55988260636119,0.12411392373575736]
[2006,91.350791200000003,93.591776300000006,91.531228900000002]
[2007,92.763411099999999,93.020089400000003,92.988832400000007]
[2008,96.274094500000004,95.202709600000006,95.678763500000002]
[2009,100.6442473,101.166149,99.0520554]
[2010,100,100,100]
[2011,100.5599215,100.67234620000001,100.9691955]
[2012,102.4236155,104.0033146,103.2735788]
[2013,103.58129839999999,106.2506049,104.2360043]
[2014,104.68607299999999,108.2769085,105.82084570000001]
[2015,105.401275,109.9998528,105.8968306]

{"sheet":"Graph 5 Note pdf","index":6,"n_rows":43,"n_cols":34,"rows_kept":43,"cut":false,"hidden":false,"merged":[[1,31,1,33],[1,12,1,13],[1,22,1,23],[1,24,1,25],[1,1,1,2],[1,4,1,6],[1,8,1,9],[1,15,1,16],[1,19,1,20],[35,34,37,39],[35,20,37,33],[1,27,1,28],[1,29,1,30]]}
["Literacy",null,null,"Numeracy",null,null,null,"Literacy age",null,null,null,null,null,null,"numeracy age",null,null,null,null,null,null,"literacy étude",null,null,null,null,"Literracy occupation"]
[null,"Mean",null,null,"Adjusted mean",null,null,null,"16-24  year-olds",null,"25-34",null,"55-65 year-olds",null,null,"16-24  year-olds",null,"25-34",null,"55-65 year-olds",null,null,"Lower than upper secondary",null,"Tertiary",null,null,"Skilled occupations",null,"Elementary occupations",null,"Difference between workers in skilled and elementary occupations"]
[null,"Score","S.E.",null,"Score","S.E.","S.D.",null,"Mean score","S.E.",null,null,"Mean score","S.E.",null,"Mean score","S.E.",null,null,"Mean score","S.E.",null,"Mean score","S.E.","Mean score","S.E.",null,"Mean score","S.E.","Mean score","S.E.","Dif.","S.E.","p-value"]
["OECD",null,null,"OECD",null,null,null,"OECD",null,null,null,null,null,null,"OECD",null,null,null,null,null,null,"OECD",null,null,null,null,"OECD"]
["National entities",null,null,"National entities",null,null,null,"National entities",null,null,null,null,null,null,"National entities",null,null,null,null,null,null,"National entities",null,null,null,null,"National entities"]
["Australia",280.40106678900202,0.91369293984718702,"Australia",264.14586034494198,1.01176626266152,61.374907824708451,"Australia",284.12517588773898,2.2142384482520199,287.49362481364199,null,262.74765669499902,1.7279105576063001,"Australia",270.06405127835501,2.5509215664373102,275.05027929784302,null,250.43429079217199,2.0031838026171398,"Australia",252.65819571034501,1.59371110411596,302.26878781123497,1.22552752107315,"Australia",302.33061776770398,1.1270183788540999,261.94093620438099,3.0133820649790302,40.389681563322995,3.3901149912573598,1.0017686768682387E-32]
["Austria",269.45115336655999,0.73665372542858498,"Austria",271.571121783264,0.88789241253123596,55.077784631236646,"Austria",277.71523209038099,1.4674708637048699,279.803183212465,null,249.80656069746701,1.5862893133771201,"Austria",279.265374705017,1.62766282888241,282.05763085541298,null,257.48052414376002,1.7444477557379101,"Austria",245.374207216663,1.73477372723602,296.366888877816,1.30658272267774,"Austria",290.06020891122,0.96766497605250701,236.42837661757801,2.7856306319719999,53.631832293641992,2.82985165289384,4.283859351015107E-80]
["Canada",273.48627184364398,0.56902339231868504,"Canada",263.88346968114797,0.72715358858385504,57.7561571558618,"Canada",275.73087437838399,1.2727234884387,285.14129120792899,null,260.37973305809101,1.0902397373147199,"Canada",268.32526371869102,1.5520734583245199,276.50102652734699,null,251.39991097835801,1.40899498686164,"Canada",233.611015392658,1.6121166596944301,290.42215729288898,0.75981089562655801,"Canada",292.29651057351998,0.80453240115358005,251.04659308951099,2.1683742894752598,41.249917484008989,2.2077697211937699,6.6996676845995613E-78]
["Czech Republic",274.01165798012897,0.98210765208677098,"Czech Republic",274.54956335225802,0.99915421305830199,46.090783104441549,"Czech Republic",280.53099463117098,2.1135580710869499,286.716412302962,null,262.37964110051598,1.9784986145444401,"Czech Republic",277.99000479719098,1.63663865524201,288.370498713833,null,263.20780052483701,1.95062059058083,"Czech Republic",255.83858022186399,2.4882441983963899,301.46961392994098,2.2857178260001301,"Czech Republic",290.89143711370798,1.9055904028180899,253.72804533457801,3.7442365114936198,37.163391779129967,4.2496902269820698,2.231669187455844E-18]
["Denmark",270.78754302206102,0.62333137842877495,"Denmark",277.53674895146401,0.70465359269794103,52.512412342977917,"Denmark",276.05654746018803,1.32223746036951,282.05780437360301,null,252.41669291918001,1.0501958646948399,"Denmark",273.09200320422599,1.54117834510036,286.71732688066197,null,265.34549430333902,1.2026589397988501,"Denmark",246.13456793726999,1.48300196042745,292.221581506826,1.0324657061502001,"Denmark",290.56991406496797,0.91306015758935999,251.861655343226,2.2667122857075599,38.70825872174197,2.3600787907710399,1.890618909340562E-60]
["Estonia",275.88403726371001,0.72173263055812797,"Estonia",272.39970872200399,0.52145814687039005,46.909460894781503,"Estonia",287.069481252922,1.27835758235299,285.89989062566002,null,260.62331642661098,1.5091675915415901,"Estonia",278.53981948452099,1.22221027361639,283.62914301166001,null,259.44212034016101,1.2605825120047001,"Estonia",257.46278181369399,1.6060183050591901,290.10646855139402,0.97352929333748395,"Estonia",292.700426334734,1.00351965083162,262.79190379624998,1.9395396964837599,29.908522538484021,1.99136462037216,5.6361140235605651E-51]
["Finland",287.54570192661998,0.66502192169045604,"Finland",282.22660952519601,0.70468833953295495,52.208491329209778,"Finland",296.70627815595299,1.8629234877485801,308.87269654608599,null,259.73193293095198,1.44753974334599,"Finland",284.76530004216897,1.8306352570527999,302.45386021686897,null,260.048755083321,1.2591665410750901,"Finland",260.35515815756202,1.8546236101993001,308.83276438723198,1.05105760392208,"Finland",309.26876406544301,1.1002287083003801,272.59464339385499,2.8055635863605799,36.674120671588014,2.7773879241156099,8.2938395062465218E-40]
["France",262.13913711352001,0.59157680244405497,"France",252.76254749839501,0.61115980189811503,58.035040165031546,"France",275.029121188028,1.2906413143173401,277.996293306854,null,241.81048193410001,1.25486642654946,"France",263.358676959435,1.5536388182007299,269.36052101220503,null,234.12909543164,1.4739171778081801,"France",231.91257681290799,1.10350740950492,294.40238594066602,0.90063933736757096,"France",283.399393275649,0.83475291829444498,233.80698852782101,1.72422933206355,49.592404747827999,1.7939937901877401,3.3585045627291532E-168]
["Germany",269.80836798343898,0.91567475467162796,"Germany",268.96782891364802,0.99424359828027398,57.289328514939974,"Germany",278.90607582819899,1.6127815267218899,281.30682218618301,null,253.61710992191101,1.6578751588412,"Germany",275.10122369439199,1.8057953638028801,281.968850416843,null,256.37914362633302,1.9104180787663201,"Germany",244.359925019397,2.2796859780965502,292.970763624315,1.3203477094176801,"Germany",293.70592182060801,1.25033138528136,245.25080519497001,2.6567097011596501,48.455116625637999,2.8581872855019101,1.8272761107208162E-64]
["Ireland",266.54482187034199,0.91653444560095798,"Ireland",254.789139560905,1.00972713603774,54.794150939468693,"Ireland",270.57468196494801,1.81744439052691,275.61866250924197,null,250.512186972325,1.80721565971355,"Ireland",257.87302918428901,2.2489255873259499,265.50278692434102,null,238.26502691097201,2.3425306809521498,"Ireland",237.35418486388099,1.6248932010983099,291.69815984972502,1.1743813545703099,"Ireland",287.81092019291799,1.1672695730275,251.510277710151,2.9259578635390699,36.300642482766989,3.0651307612535499,2.3451564771437232E-32]
["Italy",250.482664565661,1.09498584992559,"Italy",246.070544020797,1.1545312080728001,51.507045979228181,"Italy",260.80128387583198,2.7193874847865098,260.24469578389699,null,233.364970140937,2.2118497825100598,"Italy",251.301048545063,2.6329322332496998,262.41265137127499,null,229.37460394880901,2.2132256040282798,"Italy",235.05424087319599,1.6095028548086501,281.819401589937,1.5744360974276801,"Italy",273.60805486040601,1.4593488399097601,229.60733707432999,2.92751184717268,44.000717786076024,3.2064141215793698,7.4270420181511246E-43]
["Japan",296.24225194764102,0.68498401670861497,"Japan",285.659350587277,0.73498173732061001,49.134570701119323,"Japan",299.41565814117598,1.56376362540164,309.206323346305,null,273.347185797848,1.6003286946631701,"Japan",283.21013837163201,2.28735193526609,297.32094389522803,null,273.221736061635,1.6199554798278799,"Japan",269.49736575388403,2.0220649577553602,313.35875753488398,0.85463311230244199,"Japan",310.62259955101098,1.0831115747542699,280.424736570888,2.61591810084454,30.197862980122977,2.8540130958380798,3.6568887587803009E-26]
["Korea",272.56276345092601,0.58452633926314401,"Korea",262.90863533514801,0.69589025268554205,46.499491346543252,"Korea",292.939237674472,1.7156422504498201,289.52516187521599,null,244.098491678416,1.42891435587161,"Korea",280.921426519524,1.91128422091539,280.69013547012099,null,231.76184511305999,1.6685754154985699,"Korea",243.95999108175599,1.5674147227609401,290.959138151486,0.908399631559072,"Korea",290.134013071646,1.24660000397527,247.01272275239299,1.9708878039050099,43.121290319253006,2.2393790641631299,1.2625736494588945E-82]
["Netherlands",284.00686729085498,0.71076872680331904,"Netherlands",275.92922948514303,0.73308581601061196,58.242512407041865,"Netherlands",294.61334442152503,1.6441573542211201,298.07231951808097,null,260.80373435016702,1.5682791323382299,"Netherlands",285.39660378115002,1.75554333051926,292.979579337784,null,261.97980701105598,1.65885987743728,"Netherlands",253.52380125799701,1.4394200135626001,310.51675559847001,1.2035348048055701,"Netherlands",302.70645565647101,0.97451008933454397,257.17309570903399,3.1797993106537699,45.53335994743702,3.2890981765028999,1.3904970626113094E-43]
["Norway",278.42520996624,0.60757242606399997,"Norway",273.95450079233001,0.81339747703662701,60.771940063593171,"Norway",275.03698389435101,1.4320021694949201,288.52755759767598,null,261.86567352464903,1.47420376045723,"Norway",270.92701328724098,1.72894477259917,284.93127971719701,null,264.72053044275401,1.73059981836382,"Norway",255.81759560994999,1.33615356052518,301.12042460420099,0.91549007517640102,"Norway",300.23517929084699,0.87667086044557596,244.616394037866,3.9860006189406301,55.618785252980985,4.0869343600660804,3.5636242147060182E-42]
["Poland",266.903769440009,0.60350172633755705,"Poland",259.76887995870902,0.824444502593071,50.715967923441276,"Poland",281.47742681541098,1.0674994317542099,277.18647414040601,null,249.120675272363,1.7201248048002,"Poland",268.59310866506598,1.1070939641249999,270.43099331191598,null,243.653256491966,1.8531597626463401,"Poland",248.78819293884499,1.8427224079092901,297.04865442961398,1.2016857005525701,"Poland",292.50628198794999,1.27328076724713,254.45319085420601,2.4454734203981401,38.053091133743976,2.9119367631851101,5.0216852886773946E-39]
["Slovak Republic",273.84560111928602,0.61567033035940899,"Slovak Republic",275.29064031521301,0.80419705847215495,48.561053459375167,"Slovak Republic",276.00147169568601,1.6091908531200101,278.35856042667001,null,265.96805136625898,1.27490809972712,"Slovak Republic",277.97915498047598,1.7649957023173799,278.82119569806702,null,265.278669994572,1.55036552407118,"Slovak Republic",247.69423641081301,1.53303079152873,295.21472788453201,1.2914565989069799,"Slovak Republic",288.126239122318,1.0067395423405301,258.52878094815702,2.67717953776175,29.597458174160977,2.7241616657374599,1.6990305110671034E-27]
["Spain",251.789834935638,0.71446335559352803,"Spain",244.591907698527,0.64994002639320503,53.008159018246793,"Spain",263.884037340362,1.5687768986316999,262.79648636840199,null,226.72738425512,1.87318477084811,"Spain",255.15035738622799,1.7232377386242901,257.28676752955897,null,220.526175967223,1.74868437103577,"Spain",228.240112202669,1.20704610221423,282.26749592498101,1.11569871695906,"Spain",279.44774294040599,1.43961533417469,230.58904448925199,2.1648447136904498,48.858698451153998,2.5623644962469401,4.6861856665708378E-81]
["Sweden",279.230843868477,0.67715718477384901,"Sweden",279.05242778250403,0.81824895369141304,54.874905857950772,"Sweden",282.76185740111299,1.67820323362067,290.00903019816201,null,262.36873465848402,1.32716533367664,"Sweden",278.21466225642803,1.7294630994462801,287.754798853674,null,268.25691793442297,1.69407821627708,"Sweden",247.592767807229,1.64108474544073,305.62457705495802,1.2440072463069001,"Sweden",302.12964168124802,1.1262706871049899,248.71965960693899,4.2321168285547204,53.409982074309028,4.47775738101224,8.4871598380823422E-33]
["United States",269.80630158803098,1.0460841192000001,"United States",245.73250798097101,1.24362014091449,65.24012603475974,"United States",271.53490508468298,1.9987061822439101,275.47896485109402,null,262.89217668128202,1.5355339417792,"United States",249.421864392505,2.1922340402443998,259.84971399397301,null,247.15293374183901,1.7654524735841599,"United States",230.254384118167,2.1264173696865698,297.65553546944301,1.50028999898952,"United States",292.09856502758902,1.26256369309241,239.431999746934,3.4642254355386202,52.666565280655021,3.5318159964694198,2.7526610564620716E-50]
[]
["Sub-national entities",null,null,"Sub-national entities",null,null,null,"Sub-national entities",null,null,null,null,null,null,"Sub-national entities",null,null,null,null,null,null,"Sub-national entities",null,null,null,null,"Sub-national entities"]
["Flanders (Belgium)",275.480318709595,0.83033338248231103,"Flanders (Belgium)","w","w","w","Flanders (Belgium)",285.02859808314201,1.63914338446095,290.77253674222197,null,255.03938499342601,1.55091541298054,"Flanders (Belgium)",282.82250153929999,1.7409068352094501,295.01042238767297,null,259.87259075546001,1.58645704863621,"Flanders (Belgium)",242.31378461768401,1.7309821815695801,302.62529813685501,1.1914477523882401,"Flanders (Belgium)",296.68245405600697,1.0858919374238101,242.36838547412901,3.0342032935518,54.314068581877962,3.1609215213330599,3.599930210894897E-66]
["England (UK)",272.58364813940102,1.0517519279955501,"England (UK)",259.375854094413,1.0498092683929201,58.379158545683914,"England (UK)",265.446246330056,2.3680966953887901,280.103254176343,null,265.33259981505302,1.98414477291816,"England (UK)",256.26952584953301,2.6786027170693401,266.72085914153803,null,256.93146511525703,1.9200264254585699,"England (UK)",238.997921323463,1.45742637457861,294.448279337543,1.4621108257761499,"England (UK)",297.02797289702397,1.54759283083751,245.53234632705701,2.7974401277409799,51.495626569966959,3.2297958489305998,3.1432367118120925E-57]
["Northern Ireland (UK)",268.701544777305,1.92976151627876,"Northern Ireland (UK)",255.31964442044799,1.7683805013554601,56.652695398671696,"Northern Ireland (UK)",272.34907870605002,2.7151597830785801,277.62266027980701,null,255.10799181950301,3.2158349722458501,"Northern Ireland (UK)",263.586597705722,3.39999096196521,267.58332428004599,null,245.176348396534,3.0609803749927802,"Northern Ireland (UK)",239.32688037050801,2.3687641866503601,293.95719790433799,2.4488820723731699,"Northern Ireland (UK)",295.89848286632298,2.3533129998760498,251.363899468298,3.97624361790003,44.534583398024978,4.1913860038735002,2.2899481174653966E-26]
["England/N. Ireland (UK)",272.45698901486003,1.01867190173899,"England/N. Ireland (UK)",259.24242532270301,1.0204369935845099,58.328250580858821,"England/N. Ireland (UK)",265.69484620062701,2.2778238676509499,280.021204352479,null,265.02500983276002,1.94451684895465,"England/N. Ireland (UK)",256.53304421668003,2.5967605637693199,266.749386629573,null,256.57783237501599,1.8733739972449901,"England/N. Ireland (UK)",239.01257539394399,1.3933549558546501,294.43503171375801,1.4248005523785401,"England/N. Ireland (UK)",296.99803817640202,1.5022732287368099,245.67110966707401,2.7213059910555,51.326928509328013,3.1428314694108299,5.905331971268113E-60]
[]
["Average",272.78605341164746,0.1667870670049382,"Average",266.23969750535935,0.17923404282842131,54.234882870229349,"Average",279.61973243028598,0.3692199336638497,284.14118164932887,null,255.21121750944829,0.34074804540048514,"Average",271.31116686407182,0.40392287847095004,279.35680872968436,null,252.65950281694123,0.36854347314756508,"Average",245.76410187328977,0.36352673221290849,296.97297135750711,0.26499952400903659,"Average",293.5604263428533,0.25201603951187285,249.97984918834197,0.61081756341985327,43.580577154511332,0.65285231146532208,0]
["Max",{"$f":"MAX(B6:B31)","v":296.24225194764102},null,null,{"$f":"MAX(E6:E31)","v":285.659350587277},null,null,null,{"$f":"MAX(I6:I31)","v":299.41565814117598},null,{"$f":"MAX(K6:K31)","v":309.206323346305},null,{"$f":"MAX(M6:M31)","v":273.347185797848},null,null,{"$f":"MAX(P6:P31)","v":285.39660378115002},null,{"$f":"MAX(R6:R31)","v":302.45386021686897},null,{"$f":"MAX(T6:T31)","v":273.221736061635},null,null,{"$f":"MAX(W6:W31)","v":269.49736575388403},null,{"$f":"MAX(Y6:Y31)","v":313.35875753488398},null,null,{"$f":"MAX(AB6:AB31)","v":310.62259955101098},null,{"$f":"MAX(AD6:AD31)","v":280.424736570888},null,{"$f":"MAX(AF6:AF31)","v":55.618785252980985}]
[]
[]
[]
[]
[]
[null,"Score litératie ensemble des adultes","Score numératie ensemble des adultes","Score moyen jeunes (16-24 ans)","Score moyen jeunes actifs (25-34 ans)","Score moyen des seniors (55-65 ans)","Score moyen des adultes diplômés de l'enseignement supérieur","Score moyen des adultes n'ayant pas terminé le 2è cycle du secondaire","Score moyen des adultes ayant un emploi qualifié","Score moyen des adultes ayant un emploi non qualifié"]
["France ",262.13913711352001,252.76254749839501,{"$f":"(I13+P13)/2","v":269.19389907373147},{"$f":"AVERAGE(K13,R13)","v":273.67840715952951},{"$f":"(M13+T13)/2","v":237.96978868286999},292.970763624315,231.91257681290799,283.399393275649,233.80698852782101]
["Moyenne OCDE",272.78605341164746,266.23969750535935,{"$f":"AVERAGE(I33,P33)","v":275.4654496471789},{"$f":"AVERAGE(K33,R33)","v":281.74899518950662},{"$f":"AVERAGE(M33,T33)","v":253.93536016319476},296.97297135750711,245.76410187328977,293.5604263428533,249.97984918834197]
["Score du pays le plus performant dans chaque dimension",{"$f":"MAX(B15:B40)","v":296.24225194764102},285.659350587277,{"$f":"AVERAGE(I34,P34)","v":292.406130961163},{"$f":"(K34+R34)/2","v":305.83009178158699},{"$f":"AVERAGE(M34,T34)","v":273.2844609297415},{"$f":"Y34","v":313.35875753488398},{"$f":"W34","v":269.49736575388403},{"$f":"AB34","v":310.62259955101098},{"$f":"AD34","v":280.424736570888}]

{"sheet":"Graph 6 note pdf","index":7,"n_rows":36,"n_cols":30,"rows_kept":36,"cut":false,"hidden":false,"merged":[]}
[]
[null,"Autonomie des équipes (EWC 2010)","Possibilité de change de méthode de travail (EWC 2015)","Manager aidant et supportif (EWC 2010)","Retours sur travaux du manager (EWC 10)","Consultation avant changement d'objectif (EWC 2010)","Pratique de rémunération variable (ECS)","Travail en équipe (ECS)","Outils d'identification des bonnes pratiques (ECS)","Organisation de réunion de travail pour impliquer les employés dans l'organisation du travail (ECS)","Tension perçues entre employé et employeurs (Enquête qualité de vie)*"]
["AT",18.100000000000001,66.900000000000006,57,79.3,46.4,56.4,37.700000000000003,60.8,92.6,75.099999999999994,null,"* inverse de l'indicateur de tension"]
["BE",19.100000000000001,74.900000000000006,56.1,75.7,48.3,31.6,16.2,68.400000000000006,82.7,69.2,null,null,null,null,null,null,null,null,null,null,null,null,null,null,null,null,null,"Questions","Réponses"]
["BG",18.399999999999999,51.7,69.900000000000006,77.3,42.5,39.700000000000003,17.7,57.3,91.9,86.3,null,null,null,null,null,null,null,null,null,null,null,null,null,null,null,null,"Autonomie des équipes (EWC 2010)","Level of team economy ","High"]
["CY",10.1,58.7,82.6,93.2,50.1,36.9,8.6999999999999993,55.1,88.1,64.900000000000006,null,null,null,null,null,null,null,null,null,null,null,null,null,null,null,null,"Possibilité de changer de méthode de travail (EWC 2015)","Etes vous en mesure de changer de choisir ou de changer vos méthodes de travail?","oui"]
["CZ",16.600000000000001,54.6,67.2,82.8,63.7,74.3,11.6,73.400000000000006,92.1,60.4,null,null,null,null,null,null,null,null,null,null,null,null,null,null,null,null,"Manager aidant et supportif (EWC 2010)","Does your manager help and support you?","Always or most of the times"]
["DE",18.600000000000001,76.2,46.6,80.900000000000006,37.9,44.2,26.5,58.8,90,76.3,null,null,null,null,null,null,null,null,null,null,null,null,null,null,null,null,"Retours sur travaux du manager (EWC 2010)","Does your manager or supervisor generally provide feedback on your work?","Yes"]
["DK",34.799999999999997,83.1,70.5,79.7,67.400000000000006,53.4,43,51,92,94.8,null,null,null,null,null,null,null,null,null,null,null,null,null,null,null,null,"Consultation des employés avant changement d'objectif (EWC 2010)","Are you consulted before targets for your work are set","Yes"]
["EE",26.2,79.099999999999994,61.5,83.8,55.1,53.6,26.7,59.3,77.7,77.3,null,null,null,null,null,null,null,null,null,null,null,null,null,null,null,null,"Pratique de rémunération variable (ECS)","Rémunération au résultat disponible dans l'établissement pour au moins certains employés","Oui"]
["EL",16.2,59.8,75.599999999999994,90.8,40.4,39.299999999999997,8.6,48.8,88.3,36.200000000000003,null,null,null,null,null,null,null,null,null,null,null,null,null,null,null,null,"Travail en équipe (ECS)","Travail d'équipe au sein de l'établissement","Travail en équipe autonome"]
["ES",28.6,64.400000000000006,75.400000000000006,68.7,40.799999999999997,35.1,12.7,66.099999999999994,82.7,68.7,null,null,null,null,null,null,null,null,null,null,null,null,null,null,null,null,"Existence d'outils d'identification des bonnes pratiques (ECS)","Les employés de l'établissement documentent et gardent une trace de leurs bonnes pratiques","Oui"]
["FI",41.2,74.3,73.8,81.8,58.5,44.5,43.8,50.2,94.1,85.1,null,null,null,null,null,null,null,null,null,null,null,null,null,null,null,null,"Réunions de travail régulières pour impliquer les employés dans l'organisation du travail (ECS)","L'établissement recourt à la pratique de réunions régulières entre les employés et les responsables directs pour impliquer les employés dans l'irganisation du travail ","Oui"]
["FR",22.1,71,58.5,65.900000000000006,44.3,39.700000000000003,16.7,66.900000000000006,79.8,51,null,null,null,null,null,null,null,null,null,null,null,null,null,null,null,null,"Tensions perçues entre employés et employeurs* (Enquête sur la qualité de vie)","Tension perçue entre les cadres et les employés","Tension importante"]
["HR",17.899999999999999,60.2,70,83.5,51.7,40.299999999999997,12.3,39.9,88,42.4]
["HU",18.600000000000001,58,74,90,59.9,34.299999999999997,12,52.4,95.4,41.2]
["IE",33.6,68.599999999999994,83,81.599999999999994,61.9,37.799999999999997,18.399999999999999,61.1,90,77.900000000000006]
["IT",14.4,73.3,41.4,54.7,40.5,35.200000000000003,15.7,62.4,79.599999999999994,70.599999999999994]
["LT",26.4,66.5,61.4,75.2,49.2,67.2,20.7,58.9,82.2,63.6]
["LU",28,76.599999999999994,54.9,73.3,46.2,42.7,31.4,82.7,80.2,67.7]
["LV",21.3,62.2,72.900000000000006,78.7,63.5,48.4,19,38.4,81.400000000000006,76.599999999999994]
["MT",22.6,89.9,83.7,82,59,43.4,18.7,63.9,79.8,75.7]
["NL",20.3,72.7,61.9,77,59,47.8,21.1,63.2,89.4,78]
["PL",16.5,65.5,49.5,79.599999999999994,48.3,54.6,21,53.8,78.400000000000006,67.5]
["PT",8.5,63.2,63.4,84,42.8,34.700000000000003,14.4,67,82.2,73.7]
["RO",32.299999999999997,54,71,74.3,47.8,45.3,7.6,79.8,84.4,55.7]
["SE",43.4,83.4,54,79.099999999999994,50.8,36.5,42.5,63.4,93.7,85.7]
["SI",33.1,67.2,72.2,82.6,58.9,72.5,38.700000000000003,62.4,92.2,41.7]
["SK",18.7,60.8,54.7,83,50.5,55.2,8.9,35.5,89,71.7]
["UK",26.3,69.5,73.3,82.4,55.4,41,18.2,65.7,86.6,75.7]
[]
[null,"Autonomie des équipes (EWC 2010)","Possibilité pour un salarié de changer/choisir sa méthode de travail (EWC 2015)","Qualité de l'aide et du soutien du manager (EWC 2010)","Qualité du retour et des commentaires du manager sur le travail du salarié (EWC 2010)","Consultation des salariés avant changement d'objectif (EWC 2010)","Pratique de rémunération variable (ECS)","Travail en équipe au sein de l'entreprise (ECS)","Existence d'outils d'identification des bonnes pratiques (ECS)","Réunions de travail régulières pour impliquer les employés dans l'organisation du travail (ECS)","Tensions perçues entre employés et employeurs* (Enquête sur la qualité de vie)"]
["France",22.1,71,58.5,65.900000000000006,44.3,39.700000000000003,16.7,66.900000000000006,79.8,51]
["Moyenne UE",{"$f":"AVERAGE(B3:B30)","v":23.282142857142855},{"$f":"AVERAGE(C3:C30)","v":68.08214285714287},65.571428571428584,79.31785714285715,51.457142857142856,45.914285714285711,21.089285714285715,59.521428571428586,86.589285714285708,68.239285714285728]
["Min",{"$f":"MIN(B3:B30)","v":8.5},{"$f":"MIN(C3:C30)","v":51.7},41.4,54.7,37.9,31.6,7.6,35.5,77.7,36.200000000000003]
["Score le plus élevé",{"$f":"MAX(B3:B30)","v":43.4},{"$f":"MAX(C3:C30)","v":89.9},83.7,93.2,67.400000000000006,74.3,43.8,82.7,95.4,94.8]

{"sheet":"Graph 7 Note pdf","index":8,"n_rows":8,"n_cols":25,"rows_kept":8,"cut":false,"hidden":false,"merged":[]}
[]
[]
[]
[]
[]
[]
[null,null,null,1994,1995,1996,1997,1998,1999,2000,2001,2002,2003,2004,2005,2006,2007,2008,2009,2010,2011,2012,2013,2014,2015]
[null,null,null,115167,118427,123237,126644,129324,130449,131809,130318,129429,125415,124049,123594,122545,121785,119473,116033,118624,116299,119518,120917,121523,125009]

{"sheet":"Graph 8 Note pdf","index":9,"n_rows":40,"n_cols":13,"rows_kept":40,"cut":false,"hidden":false,"merged":[]}
[null,"Pourcentage des entreprises qui ont un site web","Pourcentage des entreprises qui utilisent un service de cloud","Pourcentage des entreprises qui ont un logiciel ERP ","Pourcentage des entreprises qui emploient un spécialiste TIC","Poucentage des entreprises qui utilisent un CRM"]
["European Union (28 countries)",75,19,36,20,33]
["European Union (27 countries)",75,19,36,20,33]
["European Union (25 countries)",":",21,":",21,":",null,null,"Pourcentage des entreprises qui ont un site web","Pourcentage des entreprises qui utilisent un service de cloud","Pourcentage des entreprises qui ont un logiciel de gestion intégrée","Pourcentage des entreprises qui emploient un spécialiste TIC","Poucentage des entreprises qui utilisent un logiciel de gestion de la relation client"]
["European Union (15 countries)",78,19,39,null,36,null,"France",67,12,39,16,32]
["Euro area (EA11-2000, EA12-2006, EA13-2007, EA15-2008, EA16-2010, EA17-2013, EA18-2014, EA19)",77,null,43,21,36,null,"Moyenne UE",75,19,36,20,33]
["Belgium",81,21,50,28,40,null,"Score du pays le plus performant dans chaque dimension",95,51,56,30,47]
["Bulgaria",48,8,25,20,17,null,"Allemagne",87,11,56,21,45]
["Czech Republic",83,15,30,19,20]
["Denmark",92,38,47,24,34]
["Germany (until 1990 former territory of the FRG)",87,11,56,21,45]
["Estonia",80,15,22,15,27]
["Ireland",75,28,25,30,33]
["Greece",61,8,37,26,22]
["Spain",75,14,35,25,35]
["France",67,12,39,16,32]
["Croatia",71,22,29,22,22]
["Italy",71,40,36,17,30]
["Cyprus",72,10,43,26,39]
["Latvia",59,6,16,19,18]
["Lithuania",77,13,40,15,34]
["Luxembourg",79,13,39,25,36]
["Hungary",64,8,16,26,15]
["Malta",83,17,30,26,28]
["Netherlands",90,28,45,28,47]
["Austria",87,12,41,24,44]
["Poland",65,6,21,12,24]
["Portugal",61,13,44,20,29]
["Romania",45,5,22,13,20]
["Slovenia",83,15,33,20,29]
["Slovakia",79,19,30,19,22]
["Finland",95,51,37,25,39]
["Sweden",90,39,":",19,35]
["United Kingdom",81,24,17,22,30]
["Iceland",":",43,":",":",":"]
["Norway",80,29,32,19,37]
["Former Yugoslav Republic of Macedonia, the",52,12,18,13,22]
["Serbia",":",4,":",":",":"]
["Turkey",65,null,20,":",9]
[null,{"$f":"MAX(B2:B39)","v":95},{"$f":"MAX(C2:C39)","v":51},56,{"$f":"MAX(E2:E39)","v":30},{"$f":"MAX(F2:F39)","v":47}]

{"sheet":"Graphique A Encadré HTML","index":10,"n_rows":14,"n_cols":60,"rows_kept":14,"cut":false,"hidden":false,"merged":[[17,4,17,5],[18,4,18,5]]}
[]
[null,null,null,null,null,null,null,null,null,null,null,null,null,null,null,null,null,null,null,null,null,null,null,1981,1982,1983,1984,1985,1986,1987,1988,1989,1990,1991,1992,1993,1994,1995,1996,1997,1998,1999,2000,2001,2002,2003,2004,2005,2006,2007,2008,2009,2010,2011,2012,2013,2014,2015,2016,2017]
[null,null,null,null,null,null,null,null,null,null,null,null,null,null,null,null,null,null,null,null,null,null,null,68.479424199999997,70.881861000000001,71.316418200000001,72.000658599999994,73.053806399999999,75.110429999999994,77.234482299999996,77.458375500000002,77.907001600000001,79.871615000000006,82.725232300000002,88.334795299999996,91.643082699999994,92.062063300000005,94.0214292,94.263837699999996,93.127245000000002,93.271196900000007,93.989416599999998,94.622037800000001,94.546362400000007,95.307099699999995,96.401441300000002,95.800847300000001,95.334190399999997,93.591776300000006,93.020089400000003,95.202709600000006,101.166149,100,100.67234620000001,104.0033146,106.2506049,108.2769085,109.9998528,111.5383144,113.92818]
[null,null,null,null,null,null,null,null,null,null,null,null,null,null,null,null,null,null,null,null,null,null,null,51.645844799999999,57.551931500000002,62.334994000000002,65.784797100000006,68.314324200000001,69.862230800000006,70.809308000000001,71.161169200000003,72.195600799999994,74.462345200000001,76.536284600000002,77.792251199999995,79.162938800000006,78.534731500000007,79.303264900000002,80.112500999999995,80.014630600000004,79.872293200000001,80.493254100000001,81.447052099999993,83.221736300000003,85.573630899999998,87.322969799999996,88.006436100000002,89.838466100000005,91.531228900000002,92.988832400000007,95.678763500000002,99.0520554,100,100.9691955,103.2735788,104.2360043,105.82084570000001,105.8968306,106.3106599,107.00543020000001]
[null,null,null,null,null,null,null,null,null,null,null,null,null,null,null,null,null,null,null,null,null,null,null,26.317155899999999,29.307269900000001,32.668370400000001,34.616835399999999,36.541433699999999,39.645770400000004,42.132371399999997,44.583534100000001,47.301960299999998,52.075533499999999,56.536582600000003,61.443275100000001,64.760439099999999,65.272827100000001,67.097566099999995,68.812172099999998,70.264257799999996,71.589593300000004,73.097752999999997,74.910516599999994,77.316658799999999,79.741068600000006,82.251608099999999,84.672344300000006,87.673925299999993,90.681539400000005,94.475506800000005,100.01741579999999,101.6629274,100,99.1188614,96.221287799999999,96.168661400000005,95.314086700000004,95.664320000000004,96.105288900000005,96.980735800000005]
[null,null,null,null,null,null,null,null,null,null,null,null,null,null,null,null,null,null,null,null,null,null,null,28.1328347,32.731658600000003,37.686706600000001,40.909700100000002,44.182417700000002,46.509830200000003,48.870850300000001,51.286546899999998,54.0219399,59.004912099999999,63.783575599999999,66.345479600000004,67.748157500000005,67.843415699999994,68.745056700000006,72.507682000000003,74.346525900000003,73.072290600000002,74.255268900000004,74.510440099999997,76.623470100000006,79.797739699999994,83.594938999999997,85.604732499999997,87.343030299999995,89.286137299999993,91.033072200000007,94.978027100000006,99.913347799999997,100,100.6937779,102.6158585,103.36407490000001,104.708752,105.3777568,105.3530507,106.0443358]
[null,null,null,null,null,null,null,null,null,null,null,null,null,null,null,null,null,null,null,null,null,null,null,"NA","NA","NA","NA","NA","NA","NA","NA","NA","NA","NA","NA","NA","NA",78.5642371,79.872136800000007,80.278345400000006,80.538533299999997,81.530264099999997,82.457445000000007,84.023560000000003,86.193657299999998,88.301409399999997,89.063436400000001,90.4602407,91.350791200000003,92.763411099999999,96.274094500000004,100.6442473,100,100.5599215,102.4236155,103.58129839999999,104.68607299999999,105.401275,106.1063018,107.31162]
[]
[null,null,1999,2000,2001,2002,2003,2004,2005,2006,2007,2008,2009,2010,2011,2012,2013,2014,2015,null,null,"1999-2008","2009-2015"]
[null,"Allemagne",{"$f":"AP3/$AP3*100","v":100},{"$f":"AQ3/$AP3*100","v":100.67307705791207},100.59256224812019,101.40194837638772,102.56627265840483,101.92727092637364,101.43077151518357,99.576930771160903,98.968684735936534,101.29088257368757,107.63568139862249,106.39495766377595,107.11030011861995,110.6542825375937,113.04528610086084,115.20117095822042,117.03429681677586,null,"Allemagne",{"$f":"AY3/AP3-1","v":1.2908825736875684E-2},{"$f":"BF3/AZ3-1","v":8.7318771024881059E-2}]
[null,"France",{"$f":"AP4/$AP4*100","v":100},101.1849415341254,103.38970293909388,106.31155598913722,108.48482991073409,109.33392752474147,111.60993191850595,113.71291908050713,115.52375840648241,118.86556776687701,123.05634367439495,124.23401329478617,125.43808376110862,128.30091161639345,129.49657144001588,131.46548351559315,131.55988260636119,null,"France",{"$f":"AY4/AP4-1","v":0.18865567766877001},{"$f":"BF4/AZ4-1","v":6.9102808340108401E-2}]
[null,"Espagne",100,102.47991699553336,105.77159437445363,109.08826239843516,112.52275853130533,115.83440095620998,119.94065713620499,124.05516678467532,129.2454322091132,136.82693611662728,139.07804717335154,136.80311076046345,135.59768574555227,131.63371492417832,131.56172037189708,130.39263559852517,130.8717656478442,null,"Espagne",0.36826936116627285,-5.9004865917327454E-2]
[null,"Italie",100,100.34364053053748,103.18927024988527,107.46407747504634,112.57778772921525,115.28438825706009,117.62536395582292,120.24215738851089,122.59476471978677,127.90745829485508,134.5538832194573,134.67057823825346,135.60489294787268,138.19337000609798,139.20099735845142,141.01188178445881,141.91283441706045,null,"Italie",0.27907458294855081,5.4691481371821338E-2]
[null,"Zone euro",100,101.1372229812267,103.05812317367436,105.71983085235708,108.30506974894001,109.23972512926032,110.95295924596422,112.04525363484012,113.77788619232501,118.08387420641264,123.44403444659025,122.65384039152156,123.34060561444937,125.62649787859574,127.04644041500168,128.40148888957174,129.27871160912872,null,"Zone euro",0.18083874206412642,4.7265768562213539E-2]

{"sheet":"Graphique B Encadré HTML","index":11,"n_rows":3,"n_cols":4,"rows_kept":3,"cut":false,"hidden":false,"merged":[[2,3,2,5]]}
[]
[]
[null,null,null,"GRAPHIQUE B"]

{"sheet":"Graphique C Encadré HTML","index":12,"n_rows":13,"n_cols":3,"rows_kept":13,"cut":false,"hidden":false,"merged":[[2,2,2,3],[3,1,3,2]]}
[]
[]
[]
[]
[null,2000,2014]
["Espagne",0.79,0.86]
["Italie",1.83,1.67]
["Royaume-Uni",5.29,2.41]
["France",4.7699999999999996,3.99]
["Japon",11.25,4.4800000000000004]
["Chine",6.63,7.51]
["États-Unis",17.84,9.68]
["Allemagne",5.98,24.49]

{"sheet":"Graphique  D Encadré  HTML","index":13,"n_rows":3,"n_cols":9,"rows_kept":3,"cut":false,"hidden":false,"merged":[]}
[null,"Allemagne","États-Unis","Japon","Royaume-Uni","France","Italie","Espagne","Chine"]
[2000,0.39492880370809402,0.46100462346031401,0.51916799751991705,0.41008683827662801,0.34827428654896903,0.32935638295714298,0.254460455926179,0.11763137308631101]
[2013,0.48213016817382898,0.44972627648269292,0.43659436829267706,0.42667006208016101,0.40359159547938805,0.39884449847312198,0.28458488750556499,0.16168138775495]

{"sheet":"Graphique  E Encadré HTML  ","index":14,"n_rows":12,"n_cols":3,"rows_kept":12,"cut":false,"hidden":false,"merged":[[2,1,2,2],[16,1,16,2],[15,2,15,3]]}
[]
[]
[]
[null,2000,2014]
["Espagne",1.53,1.77]
["Royaume-Uni",5.86,4.2]
["Italie",4.05,4.22]
["France",5.4,4.6500000000000004]
["Japon",12.2,5.73]
["Chine",2.25,7.13]
["États-unis",17.32,11.05]
["Allemagne",11.26,14.24]

{"sheet":"Graph Hyper 1,1","index":15,"n_rows":6,"n_cols":17,"rows_kept":6,"cut":false,"hidden":false,"merged":[]}
[]
[null,"1999","2000","2001","2002","2003","2004","2005","2006","2007","2008","2009","2010","2011","2012","2013","2014"]
["Solde biens et services",{"$f":"'[2]BC Pays'!B3","v":2.5384207323178705E-2},{"$f":"'[2]BC Pays'!C3","v":9.3576866134384706E-3},{"$f":"'[2]BC Pays'!D3","v":1.2986289911687531E-2},{"$f":"'[2]BC Pays'!E3","v":1.8229785749994197E-2},{"$f":"'[2]BC Pays'!F3","v":1.2881098398840139E-2},{"$f":"'[2]BC Pays'!G3","v":8.3062498538661184E-3},{"$f":"'[2]BC Pays'!H3","v":-1.7776744406533264E-4},{"$f":"'[2]BC Pays'!I3","v":-3.4884342083466658E-3},{"$f":"'[2]BC Pays'!J3","v":-6.7025754624371039E-3},{"$f":"'[2]BC Pays'!K3","v":-1.448054713530576E-2},{"$f":"'[2]BC Pays'!L3","v":-1.2197417557453081E-2},{"$f":"'[2]BC Pays'!M3","v":-1.6233829593576322E-2},{"$f":"'[2]BC Pays'!N3","v":-1.9694709423275274E-2},{"$f":"'[2]BC Pays'!O3","v":-1.4019643217378263E-2},{"$f":"'[2]BC Pays'!P3","v":-9.7133799339968289E-3},{"$f":"'[2]BC Pays'!Q3","v":-7.8876446752067699E-3}]
["Balance des revenus",{"$f":"'[2]Source OCDE'!P48/'[2]Source OCDE'!N85","v":2.1143208970009778E-2},{"$f":"'[2]Source OCDE'!Q48/'[2]Source OCDE'!O85","v":1.7890625683783041E-2},{"$f":"'[2]Source OCDE'!R48/'[2]Source OCDE'!P85","v":1.8001086345005822E-2},{"$f":"'[2]Source OCDE'!S48/'[2]Source OCDE'!Q85","v":9.4677213677325962E-3},{"$f":"'[2]Source OCDE'!T48/'[2]Source OCDE'!R85","v":1.2779720514608798E-2},{"$f":"'[2]Source OCDE'!U48/'[2]Source OCDE'!S85","v":1.3381187308564614E-2},{"$f":"'[2]Source OCDE'!V48/'[2]Source OCDE'!T85","v":1.7706766111091673E-2},{"$f":"'[2]Source OCDE'!W48/'[2]Source OCDE'!U85","v":2.0819450192551856E-2},{"$f":"'[2]Source OCDE'!X48/'[2]Source OCDE'!V85","v":2.063299531780826E-2},{"$f":"'[2]Source OCDE'!Y48/'[2]Source OCDE'!W85","v":2.1993135756695141E-2},{"$f":"'[2]Source OCDE'!Z48/'[2]Source OCDE'!X85","v":2.2707382142601124E-2},{"$f":"'[2]Source OCDE'!AA48/'[2]Source OCDE'!Y85","v":2.6600202854067664E-2},{"$f":"'[2]Source OCDE'!AB48/'[2]Source OCDE'!Z85","v":2.8007307394220516E-2},{"$f":"'[2]Source OCDE'!AC48/'[2]Source OCDE'!AA85","v":2.2667278091396497E-2},{"$f":"'[2]Source OCDE'!AD48/'[2]Source OCDE'!AB85","v":2.2644237242891194E-2},{"$f":"'[2]Source OCDE'!AE48/'[2]Source OCDE'!AC85","v":2.0864742837929537E-2}]
["Balance des transferts",{"$f":"'[2]Source OCDE'!P62/'[2]Source OCDE'!N85","v":-1.2671154322771789E-2},{"$f":"'[2]Source OCDE'!Q62/'[2]Source OCDE'!O85","v":-1.5432541373712973E-2},{"$f":"'[2]Source OCDE'!R62/'[2]Source OCDE'!P85","v":-1.591644336601216E-2},{"$f":"'[2]Source OCDE'!S62/'[2]Source OCDE'!Q85","v":-1.5956002130143219E-2},{"$f":"'[2]Source OCDE'!T62/'[2]Source OCDE'!R85","v":-1.699117768123129E-2},{"$f":"'[2]Source OCDE'!U62/'[2]Source OCDE'!S85","v":-1.7290560920292734E-2},{"$f":"'[2]Source OCDE'!V62/'[2]Source OCDE'!T85","v":-1.7709587816553029E-2},{"$f":"'[2]Source OCDE'!W62/'[2]Source OCDE'!U85","v":-1.6973808954673018E-2},{"$f":"'[2]Source OCDE'!X62/'[2]Source OCDE'!V85","v":-1.6920649442094496E-2},{"$f":"'[2]Source OCDE'!Y62/'[2]Source OCDE'!W85","v":-1.707142320314653E-2},{"$f":"'[2]Source OCDE'!Z62/'[2]Source OCDE'!X85","v":-1.8822423939552878E-2},{"$f":"'[2]Source OCDE'!AA62/'[2]Source OCDE'!Y85","v":-1.8724721425922988E-2},{"$f":"'[2]Source OCDE'!AB62/'[2]Source OCDE'!Z85","v":-1.8200500756573645E-2},{"$f":"'[2]Source OCDE'!AC62/'[2]Source OCDE'!AA85","v":-2.0585750641253248E-2},{"$f":"'[2]Source OCDE'!AD62/'[2]Source OCDE'!AB85","v":-2.0989669582554753E-2},{"$f":"'[2]Source OCDE'!AE62/'[2]Source OCDE'!AC85","v":-2.2236405184836779E-2}]
["Balance courante",{"$f":"'[2]CC Pays '!B3","v":3.3854841676259573E-2},{"$f":"'[2]CC Pays '!C3","v":1.1815770923508537E-2},{"$f":"'[2]CC Pays '!D3","v":1.5070932890681192E-2},{"$f":"'[2]CC Pays '!E3","v":1.1741504987583574E-2},{"$f":"'[2]CC Pays '!F3","v":8.6690305220716753E-3},{"$f":"'[2]CC Pays '!G3","v":4.3957071710818583E-3},{"$f":"'[2]CC Pays '!H3","v":-1.8115349061895804E-4},{"$f":"'[2]CC Pays '!I3","v":3.5774661719007567E-4},{"$f":"'[2]CC Pays '!J3","v":-2.9902295867233397E-3},{"$f":"'[2]CC Pays '!K3","v":-9.5588345817571464E-3},{"$f":"'[2]CC Pays '!L3","v":-8.3140065301129384E-3},{"$f":"'[2]CC Pays '!M3","v":-8.3578477853930057E-3},{"$f":"'[2]CC Pays '!N3","v":-9.8879027856284031E-3},{"$f":"'[2]CC Pays '!O3","v":-1.1938115767235014E-2},{"$f":"'[2]CC Pays '!P3","v":-8.058812273660388E-3},{"$f":"'[2]CC Pays '!Q3","v":-9.2602449108982205E-3}]

{"sheet":"Graph Hyper1,2","index":16,"n_rows":24,"n_cols":8,"rows_kept":24,"cut":false,"hidden":false,"merged":[]}
["Titre :","Compte financier -  Investissements directs -  en valeur mixte - Ensemble de l'économie - Net -France vis-à-vis du reste du monde - Brut","Compte financier -  Dérivés financiers (autres que les réserves) et options sur titres des salariés -  Ensemble de l'économie - Net -France vis-à-vis du reste du monde - Brut","Compte financier -  Autres investissements -  Ensemble de l'économie - Net -France vis-à-vis du reste du monde - Brut","Compte financier -  Investissements de portefeuille -  Ensemble de l'économie - Net -France vis-à-vis du reste du monde - Brut","Compte financier -  Avoirs de réserve - Banque centrale - Avoirs -France vis-à-vis du reste du monde - Brut","Compte financier -  en valeur mixte - Ensemble de l'économie - Net -France vis-à-vis du reste du monde - Brut"]
["Code série :","BPM6.A.N.FR.W1.S1.S1.LE.N.FA.D.F._Z.EUR._T._X.N","BPM6.A.N.FR.W1.S1.S1.LE.N.FA.F.F7.T.EUR._T.T.N","BPM6.A.N.FR.W1.S1.S1.LE.N.FA.O.F.T.EUR._T._X.N","BPM6.A.N.FR.W1.S1.S1.LE.N.FA.P.F._Z.EUR._T.M.N","BPM6.A.N.FR.W1.S121.S1.LE.A.FA.R.F._Z.EUR.X1._X.N","BPM6.A.N.FR.W1.S1.S1.LE.N.FA._T.F._Z.EUR._T._X.N"]
["Unité :","Euro (EUR)","Euro (EUR)","Euro (EUR)","Euro (EUR)","Euro (EUR)","Euro (EUR)"]
["Magnitude :","Millions (6)","Millions (6)","Millions (6)","Millions (6)","Millions (6)","Millions (6)"]
["Source :","Banque de France (FR2)","Banque de France (FR2)","Banque de France (FR2)","Banque de France (FR2)","Banque de France (FR2)","Banque de France (FR2)"]
[]
[null,"IDE","Dérivés","Autres","Portefeuille","Réserve","Total"]
[2008,266736,-51009,-574155,9359,73960,-275109,1995850]
[2009,327966,-71668,-416684,-219213,92385,-287214,1939017]
[2010,405840,-47778,-346944,-320766,124472,-185176,1998481]
[2011,424389,-44471,-144802,-546582,133091,-178374,2059284]
[2012,447487,-45183,-162822,-648334,139875,-268977,2086929]
[2013,408825,-62075,-84701,-736622,105104,-369469,2116565]
[2014,452963,-59129,-98597,-831767,118158,-418372,2132449]
[]
[]
[null,"Investissement direct étranger","Dérivés","Autres","Portefeuille","Réserve","Total"]
[2008,{"$f":"B8/$H8","v":0.13364531402660521},{"$f":"C8/$H8","v":-2.5557531878648194E-2},-0.28767442443069369,4.6892301525665757E-3,3.7056893053085155E-2,-0.13784051907708494]
[2009,{"$f":"B9/$H9","v":0.16914034276130638},-3.6960996216123941E-2,-0.21489445425181936,-0.11305367616684124,4.764527593105166E-2,-0.14812350794242649]
[2010,0.20307423488139242,-2.3907157486110702E-2,-0.17360385212568946,-0.16050490347418864,6.2283304169516746E-2,-9.2658374035079649E-2]
[2011,0.20608570745948593,-2.1595370041237634E-2,-7.0316673173782734E-2,-0.26542332189246359,6.4629745095868274E-2,-8.6619426946453235E-2]
[2012,0.21442368187897146,-2.1650473015612893E-2,-7.801990388748252E-2,-0.31066413854999381,6.7024321383238245E-2,-0.12888651219087952]
[2013,0.19315494681240594,-2.932818032992136E-2,-4.0018142603699861E-2,-0.34802710996354941,4.9657818210166002E-2,-0.1745606678745987]
[2014,0.21241445868107514,-2.7728212960778899E-2,-4.6236510228380608E-2,-0.39005247018803263,5.5409531482347292E-2,-0.19619320321376971]

{"sheet":"Graph hyper 2","index":17,"n_rows":25,"n_cols":29,"rows_kept":25,"cut":false,"hidden":false,"merged":[]}
[]
["GEO/TIME","2009Q1","2009Q2","2009Q3","2009Q4","2010Q1","2010Q2","2010Q3","2010Q4","2011Q1","2011Q2","2011Q3","2011Q4","2012Q1","2012Q2","2012Q3","2012Q4","2013Q1","2013Q2","2013Q3","2013Q4","2014Q1","2014Q2","2014Q3","2014Q4","2015Q1","2015Q2","2015Q3","2015Q4"]
["Allemagne (jusqu'en 1990, ancien territoire de la RFA)",226556,222207,232628,248649,247624,270758,277936,293767,296522,300717,303757,310493,315911,315336,318436,317241,312760,320651,321213,328515,324748,327784,336674,343980,342950,355335,358254,363067]
["Espagne",56288,61640,64055,62675,61807,69361,71707,72972,73671,78936,80001,76967,74771,79916,83753,80783,77045,85525,85323,81652,77862,84653,89675,86658,82899,90555,93793,91144]
["France",117032,115702,114052,119967,124029,131081,128530,136829,141709,144244,138958,147642,149790,148339,145020,152081,150335,152898,146891,153116,151623,151437,148895,159857,159936,165390,158007,166712]
["Italie",83006.7,88005.7,91086.5,91430.6,89320.9,103374,104364.1,107089.4,102896.5,114395.4,113002.7,111924.3,109478.1,118638.1,116935.7,116122,109053.3,119175.2,118094,117705.2,111427.4,121353.9,121527.5,122895.7,115217.1,128428.7,125385.4,{"$f":"Y6*(1+AVERAGE(Z13:AB13))","v":127977.62044269225}]
[]
[null,"2009Q1","2009Q2","2009Q3","2009Q4","2010Q1","2010Q2","2010Q3","2010Q4","2011Q1","2011Q2","2011Q3","2011Q4","2012Q1","2012Q2","2012Q3","2012Q4","2013Q1","2013Q2","2013Q3","2013Q4","2014Q1","2014Q2","2014Q3","2014Q4","2015Q1","2015Q2","2015Q3","2015Q4"]
["Allemagne ",100,{"$f":"C3/B3*B9","v":98.080386306255406},{"$f":"D3/C3*C9","v":102.68013206447854},109.75167287558044,109.29924610250887,119.51040802274052,122.6787196101626,129.6663959462561,130.88243083387772,132.73407016366812,134.07590176380228,137.04911809883643,139.44057981249662,139.18677942760283,140.55509454616072,140.02763113755535,138.04975370327861,141.53277776796904,141.78084005720436,145.00388424936875,143.34116068433406,144.68122671657332,148.60520136301835,151.83001112307767,151.37537739013746,156.84201698476306,158.13044015607611,160.25485972563064]
["Espagne",100,{"$f":"C4/B4*B10","v":109.5082433200682},113.79867822626491,111.34700113700966,109.80493177942012,123.22519897669129,127.39305002842522,129.64042069357589,130.88224843661169,140.23592950540078,142.12798465036948,136.73784820920974,132.83648379761226,141.97697555429218,148.79370380898234,143.5172683342808,136.87642126208067,151.94179931779414,151.58293064241039,145.0611142694712,138.32788516202379,150.39262364980092,159.31459636156896,153.95466173962467,147.27650653780546,160.87798465036943,166.63054292211476,161.92438885730522]
["France",100,98.863558684804147,97.453687880237865,102.50786109781939,105.97870667851527,112.00440905051607,109.8246633399412,116.9158862533324,121.08568596623144,123.25176020233781,118.73504682480004,126.15523959259004,127.99063503998904,126.75080319912502,123.91482671406111,129.94821929045048,128.45631963907309,130.64631895549937,125.51353475972385,130.832592795133,129.5568733337891,129.39794244309255,127.22588693690621,136.59255588215194,136.66005878734026,141.32032264679751,135.01179164672914,142.44992822475908]
["Italie",100,106.02240542028537,109.73391304557344,110.14845789556749,107.60685583211958,124.53693497030964,125.72973025069062,129.01295919486017,123.96168020171866,137.81465833480911,136.13684196576904,134.8376697302748,131.89067870424918,142.92593248496809,140.87501370371308,139.89473138915292,131.3789127865582,143.57298868645543,142.27044322928151,141.80204730461517,134.23904335433164,146.19771656986725,146.40685631400839,148.05515699335112,138.80457842559696,154.72088397683558,151.05455342761485,{"$f":"Y12*(1+AVERAGE(Z13:AB13))","v":154.17745849755772}]
[null,null,null,null,null,null,null,null,null,null,null,null,null,null,null,null,null,null,null,null,null,null,null,null,null,{"$f":"Z12/V12-1","v":3.4010485751260422E-2},{"$f":"AA12/W12-1","v":5.8298909223353901E-2},3.1745078274464378E-2]
[]
[null,2009,2010,2011,2012,2013,2014,2015]
["Allemagne ",{"$f":"SUM(B3:E3)","v":930040},{"$f":"SUM(F3:I3)","v":1090085},{"$f":"SUM(J3:M3)","v":1211489},{"$f":"SUM(N3:Q3)","v":1266924},{"$f":"SUM(R3:U3)","v":1283139},{"$f":"SUM(V3:Y3)","v":1333186},{"$f":"SUM(Z3:AC3)","v":1419606}]
["Espagne",{"$f":"SUM(B4:E4)","v":244658},{"$f":"SUM(F4:I4)","v":275847},309575,319223,329545,338848,358391]
["France",466753,520469,572553,595230,603240,611812,650045]
["Italie",353529.5,404148.4,442218.89999999997,461173.9,464027.7,477204.5,{"$f":"SUM(Z6:AC6)","v":497008.8204426922}]
[]
[null,2009,2010,2011,2012,2013,2014,2015]
["Allemagne ",100,{"$f":"C16/B16*B22","v":117.20839963872523},{"$f":"D16/C16*C22","v":130.26203174057031},136.22252806330911,137.96600146230273,143.34716786374784,152.63924132295392]
["Espagne",100,{"$f":"C17/B17*B23","v":112.74799924792976},126.53377367590677,130.47723761332142,134.696188148354,138.49863891636485,146.48652404581085]
["France",100,{"$f":"C18/B18*B24","v":111.50844236673359},122.66723513292899,127.52569346099544,129.24180455187218,131.07832193901271,139.26959226828751]
["Italie",100,{"$f":"C19/B19*B25","v":114.31815449630088},125.08684565220157,130.44849156859613,131.25572264832215,134.98293636033205,140.58482260821015]

{"sheet":"Graph hyper 3","index":18,"n_rows":209,"n_cols":7,"rows_kept":209,"cut":false,"hidden":false,"merged":[]}
["BIS effective exchange rate"]
["Nominal, Broad Indices"]
["Monthly averages; 2010=100"]
[null,null,null,"Taux de change effectif réel France (échelle de droite)","Euro/dollar"]
[null,null,"1999-01-31",97.01,1.1594329999999999]
[null,null,"1999-02-28",96.29,1.120609]
[null,null,"1999-03-31",95.6,1.0884510000000001]
[null,null,"1999-04-30",95.03,1.0696300000000001]
[null,null,"1999-05-31",94.8,1.06227]
[null,null,"1999-06-30",94.03,1.037733]
[null,null,"1999-07-31",94.02,1.0368580000000001]
[null,null,"1999-08-31",94.63,1.0604800000000001]
[null,null,"1999-09-30",94.12,1.0498240000000001]
[null,null,"1999-10-31",94.65,1.0706279999999999]
[null,null,"1999-11-30",93.58,1.032632]
[null,null,"1999-12-31",92.77,1.011142]
[null,null,"2000-01-31",92.8,1.012853]
[null,null,"2000-02-29",92.17,0.98301799999999995]
[null,null,"2000-03-31",91.5,0.96481499999999998]
[null,null,"2000-04-30",90.88,0.94652000000000003]
[null,null,"2000-05-31",90.08,0.90798100000000004]
[null,null,"2000-06-30",91.56,0.94912200000000002]
[null,null,"2000-07-31",91.31,0.93993300000000002]
[null,null,"2000-08-31",90.17,0.90551499999999996]
[null,null,"2000-09-30",89.32,0.87119899999999995]
[null,null,"2000-10-31",88.82,0.85563999999999996]
[null,null,"2000-11-30",89.13,0.85553100000000004]
[null,null,"2000-12-31",90.57,0.89970300000000003]
[null,null,"2001-01-31",92.21,0.93857400000000002]
[null,null,"2001-02-28",91.86,0.92098599999999997]
[null,null,"2001-03-31",91.95,0.90949999999999998]
[null,null,"2001-04-30",91.72,0.89204000000000006]
[null,null,"2001-05-31",90.94,0.87648400000000004]
[null,null,"2001-06-30",90.36,0.85359200000000002]
[null,null,"2001-07-31",90.82,0.85959799999999997]
[null,null,"2001-08-31",92.1,0.90065899999999999]
[null,null,"2001-09-30",92.46,0.91203699999999999]
[null,null,"2001-10-31",92.52,0.90621499999999999]
[null,null,"2001-11-30",91.83,0.88741300000000001]
[null,null,"2001-12-31",92.05,0.89240200000000003]
[null,null,"2002-01-31",91.87,0.88478900000000005]
[null,null,"2002-02-28",91.56,0.86995800000000001]
[null,null,"2002-03-31",91.64,0.87611499999999998]
[null,null,"2002-04-30",91.81,0.88516600000000001]
[null,null,"2002-05-31",92.75,0.91599299999999995]
[null,null,"2002-06-30",93.98,0.95485500000000001]
[null,null,"2002-07-31",94.87,0.99415799999999999]
[null,null,"2002-08-31",94.61,0.97770699999999999]
[null,null,"2002-09-30",94.73,0.98020499999999999]
[null,null,"2002-10-31",94.92,0.98179799999999995]
[null,null,"2002-11-30",95.26,1.0024029999999999]
[null,null,"2002-12-31",95.72,1.016637]
[null,null,"2003-01-31",96.89,1.060419]
[null,null,"2003-02-28",97.46,1.0783370000000001]
[null,null,"2003-03-31",97.72,1.0793969999999999]
[null,null,"2003-04-30",97.8,1.0842529999999999]
[null,null,"2003-05-31",99.41,1.1540680000000001]
[null,null,"2003-06-30",99.54,1.169205]
[null,null,"2003-07-31",98.88,1.1389560000000001]
[null,null,"2003-08-31",98.36,1.115421]
[null,null,"2003-09-30",98.32,1.1211549999999999]
[null,null,"2003-10-31",99.2,1.1713610000000001]
[null,null,"2003-11-30",99.18,1.1706700000000001]
[null,null,"2003-12-31",100.46,1.226736]
[null,null,"2004-01-31",100.94,1.2609159999999999]
[null,null,"2004-02-29",100.89,1.2614639999999999]
[null,null,"2004-03-31",100.04,1.22726]
[null,null,"2004-04-30",99.32,1.203665]
[null,null,"2004-05-31",99.83,1.2002870000000001]
[null,null,"2004-06-30",99.86,1.214925]
[null,null,"2004-07-31",100.04,1.226877]
[null,null,"2004-08-31",99.99,1.218116]
[null,null,"2004-09-30",100.14,1.2261519999999999]
[null,null,"2004-10-31",100.65,1.249037]
[null,null,"2004-11-30",101.3,1.298316]
[null,null,"2004-12-31",101.87,1.342733]
[null,null,"2005-01-31",101.27,1.330047]
[null,null,"2005-02-28",100.85,1.299736]
[null,null,"2005-03-31",101.25,1.3202370000000001]
[null,null,"2005-04-30",100.84,1.2944070000000001]
[null,null,"2005-05-31",100.29,1.2703709999999999]
[null,null,"2005-06-30",99.03,1.217058]
[null,null,"2005-07-31",99.06,1.2025539999999999]
[null,null,"2005-08-31",99.33,1.2297750000000001]
[null,null,"2005-09-30",99.11,1.22664]
[null,null,"2005-10-31",98.85,1.203514]
[null,null,"2005-11-30",98.43,1.179138]
[null,null,"2005-12-31",98.44,1.1859999999999999]
[null,null,"2006-01-31",98.75,1.2107190000000001]
[null,null,"2006-02-28",98.31,1.1946049999999999]
[null,null,"2006-03-31",98.65,1.201838]
[null,null,"2006-04-30",99.15,1.2255419999999999]
[null,null,"2006-05-31",99.97,1.276864]
[null,null,"2006-06-30",100.18,1.2668459999999999]
[null,null,"2006-07-31",100.23,1.2697579999999999]
[null,null,"2006-08-31",100.25,1.280321]
[null,null,"2006-09-30",100.13,1.2737130000000001]
[null,null,"2006-10-31",99.82,1.2620439999999999]
[null,null,"2006-11-30",100.13,1.2875270000000001]
[null,null,"2006-12-31",100.62,1.3209569999999999]
[null,null,"2007-01-31",100.24,1.299218]
[null,null,"2007-02-28",100.4,1.3071550000000001]
[null,null,"2007-03-31",100.75,1.3238350000000001]
[null,null,"2007-04-30",101.11,1.3499749999999999]
[null,null,"2007-05-31",101.02,1.351307]
[null,null,"2007-06-30",100.79,1.341639]
[null,null,"2007-07-31",101.09,1.3717649999999999]
[null,null,"2007-08-31",101.02,1.3621190000000001]
[null,null,"2007-09-30",101.45,1.388938]
[null,null,"2007-10-31",101.84,1.422358]
[null,null,"2007-11-30",102.56,1.4665570000000001]
[null,null,"2007-12-31",102.51,1.4560679999999999]
[null,null,"2008-01-31",102.73,1.470302]
[null,null,"2008-02-29",102.58,1.471697]
[null,null,"2008-03-31",103.93,1.5481]
[null,null,"2008-04-30",104.45,1.576778]
[null,null,"2008-05-31",104.06,1.5543]
[null,null,"2008-06-30",103.94,1.554867]
[null,null,"2008-07-31",104.07,1.5748899999999999]
[null,null,"2008-08-31",102.78,1.501676]
[null,null,"2008-09-30",102.07,1.437589]
[null,null,"2008-10-31",100.76,1.3401959999999999]
[null,null,"2008-11-30",100.25,1.2735780000000001]
[null,null,"2008-12-31",102.42,1.3510629999999999]
[null,null,"2009-01-31",102.33,1.3342480000000001]
[null,null,"2009-02-28",101.82,1.2806999999999999]
[null,null,"2009-03-31",102.87,1.3064469999999999]
[null,null,"2009-04-30",102.49,1.319375]
[null,null,"2009-05-31",102.83,1.3636360000000001]
[null,null,"2009-06-30",103.41,1.4037029999999999]
[null,null,"2009-07-31",103.37,1.4073640000000001]
[null,null,"2009-08-31",103.46,1.4257489999999999]
[null,null,"2009-09-30",104.03,1.455586]
[null,null,"2009-10-31",104.43,1.48068]
[null,null,"2009-11-30",104.45,1.489463]
[null,null,"2009-12-31",103.89,1.4587110000000001]
[null,null,"2010-01-31",102.88,1.4278109999999999]
[null,null,"2010-02-28",101.65,1.366303]
[null,null,"2010-03-31",101.22,1.3575630000000001]
[null,null,"2010-04-30",100.55,1.3441320000000001]
[null,null,"2010-05-31",98.91,1.262359]
[null,null,"2010-06-30",97.97,1.2215780000000001]
[null,null,"2010-07-31",98.98,1.2771539999999999]
[null,null,"2010-08-31",98.89,1.2908249999999999]
[null,null,"2010-09-30",99.06,1.3042590000000001]
[null,null,"2010-10-31",100.69,1.3892310000000001]
[null,null,"2010-11-30",100.11,1.3674040000000001]
[null,null,"2010-12-31",99.1,1.3214490000000001]
[null,null,"2011-01-31",99.12,1.3355399999999999]
[null,null,"2011-02-28",99.78,1.364673]
[null,null,"2011-03-31",100.57,1.402954]
[null,null,"2011-04-30",101.36,1.444553]
[null,null,"2011-05-31",100.98,1.433708]
[null,null,"2011-06-30",101.05,1.438555]
[null,null,"2011-07-31",100.59,1.430906]
[null,null,"2011-08-31",100.74,1.4327970000000001]
[null,null,"2011-09-30",100.13,1.379742]
[null,null,"2011-10-31",100.31,1.371901]
[null,null,"2011-11-30",100.03,1.357885]
[null,null,"2011-12-31",99.19,1.3176829999999999]
[null,null,"2012-01-31",98.17,1.289317]
[null,null,"2012-02-29",98.5,1.3225389999999999]
[null,null,"2012-03-31",98.63,1.3211809999999999]
[null,null,"2012-04-30",98.52,1.317242]
[null,null,"2012-05-31",97.87,1.282802]
[null,null,"2012-06-30",97.52,1.2538720000000001]
[null,null,"2012-07-31",96.63,1.2304839999999999]
[null,null,"2012-08-31",96.68,1.2390190000000001]
[null,null,"2012-09-30",97.74,1.2863020000000001]
[null,null,"2012-10-31",97.98,1.297391]
[null,null,"2012-11-30",97.68,1.28281]
[null,null,"2012-12-31",98.42,1.310754]
[null,null,"2013-01-31",99.07,1.3285929999999999]
[null,null,"2013-02-28",99.59,1.337917]
[null,null,"2013-03-31",98.76,1.2964830000000001]
[null,null,"2013-04-30",98.87,1.3019309999999999]
[null,null,"2013-05-31",98.93,1.2984599999999999]
[null,null,"2013-06-30",99.77,1.317987]
[null,null,"2013-07-31",99.75,1.30745]
[null,null,"2013-08-31",100.39,1.332239]
[null,null,"2013-09-30",100.4,1.3348439999999999]
[null,null,"2013-10-31",100.84,1.3640049999999999]
[null,null,"2013-11-30",100.74,1.3491649999999999]
[null,null,"2013-12-31",101.43,1.369996]
[null,null,"2014-01-31",101.45,1.3628960000000001]
[null,null,"2014-02-28",101.6,1.3647640000000001]
[null,null,"2014-03-31",102.14,1.382927]
[null,null,"2014-04-30",101.98,1.3805750000000001]
[null,null,"2014-05-31",101.62,1.373847]
[null,null,"2014-06-30",101.21,1.359937]
[null,null,"2014-07-31",100.96,1.3546720000000001]
[null,null,"2014-08-31",100.58,1.3329040000000001]
[null,null,"2014-09-30",99.81,1.2906979999999999]
[null,null,"2014-10-31",99.5,1.2670699999999999]
[null,null,"2014-11-30",99.48,1.247452]
[null,null,"2014-12-31",99.74,1.232089]
[null,null,"2015-01-31",97.93,1.1611629999999999]
[null,null,"2015-02-28",97.09,1.135006]
[null,null,"2015-03-31",95.7,1.0833649999999999]
[null,null,"2015-04-30",95.22,1.080727]
[null,null,"2015-05-31",96.21,1.1168940000000001]
[null,null,"2015-06-30",96.74,1.1222920000000001]
[null,null,"2015-07-31",96.28,1.1008389999999999]
[null,null,"2015-08-31",97.54,1.1128720000000001]
[null,null,"2015-09-30",98.24,1.123847]
[null,null,"2015-10-31",98.01,1.1229070000000001]
[null,null,"2015-11-30",96.58,1.0736559999999999]
[null,null,"2015-12-31",97.46,1.0893630000000001,{"$f":"D208/D187-1","v":-4.5819463481496014E-2},{"$f":"E208/E187-1","v":-0.21227729301691267}]
[null,null,"2016-01-31",98.15,1.0900000000000001]

{"sheet":"Graph hyper 4","index":19,"n_rows":13,"n_cols":27,"rows_kept":13,"cut":false,"hidden":false,"merged":[[0,0,0,3],[0,4,0,26],[1,0,1,3],[3,0,6,0],[38,11,38,13],[22,11,22,13]]}
["Frequency",null,null,null,"Annual"]
["Time",null,null,null,"1995","1996","1997","1998","1999","2000","2001","2002","2003","2004","2005","2006","2007","2008","2009","2010","2011","2012","2013","2014","2015","2016","2017"]
["Country","Variable","Unit","","","","","","","","","","","","","","","","","","","","","","","",""]
["France","Competitiveness indicator, relative consumer prices (CPI), overall weights","Index, 2010=100","i",107.295,106.61499999999999,101.839,103.229,101.307,96.051000000000002,95.884,97.650999999999996,103.004,104.78,103.371,102.712,103.07599999999999,103.81100000000001,104.041,100,99.259,96.343999999999994,97.397000000000006,97.816000000000003,93.789000000000001,93.873999999999995,93.281999999999996]
[null,"Real effective exchange rate, constant trade weights","Index, 2010","i",1.137,1.1120000000000001,1.0549999999999999,1.075,1.0629999999999999,0.999,0.998,1.014,1.0620000000000001,1.0649999999999999,1.044,1.0349999999999999,1.042,1.048,1.048,1,0.98599999999999999,0.95799999999999996,0.97,0.97399999999999998,0.94399999999999995,0.94499999999999995,0.94]
[null,"Relative price of exported goods and services","Ratio","i",1.177,1.175,1.1140000000000001,1.1419999999999999,1.1040000000000001,1.006,1,1.022,1.0820000000000001,1.085,1.0509999999999999,1.034,1.054,1.05,1.0720000000000001,1,0.97099999999999997,0.93600000000000005,0.96299999999999997,0.97099999999999997,0.94,0.94799999999999995,0.94399999999999995]
[null,"Competitiveness indicator, relative unit labour costs, overall economy","Index, 2010=100","i",101.845,101.414,96.778999999999996,98.195999999999998,97.253,92.111999999999995,92.376000000000005,94.992999999999995,100.377,101.70699999999999,101.17700000000001,101.126,101.738,102.041,102.48399999999999,100,99.174999999999997,96.510999999999996,97.677000000000007,99.177000000000007,95.191999999999993,95.546000000000006,95.286000000000001]
[]
[null,null,"1995","1996","1997","1998","1999","2000","2001","2002","2003","2004","2005","2006","2007","2008","2009","2010","2011","2012","2013","2014","2015","2016","2017"]
[null,"Indicateur basé sur l'indice des prix à la consommation",100,{"$f":"C10*F4/E4","v":99.366233282072784},{"$f":"D10*G4/F4","v":94.914954098513448},96.210447830747015,94.419124842723349,89.520480917097728,89.364835267253852,91.011696723985295,96.000745607903482,97.655995153548659,96.34279323360829,95.728598723146476,96.067850319213377,96.752877580502357,96.967239852742438,93.200987930472067,{"$f":"R10*U4/T4","v":92.510368609907275},{"$f":"S10*V4/U4","v":89.793559811733999},{"$f":"T10*W4/V4","v":90.774966214641879},{"$f":"U10*X4/W4","v":91.165478354070544},{"$f":"V10*Y4/X4","v":87.412274570110426}]
[null,"Indicateur basé sur le déflateur du PIB",100,{"$f":"C11*F5/E5","v":97.80123131046615},{"$f":"D11*G5/F5","v":92.788038698328933},{"$f":"E11*H5/G5","v":94.547053649956027},{"$f":"F11*I5/H5","v":93.491644678979767},{"$f":"G11*J5/I5","v":87.862796833773089},{"$f":"H11*K5/J5","v":87.774846086191729},{"$f":"I11*L5/K5","v":89.182058047493399},{"$f":"J11*M5/L5","v":93.403693931398408},{"$f":"K11*N5/M5","v":93.667546174142458},{"$f":"L11*O5/N5","v":91.820580474934033},{"$f":"M11*P5/O5","v":91.029023746701839},{"$f":"N11*Q5/P5","v":91.644678979771328},{"$f":"O11*R5/Q5","v":92.172383465259443},{"$f":"P11*S5/R5","v":92.172383465259443},{"$f":"Q11*T5/S5","v":87.95074758135442},86.719437115215456,84.256816182937527,85.312225153913786,85.664028144239197,83.025505716798563]
[null,"Indicateur basé sur le prix des exportations",100,99.83007646559048,94.647408666100262,97.026338147833471,93.79779099405269,85.471537807986408,84.961767204757862,86.83092608326254,91.928632115548012,92.183517417162264,89.294817332200495,87.850467289719617,89.549702633814775,89.209855564995749,91.079014443500412,84.961767204757848,82.497875955819865,79.52421410365335,81.818181818181813,82.497875955819879,79.86406117247239]
[null,"Indicateur basé sur le coût salarial unitaire",100,99.576807894349258,95.025774461191034,96.417104423388494,95.491187588983266,90.443320732485645,90.70253817074969,93.27212921596545,98.558593941774276,99.864499975452915,99.344101330453185,99.294025234424907,99.894938386764238,100.19244931022635,100.62742402670727,98.188423584859365,97.378369090284266,94.762629485983624,95.90750650498309,97.380332858755978,93.467524178899311]

{"sheet":"Graph hyper 5 ","index":20,"n_rows":61,"n_cols":60,"rows_kept":61,"cut":false,"hidden":false,"merged":[]}
[]
[null,null,1960,1961,1962,1963,1964,1965,1966,1967,1968,1969,1970,1971,1972,1973,1974,1975,1976,1977,1978,1979,1980,1981,1982,1983,1984,1985,1986,1987,1988,1989,1990,1991,1992,1993,1994,1995,1996,1997,1998,1999,2000,2001,2002,2003,2004,2005,2006,2007,2008,2009,2010,2011,2012,2013,2014,2015,2016,2017]
[null,"Allemagne",25.530163699999999,27.265604,28.513933600000001,29.4872613,29.939306899999998,31.2889366,32.656055899999998,32.731763600000001,33.149149999999999,34.313549000000002,38.364751699999999,41.664737199999998,44.003524200000001,47.516031499999997,51.871517500000003,54.552205600000001,55.796564600000004,57.616720299999997,59.489167899999998,61.495910199999997,65.7346833,68.479424199999997,70.881861000000001,71.316418200000001,72.000658599999994,73.053806399999999,75.110429999999994,77.234482299999996,77.458375500000002,77.907001600000001,79.871615000000006,82.725232300000002,88.334795299999996,91.643082699999994,92.062063300000005,94.0214292,94.263837699999996,93.127245000000002,93.271196900000007,93.989416599999998,94.622037800000001,94.546362400000007,95.307099699999995,96.401441300000002,95.800847300000001,95.334190399999997,93.591776300000006,93.020089400000003,95.202709600000006,101.166149,100,100.67234620000001,104.0033146,106.2506049,108.2769085,109.9998528,111.5383144,113.92818]
[null,"France",11.5117634,12.1266094,12.7042196,13.5269551,13.9651926,14.261954899999999,14.4723462,14.8004824,15.812110199999999,16.637962399999999,17.5670492,18.622269200000002,19.704484799999999,21.114199899999999,24.009927900000001,28.4900503,31.570560199999999,34.521023399999997,37.4512936,40.9181612,46.126228500000003,51.645844799999999,57.551931500000002,62.334994000000002,65.784797100000006,68.314324200000001,69.862230800000006,70.809308000000001,71.161169200000003,72.195600799999994,74.462345200000001,76.536284600000002,77.792251199999995,79.162938800000006,78.534731500000007,79.303264900000002,80.112500999999995,80.014630600000004,79.872293200000001,80.493254100000001,81.447052099999993,83.221736300000003,85.573630899999998,87.322969799999996,88.006436100000002,89.838466100000005,91.531228900000002,92.988832400000007,95.678763500000002,99.0520554,100,100.9691955,103.2735788,104.2360043,105.82084570000001,105.8968306,106.3106599,107.00543020000001]
[null,"Espagne",2.8153038000000001,2.8483428000000002,3.0271829000000001,3.389103,3.6460976999999999,3.9865496999999999,4.4094101999999999,4.8857850999999997,5.0292276999999999,5.2062198999999998,5.4990677000000003,6.0010826000000002,6.5535176000000002,7.3381680999999999,8.4852985000000007,10.1687546,12.0151111,14.7067002,17.773235799999998,20.780746600000001,23.323917099999999,26.317155899999999,29.307269900000001,32.668370400000001,34.616835399999999,36.541433699999999,39.645770400000004,42.132371399999997,44.583534100000001,47.301960299999998,52.075533499999999,56.536582600000003,61.443275100000001,64.760439099999999,65.272827100000001,67.097566099999995,68.812172099999998,70.264257799999996,71.589593300000004,73.097752999999997,74.910516599999994,77.316658799999999,79.741068600000006,82.251608099999999,84.672344300000006,87.673925299999993,90.681539400000005,94.475506800000005,100.01741579999999,101.6629274,100,99.1188614,96.221287799999999,96.168661400000005,95.314086700000004,95.664320000000004,96.105288900000005,96.980735800000005]
[null,"Italie",3.7150672999999999,3.7228365000000001,3.9345965999999999,4.3904607999999996,4.7455008999999997,4.8859607,4.8978003000000001,5.0087770999999996,5.0475054000000004,5.1405811000000003,5.6380165,6.2882635999999996,6.6628616999999997,7.4594214000000001,8.8554625999999992,10.926718299999999,12.5406739,14.872318399999999,16.868789799999998,19.3440403,23.167895699999999,28.1328347,32.731658600000003,37.686706600000001,40.909700100000002,44.182417700000002,46.509830200000003,48.870850300000001,51.286546899999998,54.0219399,59.004912099999999,63.783575599999999,66.345479600000004,67.748157500000005,67.843415699999994,68.745056700000006,72.507682000000003,74.346525900000003,73.072290600000002,74.255268900000004,74.510440099999997,76.623470100000006,79.797739699999994,83.594938999999997,85.604732499999997,87.343030299999995,89.286137299999993,91.033072200000007,94.978027100000006,99.913347799999997,100,100.6937779,102.6158585,103.36407490000001,104.708752,105.3777568,105.3530507,106.0443358]
[null,"Zone euro","NA","NA","NA","NA","NA","NA","NA","NA","NA","NA","NA","NA","NA","NA","NA","NA","NA","NA","NA","NA","NA","NA","NA","NA","NA","NA","NA","NA","NA","NA","NA","NA","NA","NA","NA",78.5642371,79.872136800000007,80.278345400000006,80.538533299999997,81.530264099999997,82.457445000000007,84.023560000000003,86.193657299999998,88.301409399999997,89.063436400000001,90.4602407,91.350791200000003,92.763411099999999,96.274094500000004,100.6442473,100,100.5599215,102.4236155,103.58129839999999,104.68607299999999,105.401275,106.1063018,107.31162]
[]
[null,null,1999,2000,2001,2002,2003,2004,2005,2006,2007,2008,2009,2010,2011,2012,2013,2014,2015,null,null,"1999-2008","2009-2015"]
[null,"Allemagne",{"$f":"AP3/$AP3*100","v":100},{"$f":"AQ3/$AP3*100","v":100.67307705791207},100.59256224812019,101.40194837638772,102.56627265840483,101.92727092637364,101.43077151518357,99.576930771160903,98.968684735936534,101.29088257368757,107.63568139862249,106.39495766377595,107.11030011861995,110.6542825375937,113.04528610086084,115.20117095822042,117.03429681677586,null,"Allemagne",{"$f":"AY3/AP3-1","v":1.2908825736875684E-2},{"$f":"BF3/AZ3-1","v":8.7318771024881059E-2}]
[null,"France",{"$f":"AP4/$AP4*100","v":100},101.1849415341254,103.38970293909388,106.31155598913722,108.48482991073409,109.33392752474147,111.60993191850595,113.71291908050713,115.52375840648241,118.86556776687701,123.05634367439495,124.23401329478617,125.43808376110862,128.30091161639345,129.49657144001588,131.46548351559315,131.55988260636119,null,"France",{"$f":"AY4/AP4-1","v":0.18865567766877001},{"$f":"BF4/AZ4-1","v":6.9102808340108401E-2}]
[null,"Espagne",100,102.47991699553336,105.77159437445363,109.08826239843516,112.52275853130533,115.83440095620998,119.94065713620499,124.05516678467532,129.2454322091132,136.82693611662728,139.07804717335154,136.80311076046345,135.59768574555227,131.63371492417832,131.56172037189708,130.39263559852517,130.8717656478442,null,"Espagne",0.36826936116627285,-5.9004865917327454E-2]
[null,"Italie",100,100.34364053053748,103.18927024988527,107.46407747504634,112.57778772921525,115.28438825706009,117.62536395582292,120.24215738851089,122.59476471978677,127.90745829485508,134.5538832194573,134.67057823825346,135.60489294787268,138.19337000609798,139.20099735845142,141.01188178445881,141.91283441706045,null,"Italie",0.27907458294855081,5.4691481371821338E-2]
[null,"Zone euro",100,101.1372229812267,103.05812317367436,105.71983085235708,108.30506974894001,109.23972512926032,110.95295924596422,112.04525363484012,113.77788619232501,118.08387420641264,123.44403444659025,122.65384039152156,123.34060561444937,125.62649787859574,127.04644041500168,128.40148888957174,129.27871160912872,null,"Zone euro",0.18083874206412642,4.7265768562213539E-2]
[]
[]
[]
[]
[]
[]
[]
[]
[]
[]
[]
[]
[]
[]
[]
[]
[]
[]
[]
[]
[]
[]
[]
[]
[]
[]
[]
[]
[]
[]
[]
[]
[]
[]
[]
[]
[]
[]
[]
[]
[]
[]
[]
[]
[]
[]
[null,null,null,null,null,null,null,null,null,null,null,null,"é"]

{"sheet":"Graph Hyper 6","index":21,"n_rows":7,"n_cols":47,"rows_kept":7,"cut":false,"hidden":false,"merged":[]}
[null,null,null,null,null,null,null,null,null,null,null,null,null,null,null,null,null,null,null,null,null,null,1997,1998,1999,2000,2001,2002,2003,2004,2005,2006,2007,2008,2009,2010,2011,2012,2013,2014,2015,2016,2017,2018,2019,2020,"Estimates Start After"]
[null,null,null,null,null,null,null,null,null,null,null,null,null,null,null,null,null,null,null,null,null,null,3.6970000000000001,3.669,4.2030000000000003,1.1819999999999999,1.5069999999999999,1.1739999999999999,0.86699999999999999,0.44,-1.7999999999999999E-2,3.5999999999999997E-2,-0.29899999999999999,-0.95299999999999996,-0.83099999999999996,-0.83599999999999997,-1.032,-1.194,-0.80600000000000005,-0.92600000000000005,-0.216,-0.37,-0.36299999999999999,-0.38500000000000001,-0.39200000000000002,-0.26800000000000002,2014]
[]
[]
[null,1980,1981,1982,1983,1984,1985,1986,1987,1988,1989,1990,1991,1992,1993,1994,1995,1996,1997,1998,1999,2000,2001,2002,2003,2004,2005,2006,2007,2008,2009,2010,2011,2012,2013,2014,2015]
["France",-0.59299999999999997,-0.76800000000000002,-2.0550000000000002,-0.83499999999999996,-0.14199999999999999,-6.3E-2,0.30299999999999999,-0.47399999999999998,-0.45500000000000002,-0.44900000000000001,-0.77200000000000002,-0.48299999999999998,0.27200000000000002,0.69,0.58199999999999996,0.45500000000000002,1.1990000000000001,3.6970000000000001,3.669,4.2030000000000003,1.1819999999999999,1.5069999999999999,1.1739999999999999,0.86699999999999999,0.44,-1.7999999999999999E-2,3.5999999999999997E-2,-0.29899999999999999,-0.95299999999999996,-0.83099999999999996,-0.83599999999999997,-1.032,-1.194,-0.80600000000000005,-0.92600000000000005,-0.216]
["Allemagne",-2.198,-1.097,0.47299999999999998,0.29099999999999998,1.1619999999999999,2.3719999999999999,3.8180000000000001,3.5019999999999998,4.0270000000000001,4.3239999999999998,2.7589999999999999,-1.427,-1.1879999999999999,-1.038,-1.4990000000000001,-1.2430000000000001,-0.67400000000000004,-0.50800000000000001,-0.70899999999999996,-1.419,-1.746,-0.36299999999999999,1.8879999999999999,1.4059999999999999,4.4409999999999998,4.6130000000000004,5.68,6.7480000000000002,5.5949999999999998,5.7359999999999998,5.6239999999999997,6.0869999999999997,6.8010000000000002,6.3719999999999999,7.3920000000000003,8.4920000000000009]

{"sheet":"Graph Hyper 7","index":22,"n_rows":9,"n_cols":66,"rows_kept":9,"cut":false,"hidden":false,"merged":[]}
["Secteur exposé"]
[null,1998,null,null,null,1999,null,null,null,2000,null,null,null,2001,null,null,null,2002,null,null,null,2003,null,null,null,2004,null,null,null,2005,null,null,null,2006,null,null,null,2007,null,null,null,2008,null,null,null,2009,null,null,null,2010,null,null,null,2011,null,null,null,2012,null,null,null,2013,null,null,null,2014]
["France",100,98.433492238225867,98.433812390989033,97.634521693693884,98.241037597559412,97.673046633257343,97.560166969332698,96.787708064392561,96.39485978729715,96.28086814103753,97.293552105723094,98.191141980147151,97.590731926801979,99.301441627428204,99.327301652274187,100.23572387236874,98.446556819960819,97.583656447045911,97.623001054449901,98.046415680031686,98.386037774548285,99.556011038064355,99.266860827438236,97.650288274017768,97.122214423945366,96.548613060097182,96.554930590377381,96.717261175131625,97.598601419783947,98.685014196833464,99.097343784118848,99.353107168463794,99.137735086403708,98.27845231440358,99.025751766345778,100.13518532097703,98.242429627172228,98.079874391190941,98.409870875940513,100.14548759128297,100.40991537794139,101.61539960864528,102.09020687923089,103.7724677977977,105.03619832424489,103.82556709686502,103.40017755842649,103.14636190531633,104.37552305052655,104.22230476038035,104.26424604208393,104.01135770722895,101.92808756124643,102.34605811367325,102.17199664190339,102.38578199467581,103.11620883510709,104.2249606001419,103.83386436101243,104.68632365564854,104.59730622418444,103.52725150430622,104.25484865152221,103.9822443372969,104.6374438167319]
["Allemagne",100,101.42296169684666,101.85434222113012,103.33536355594779,101.44434614138194,101.6138273794092,100.76004962772281,101.14421292661599,102.47531289008674,103.0916234012754,103.02386306659021,103.01156545880607,101.23914793478673,101.76601548805945,101.60904987025792,102.82186267898064,103.1904868348353,102.92435301406692,103.75101194779361,103.88156535356192,105.95562289908716,107.12710686194936,107.28879008765647,106.32839525877979,105.94983805723697,104.29124764077784,104.34328084461215,105.18978899139941,106.12726481276347,104.94082176526625,104.11855698040735,103.94373239257992,103.4371410146606,101.72761223886384,100.89194355292821,100.56355343505372,99.400123860739399,99.717621905818433,98.417144226503481,99.223601087325889,100.39155595059432,101.35891695156299,102.6638515488097,108.64675684008769,116.24685376061805,114.56272207071838,112.34148463150788,111.49653644900177,107.22292882155517,105.06512113211667,105.33600207157707,104.79934445492987,104.80034160652932,105.47874873749588,104.90791391473091,106.57886704350032,105.37608910470652,106.52083481930978,106.24513296672626,108.81051551964593,109.21091972430756,109.81778009831866,109.79623617701779,109.41159813787624,110.49510147007464]
[]
["Secteur abrité"]
[null,1998,null,null,null,1999,null,null,null,2000,null,null,null,2001,null,null,null,2002,null,null,null,2003,null,null,null,2004,null,null,null,2005,null,null,null,2006,null,null,null,2007,null,null,null,2008,null,null,null,2009,null,null,null,2010,null,null,null,2011,null,null,null,2012,null,null,null,2013,null,null,null,2014]
["France",100,100.68669586373026,101.54879020424741,102.16634268153173,102.70979941530783,103.4381210690932,103.85495713016921,104.48781863280729,105.09112819295554,105.69249115123492,106.61135079199401,107.05848623007344,107.06080797285394,108.45781622871415,109.78211508948139,111.18093869634089,112.49271943950903,114.12696771857595,115.06160846125147,116.17242076299318,117.01384585698437,117.72601678090604,118.34624571134358,118.7054687398979,119.84875653704385,120.12064494598759,120.70438568139068,121.02928174287995,122.05177444562183,122.75335608058808,123.53422463026132,124.25475146021495,124.66715815224391,125.0546947382316,126.75894442054827,127.19904650253339,127.91168617841402,128.46204208082469,129.25071857932994,130.01343716802225,130.39016000939893,131.66846040480615,132.64878651069415,134.47836975732091,135.61218264552667,136.26913190337029,137.240606447153,137.97602624690461,138.22653899319494,138.48037004882352,138.63396887712142,139.0013279277502,139.68195279362959,140.77600341605242,141.21191231502289,141.87888411949854,141.8762648462658,142.40383984439663,142.83670887393427,143.41686172241563,143.66205097729824,143.88910142011449,144.36399817236031,144.87413990380529,145.59137225140552]
["Allemagne",100,100.87719632919034,101.44394608631285,101.26633615267187,102.12420080716269,103.65722842035672,103.56955797904766,102.89561631519237,102.43527215492443,102.20890234281678,103.38684866545958,103.75694784597584,102.50206218122781,102.60682714569653,102.69864640273936,103.04786275650331,102.558025748552,102.57092413532321,102.53237709545313,103.00300879462483,103.04737348263934,102.39282816847242,102.15882319232652,102.09240153038941,102.76844367574536,102.18266075082383,102.36962933573308,101.79516764617331,101.42836618008666,100.99489675044609,100.18666734902553,99.821547579585882,99.384261399450907,99.219307838843278,99.43402448226712,98.029773163822014,98.975639455395921,98.485064308611925,98.838885051672236,98.685529671811139,99.136768725186215,100.29190977418581,101.22600076497844,102.5896311530079,105.32883733145168,105.81205712933115,106.71414814737368,106.54436799341443,108.59844602188784,108.88752776276067,109.0226011139859,109.88390054926656,108.82010957996914,110.45694546192777,110.73821637631562,111.07430305796268,113.51708735397415,114.74915281517343,115.61386163431482,116.59326551304801,117.00762212852985,117.40126132393848,118.28959560192773,119.19463995931297,119.17236411257794]

{"sheet":"Graph Hyper 8","index":23,"n_rows":198,"n_cols":14,"rows_kept":198,"cut":false,"hidden":false,"merged":[[1,15,1,20]]}
[null,"Delta_val","Delta_vol","Delta_prix","Indice prix","VA par heure travaillée (constant)","Rémunération (constant prix prod)","Rémunération par heure travaillées (courant)",null,null,null,"Valeur ajoutée par heure travaillée ","Rémunération par heure travaillée"]
["2015-12-01",{"$f":"[4]branche!T4/[4]branche!T5-1","v":4.620216048536907E-3},{"$f":"[4]branche!C4/[4]branche!C5-1","v":2.707226980614541E-3},{"$f":"B2-C2","v":1.912989067922366E-3},{"$f":"E3*(1+D2)","v":125.70989117094105},{"$f":"[4]branche!C4/[4]branche!P4","v":{"$error":"#DIV/0!"}},null,null,null,null,"2015-12-01"]
["2015-09-01",{"$f":"[4]branche!T5/[4]branche!T6-1","v":6.6092540590640958E-3},{"$f":"[4]branche!C5/[4]branche!C6-1","v":2.5140965949093097E-3},{"$f":"B3-C3","v":4.0951574641547861E-3},125.4698686837953,{"$f":"[4]branche!C5/[4]branche!P5","v":46.653040216175555},{"$f":"(1+([4]branche!G5/[4]branche!G6-1)-'Graph Hyper 8'!D3)*'Graph Hyper 8'!G4","v":227797.38093626275},{"$f":"G3/[4]branche!P5","v":22.547722033897472},null,null,"2015-09-01",{"$f":"L4*F3/F4","v":116.48300358403341},{"$f":"M4*H3/H4","v":120.37141466703548},{"$f":"L3/L7-1","v":5.1377224651902864E-3}]
["2015-06-01",{"$f":"[4]branche!T6/[4]branche!T7-1","v":2.2448923170494961E-3},{"$f":"[4]branche!C6/[4]branche!C7-1","v":1.7016171744321795E-5},2.2278761453051743E-3,124.95814540194559,{"$f":"[4]branche!C6/[4]branche!P6","v":46.615405970829983},{"$f":"(1+([4]branche!G6/[4]branche!G7-1)-'Graph Hyper 8'!D4)*'Graph Hyper 8'!G5","v":227783.55833776205},{"$f":"G4/[4]branche!P6","v":22.584804062956664},null,null,"2015-06-01",116.38903864809016,120.56937773797758,{"$f":"L4/L8-1","v":5.9331403707707508E-3}]
["2015-03-01",{"$f":"[4]branche!T7/[4]branche!T8-1","v":1.1425407690758949E-2},{"$f":"[4]branche!C7/[4]branche!C8-1","v":6.0666886365678963E-3},5.3587190541910523E-3,124.68037297321082,{"$f":"[4]branche!C7/[4]branche!P7","v":46.668287986023564},{"$f":"(1+([4]branche!G7/[4]branche!G8-1)-'Graph Hyper 8'!D5)*'Graph Hyper 8'!G6","v":227725.83275526389},{"$f":"G5/[4]branche!P7","v":22.605079635427867},null,null,"2015-03-01",116.52107411537766,120.67761924183652,4.8514752811981143E-3]
["2014-12-01",{"$f":"[4]branche!T8/[4]branche!T9-1","v":4.9946606216160205E-3},{"$f":"[4]branche!C8/[4]branche!C9-1","v":4.2602658491519563E-4},4.5686340367008249E-3,124.01580710465821,{"$f":"[4]branche!C8/[4]branche!P8","v":46.429735315157778},{"$f":"(1+([4]branche!G8/[4]branche!G9-1)-'Graph Hyper 8'!D6)*'Graph Hyper 8'!G7","v":228033.51002243257},{"$f":"G6/[4]branche!P8","v":22.656536644785053},null,null,"2014-12-01",115.92545737771849,120.95232340048935,-2.40530919044879E-3]
["2014-09-01",{"$f":"[4]branche!T9/[4]branche!T10-1","v":4.0876829628460065E-3},{"$f":"[4]branche!C9/[4]branche!C10-1","v":2.5756213149834561E-3},1.5120616478625504E-3,123.45180100469614,{"$f":"[4]branche!C9/[4]branche!P9","v":46.414575011427097},{"$f":"(1+([4]branche!G9/[4]branche!G10-1)-'Graph Hyper 8'!D7)*'Graph Hyper 8'!G8","v":228389.50135096023},{"$f":"G7/[4]branche!P9","v":22.694161385456809},null,null,"2014-09-01",115.88760523119998,121.15318374701707,-2.3167446803148417E-3]
["2014-06-01",{"$f":"[4]branche!T10/[4]branche!T11-1","v":-3.7232392181196783E-4},{"$f":"[4]branche!C10/[4]branche!C11-1","v":-1.3032807090875842E-3},9.3095678727561637E-4,123.26541609650879,{"$f":"[4]branche!C10/[4]branche!P10","v":46.340461507857569},{"$f":"(1+([4]branche!G10/[4]branche!G11-1)-'Graph Hyper 8'!D8)*'Graph Hyper 8'!G9","v":228217.41172691539},{"$f":"G8/[4]branche!P10","v":22.699165678030177},null,null,"2014-06-01",115.70255912355272,121.17989925182763,-4.5865537434608417E-3]
["2014-03-01",{"$f":"[4]branche!T11/[4]branche!T12-1","v":1.627330105041791E-3},{"$f":"[4]branche!C11/[4]branche!C12-1","v":-6.9831055969804545E-4},2.3256406647398364E-3,123.15076805313153,{"$f":"[4]branche!C11/[4]branche!P11","v":46.442971059940866},{"$f":"(1+([4]branche!G11/[4]branche!G12-1)-'Graph Hyper 8'!D9)*'Graph Hyper 8'!G10","v":227714.28463717306},{"$f":"G9/[4]branche!P11","v":22.669641772160308},null,null,"2014-03-01",115.95850429813056,121.02228535581145,7.2154763547660483E-3]
["2013-12-01",{"$f":"[4]branche!T12/[4]branche!T13-1","v":1.2559757856920317E-3},{"$f":"[4]branche!C12/[4]branche!C13-1","v":1.7036908294656428E-3},-4.4771504377361104E-4,122.86502814739754,{"$f":"[4]branche!C12/[4]branche!P12","v":46.541682451697802},{"$f":"(1+([4]branche!G12/[4]branche!G13-1)-'Graph Hyper 8'!D10)*'Graph Hyper 8'!G11","v":226856.37544142856},{"$f":"G10/[4]branche!P12","v":22.616431264473565},null,null,"2013-12-01",116.20496625101785,120.73822011517315,1.2652471475099514E-2]
["2013-09-01",{"$f":"[4]branche!T13/[4]branche!T14-1","v":-6.2759377155585661E-4},{"$f":"[4]branche!C13/[4]branche!C14-1","v":4.9353681355501777E-5},-6.7694745291135838E-4,122.92006130802672,{"$f":"[4]branche!C13/[4]branche!P13","v":46.522355430887323},{"$f":"(1+([4]branche!G13/[4]branche!G14-1)-'Graph Hyper 8'!D11)*'Graph Hyper 8'!G12","v":225826.3184365854},{"$f":"G11/[4]branche!P13","v":22.54273120941787},null,null,"2013-09-01",116.15671067273391,120.34477106188274,1.4691457362288718E-2]
["2013-06-01",{"$f":"[4]branche!T14/[4]branche!T15-1","v":8.5995506335609928E-3},{"$f":"[4]branche!C14/[4]branche!C15-1","v":7.780704372158942E-3},8.1884626140205086E-4,123.00332809768206,{"$f":"[4]branche!C14/[4]branche!P14","v":46.553983856788939},{"$f":"(1+([4]branche!G14/[4]branche!G15-1)-'Graph Hyper 8'!D12)*'Graph Hyper 8'!G13","v":224701.13375123864},{"$f":"G12/[4]branche!P14","v":22.446768735638802},null,null,"2013-06-01",116.23568031824006,119.83247369071731,2.0394523504849049E-2]
["2013-03-01",{"$f":"[4]branche!T15/[4]branche!T16-1","v":4.4449026818342841E-3},{"$f":"[4]branche!C15/[4]branche!C16-1","v":8.0076873798851089E-4},3.6441339438457732E-3,122.90268968971338,{"$f":"[4]branche!C15/[4]branche!P15","v":46.110263543629777},{"$f":"(1+([4]branche!G15/[4]branche!G16-1)-'Graph Hyper 8'!D13)*'Graph Hyper 8'!G14","v":223880.46170285443},{"$f":"G13/[4]branche!P15","v":22.323976358137585},null,null,"2013-03-01",115.12780236240843,119.17694440186368,1.013853908149609E-2]
["2012-12-01",{"$f":"[4]branche!T16/[4]branche!T17-1","v":1.3268279253304538E-3},{"$f":"[4]branche!C16/[4]branche!C17-1","v":-8.6562099650300262E-5},1.4133900249807541E-3,122.45644201273221,{"$f":"[4]branche!C16/[4]branche!P16","v":45.960172677900019},{"$f":"(1+([4]branche!G16/[4]branche!G17-1)-'Graph Hyper 8'!D14)*'Graph Hyper 8'!G15","v":224464.70889239068},{"$f":"G14/[4]branche!P16","v":22.3272434094327},null,null,"2012-12-01",114.75305647725884,119.19438561324598,6.8498435988142425E-3]
["2012-09-01",{"$f":"[4]branche!T17/[4]branche!T18-1","v":6.0220687373657711E-3},{"$f":"[4]branche!C17/[4]branche!C18-1","v":3.3742850814908465E-3},2.6477836558749246E-3,122.28360758155779,{"$f":"[4]branche!C17/[4]branche!P17","v":45.848770178693677},{"$f":"(1+([4]branche!G17/[4]branche!G18-1)-'Graph Hyper 8'!D15)*'Graph Hyper 8'!G16","v":224112.01620679384},{"$f":"G15/[4]branche!P17","v":22.236202705387978},null,null,"2012-09-01",114.47490745086755,118.70836319724886,7.0327623880035439E-3]
["2012-06-01",{"$f":"[4]branche!T18/[4]branche!T19-1","v":5.1765412237414488E-4},{"$f":"[4]branche!C18/[4]branche!C19-1","v":-2.0866512822179661E-3},2.604305404592111E-3,121.96068208088467,{"$f":"[4]branche!C18/[4]branche!P18","v":45.623514027579652},{"$f":"(1+([4]branche!G18/[4]branche!G19-1)-'Graph Hyper 8'!D16)*'Graph Hyper 8'!G17","v":223599.58445462919},{"$f":"G16/[4]branche!P18","v":22.150854380114637},null,null,"2012-06-01",113.91248937616204,118.25272964645515,3.7769926979256407E-3]
["2012-03-01",{"$f":"[4]branche!T19/[4]branche!T20-1","v":3.4778343577592796E-3},{"$f":"[4]branche!C19/[4]branche!C20-1","v":1.0389869551825637E-3},2.438847402576716E-3,121.64388425568201,{"$f":"[4]branche!C19/[4]branche!P19","v":45.647464936400858},{"$f":"(1+([4]branche!G19/[4]branche!G20-1)-'Graph Hyper 8'!D17)*'Graph Hyper 8'!G18","v":223243.930713515},{"$f":"G17/[4]branche!P19","v":22.081059792438822},null,null,"2012-03-01",113.97228984758114,117.88013000015783,2.1789720665734702E-3]
["2011-12-01",{"$f":"[4]branche!T20/[4]branche!T21-1","v":5.0929007990652142E-3},{"$f":"[4]branche!C20/[4]branche!C21-1","v":3.0786904578001817E-3},2.0142103412650325E-3,121.34793515921092,{"$f":"[4]branche!C20/[4]branche!P20","v":45.647494480034055},{"$f":"(1+([4]branche!G20/[4]branche!G21-1)-'Graph Hyper 8'!D18)*'Graph Hyper 8'!G19","v":222515.75854113256},{"$f":"G18/[4]branche!P20","v":22.031917635289417},null,null,"2011-12-01",113.97236361192994,117.61778372114256,9.7244673422662853E-3]
["2011-09-01",{"$f":"[4]branche!T21/[4]branche!T22-1","v":4.5604498448004183E-3},{"$f":"[4]branche!C21/[4]branche!C22-1","v":2.0952796249864569E-3},2.4651702198139613E-3,121.10400621751897,{"$f":"[4]branche!C21/[4]branche!P21","v":45.528578504210003},{"$f":"(1+([4]branche!G21/[4]branche!G22-1)-'Graph Hyper 8'!D19)*'Graph Hyper 8'!G20","v":221262.45987826222},{"$f":"G19/[4]branche!P21","v":21.918024752675802},null,null,"2011-09-01",113.67545498659861,117.00976454385727,8.288471894318139E-3]
["2011-06-01",{"$f":"[4]branche!T22/[4]branche!T23-1","v":1.4546718397010494E-3},{"$f":"[4]branche!C22/[4]branche!C23-1","v":1.4392128813911498E-4},1.3107505515619344E-3,120.80619837491619,{"$f":"[4]branche!C22/[4]branche!P22","v":45.451842749407881},{"$f":"(1+([4]branche!G22/[4]branche!G23-1)-'Graph Hyper 8'!D20)*'Graph Hyper 8'!G21","v":220839.3192599105},{"$f":"G20/[4]branche!P22","v":21.884997300529239},null,null,"2011-06-01",113.48386165934231,116.83344690379798,1.0738352250903693E-2]
["2011-03-01",{"$f":"[4]branche!T23/[4]branche!T24-1","v":1.2778807192676878E-2},{"$f":"[4]branche!C23/[4]branche!C24-1","v":1.1819684175920608E-2},9.5912301675626921E-4,120.64805886521374,{"$f":"[4]branche!C23/[4]branche!P23","v":45.548216644649933},{"$f":"(1+([4]branche!G23/[4]branche!G24-1)-'Graph Hyper 8'!D21)*'Graph Hyper 8'!G22","v":219608.43144665589},{"$f":"G21/[4]branche!P23","v":21.812301372320089},null,null,"2011-03-01",113.72448736632454,116.44535839951745,1.6316920996004791E-2]
["2010-12-01",{"$f":"[4]branche!T24/[4]branche!T25-1","v":6.8152224553914564E-3},{"$f":"[4]branche!C24/[4]branche!C25-1","v":4.8242881625359946E-3},1.9909342928554619E-3,120.53245341487742,{"$f":"[4]branche!C24/[4]branche!P24","v":45.207872005107028},{"$f":"(1+([4]branche!G24/[4]branche!G25-1)-'Graph Hyper 8'!D22)*'Graph Hyper 8'!G23","v":217812.29085663657},{"$f":"G22/[4]branche!P24","v":21.726044931537551},null,null,"2010-12-01",112.87471711161052,115.98487685794406,1.0323172770157374E-2]
["2010-09-01",{"$f":"[4]branche!T25/[4]branche!T26-1","v":1.0339597439642079E-2},{"$f":"[4]branche!C25/[4]branche!C26-1","v":4.6350535670534043E-3},5.7045438725886743E-3,120.29295803952751,{"$f":"[4]branche!C25/[4]branche!P25","v":45.15431820684546},{"$f":"(1+([4]branche!G25/[4]branche!G26-1)-'Graph Hyper 8'!D23)*'Graph Hyper 8'!G24","v":216937.29246662982},{"$f":"G23/[4]branche!P25","v":21.717401213986225},null,null,"2010-09-01",112.74100434078284,115.93873221822963,1.57414972025125E-2]
["2010-06-01",{"$f":"[4]branche!T26/[4]branche!T27-1","v":1.0314139211410334E-2},{"$f":"[4]branche!C26/[4]branche!C27-1","v":5.9509672562365612E-3},4.3631719551737724E-3,119.61063393064201,{"$f":"[4]branche!C26/[4]branche!P26","v":44.968950320512818},{"$f":"(1+([4]branche!G26/[4]branche!G27-1)-'Graph Hyper 8'!D24)*'Graph Hyper 8'!G25","v":217074.58162385525},{"$f":"G24/[4]branche!P26","v":21.742245755594475},null,null,"2010-06-01",112.27817902290433,116.07136524500028,1.6436487087661433E-2]
["2010-03-01",{"$f":"[4]branche!T27/[4]branche!T28-1","v":8.4584231712014901E-3},{"$f":"[4]branche!C27/[4]branche!C28-1","v":2.5630485227090549E-3},5.8953746484924352E-3,119.09101933496663,{"$f":"[4]branche!C27/[4]branche!P27","v":44.816942140461506},{"$f":"(1+([4]branche!G27/[4]branche!G28-1)-'Graph Hyper 8'!D25)*'Graph Hyper 8'!G26","v":216483.94017338796},{"$f":"G25/[4]branche!P27","v":21.738390955896207},null,null,"2010-03-01",111.89864599998292,116.05078632832563,1.9935985897026498E-2]
["2009-12-01",{"$f":"[4]branche!T28/[4]branche!T29-1","v":1.002749072602005E-2},{"$f":"[4]branche!C28/[4]branche!C29-1","v":6.231691439730902E-3},3.7957992862891476E-3,118.39304796145692,{"$f":"[4]branche!C28/[4]branche!P28","v":44.745951813768357},{"$f":"(1+([4]branche!G28/[4]branche!G29-1)-'Graph Hyper 8'!D26)*'Graph Hyper 8'!G27","v":216253.47707624096},{"$f":"G26/[4]branche!P28","v":21.736420818004099},null,null,"2009-12-01",111.72139781979331,116.04026871218659,1.1187242809111764E-2]
["2009-09-01",{"$f":"[4]branche!T29/[4]branche!T30-1","v":1.6563421340309858E-4},{"$f":"[4]branche!C29/[4]branche!C30-1","v":2.6129541792536681E-3},-2.4473199658505695E-3,117.94535108199874,{"$f":"[4]branche!C29/[4]branche!P29","v":44.454537233347736},{"$f":"(1+([4]branche!G29/[4]branche!G30-1)-'Graph Hyper 8'!D27)*'Graph Hyper 8'!G28","v":215050.51994437323},{"$f":"G27/[4]branche!P29","v":21.608556982382936},null,null,"2009-09-01",110.99379581447307,115.35766535405871,-5.3750401941368153E-3]
["2009-06-01",{"$f":"[4]branche!T30/[4]branche!T31-1","v":-4.7947844613542845E-3},{"$f":"[4]branche!C30/[4]branche!C31-1","v":2.1760467124698479E-4},-5.0123891326012693E-3,118.23470924659446,{"$f":"[4]branche!C30/[4]branche!P30","v":44.241771022368383},{"$f":"(1+([4]branche!G30/[4]branche!G31-1)-'Graph Hyper 8'!D28)*'Graph Hyper 8'!G29","v":213221.0675694533},{"$f":"G28/[4]branche!P30","v":21.377903083994557},null,null,"2009-06-01",110.46256254004489,114.12631541965132,-8.8906207537898796E-3]
["2009-03-01",{"$f":"[4]branche!T31/[4]branche!T32-1","v":-1.7248606321519033E-2},{"$f":"[4]branche!C31/[4]branche!C32-1","v":-1.5331357301645365E-2},-1.917249019873668E-3,118.83033311693316,{"$f":"[4]branche!C31/[4]branche!P31","v":43.94093625498008},{"$f":"(1+([4]branche!G31/[4]branche!G32-1)-'Graph Hyper 8'!D29)*'Graph Hyper 8'!G30","v":212022.74167061644},{"$f":"G29/[4]branche!P31","v":21.117802955240681},null,null,"2009-03-01",109.7114402739392,112.73776626128783,-2.0293464280606299E-2]
["2008-12-01",{"$f":"[4]branche!T32/[4]branche!T33-1","v":-1.232402464804927E-2},{"$f":"[4]branche!C32/[4]branche!C33-1","v":-1.5541331856763985E-2},3.2173072087147148E-3,119.05859809744301,{"$f":"[4]branche!C32/[4]branche!P32","v":44.250906181789453},{"$f":"(1+([4]branche!G32/[4]branche!G33-1)-'Graph Hyper 8'!D30)*'Graph Hyper 8'!G31","v":212919.01613151649},{"$f":"G30/[4]branche!P32","v":21.029246326533251},null,null,"2008-12-01",110.48537114592898,112.26500512561162,-8.9636754884176995E-3]
["2008-09-01",{"$f":"[4]branche!T33/[4]branche!T34-1","v":-2.1595378588978864E-4},{"$f":"[4]branche!C33/[4]branche!C34-1","v":-1.6934243804852533E-3},1.4774705945954647E-3,118.67677844265242,{"$f":"[4]branche!C33/[4]branche!P33","v":44.694773437039657},{"$f":"(1+([4]branche!G33/[4]branche!G34-1)-'Graph Hyper 8'!D31)*'Graph Hyper 8'!G32","v":213827.04901214893},{"$f":"G31/[4]branche!P33","v":20.999258442062825},null,null,"2008-09-01",111.59361598580585,112.10491427159319,8.714675023082652E-4]
["2008-06-01",{"$f":"[4]branche!T34/[4]branche!T35-1","v":-4.5969016882618785E-4},{"$f":"[4]branche!C34/[4]branche!C35-1","v":-5.4192619419022314E-3},4.9595717730760436E-3,118.5016956718875,{"$f":"[4]branche!C34/[4]branche!P34","v":44.638636207858838},{"$f":"(1+([4]branche!G34/[4]branche!G35-1)-'Graph Hyper 8'!D32)*'Graph Hyper 8'!G33","v":213103.1905963062},{"$f":"G32/[4]branche!P34","v":20.866488841962084},null,null,"2008-06-01",111.45345292167184,111.39612140263391,-1.0487286264595497E-3]
["2008-03-01",{"$f":"[4]branche!T35/[4]branche!T36-1","v":1.263319806919716E-2},{"$f":"[4]branche!C35/[4]branche!C36-1","v":6.3693288602393316E-3},6.2638692089578285E-3,117.91687844995786,{"$f":"[4]branche!C35/[4]branche!P35","v":44.851120874389657},{"$f":"(1+([4]branche!G35/[4]branche!G36-1)-'Graph Hyper 8'!D33)*'Graph Hyper 8'!G34","v":212973.86178657395},{"$f":"G33/[4]branche!P35","v":20.83954145293638},null,null,"2008-03-01",111.98398323777501,111.25226228756542,2.502935563672537E-3]
["2007-12-01",{"$f":"[4]branche!T36/[4]branche!T37-1","v":9.1809640522875213E-3},{"$f":"[4]branche!C36/[4]branche!C37-1","v":2.8734430012395951E-3},6.3075210510479263E-3,117.18286033926115,{"$f":"[4]branche!C36/[4]branche!P36","v":44.651144551737659},{"$f":"(1+([4]branche!G36/[4]branche!G37-1)-'Graph Hyper 8'!D34)*'Graph Hyper 8'!G35","v":212298.55955609592},{"$f":"G34/[4]branche!P36","v":20.812564046477714},null,null,"2007-12-01",111.48468367229634,111.10824292389775,-2.1997187949328589E-3]
["2007-09-01",{"$f":"[4]branche!T37/[4]branche!T38-1","v":1.1484564324096613E-2},{"$f":"[4]branche!C37/[4]branche!C38-1","v":4.2144551832712374E-3},7.270109140825376E-3,116.44835985809621,{"$f":"[4]branche!C37/[4]branche!P37","v":44.655857308607494},{"$f":"(1+([4]branche!G37/[4]branche!G38-1)-'Graph Hyper 8'!D35)*'Graph Hyper 8'!G36","v":211293.06597885632},{"$f":"G35/[4]branche!P37","v":20.775704113867604},null,null,"2007-09-01",111.49645045261367,110.9114655187949,1.2990226343294609E-3]
["2007-06-01",{"$f":"[4]branche!T38/[4]branche!T39-1","v":1.172794348180517E-2},{"$f":"[4]branche!C38/[4]branche!C39-1","v":6.0775803577586274E-3},5.6503631240465424E-3,115.60787796773158,{"$f":"[4]branche!C38/[4]branche!P38","v":44.685499170026091},{"$f":"(1+([4]branche!G38/[4]branche!G39-1)-'Graph Hyper 8'!D36)*'Graph Hyper 8'!G37","v":210992.00178768981},{"$f":"G36/[4]branche!P38","v":20.847364021390582},null,null,"2007-06-01",111.57046005700087,111.29402320823608,-2.3855149307813184E-3]
["2007-03-01",{"$f":"[4]branche!T39/[4]branche!T40-1","v":1.2408848711079612E-2},{"$f":"[4]branche!C39/[4]branche!C40-1","v":8.0234469427706845E-3},4.3854017683089275E-3,114.95832170596194,{"$f":"[4]branche!C39/[4]branche!P39","v":44.739141685576655},{"$f":"(1+([4]branche!G39/[4]branche!G40-1)-'Graph Hyper 8'!D37)*'Graph Hyper 8'!G38","v":210371.02562630791},{"$f":"G37/[4]branche!P39","v":20.937440346581063},null,null,"2007-03-01",111.70439433657151,111.77489727058639,9.1820137438292093E-3]
["2006-12-01",{"$f":"[4]branche!T40/[4]branche!T41-1","v":1.5290611860805381E-2},{"$f":"[4]branche!C40/[4]branche!C41-1","v":7.8810096371164651E-3},7.4096022236889159E-3,114.45638447509063,{"$f":"[4]branche!C40/[4]branche!P40","v":44.749581046230425},{"$f":"(1+([4]branche!G40/[4]branche!G41-1)-'Graph Hyper 8'!D38)*'Graph Hyper 8'!G39","v":209790.8319842043},{"$f":"G38/[4]branche!P40","v":21.05213410376048},null,null,"2006-12-01",111.73045926350476,112.38719193096975,1.8331085082759824E-2]
["2006-09-01",{"$f":"[4]branche!T41/[4]branche!T42-1","v":7.8013017326121759E-3},{"$f":"[4]branche!C41/[4]branche!C42-1","v":-1.7851695346127183E-4},7.9798186860734477E-3,113.61454588327054,{"$f":"[4]branche!C41/[4]branche!P41","v":44.597923596411654},{"$f":"(1+([4]branche!G41/[4]branche!G42-1)-'Graph Hyper 8'!D39)*'Graph Hyper 8'!G40","v":208498.14811455179},{"$f":"G39/[4]branche!P41","v":21.01583994703677},null,null,"2006-09-01",111.35180194151826,112.19343493048819,2.4081018412233313E-2]
["2006-06-01",{"$f":"[4]branche!T42/[4]branche!T43-1","v":1.5300536837801193E-2},{"$f":"[4]branche!C42/[4]branche!C43-1","v":1.1272800398535621E-2},4.0277364392655723E-3,112.71509982349637,{"$f":"[4]branche!C42/[4]branche!P42","v":44.792351994493757},{"$f":"(1+([4]branche!G42/[4]branche!G43-1)-'Graph Hyper 8'!D40)*'Graph Hyper 8'!G41","v":207585.68804611877},{"$f":"G40/[4]branche!P42","v":21.011335166666878},null,null,"2006-06-01",111.83724948546596,112.16938608045035,3.4213100685003273E-2]
["2006-03-01",{"$f":"[4]branche!T43/[4]branche!T44-1","v":1.0352601477039203E-2},{"$f":"[4]branche!C43/[4]branche!C44-1","v":6.261511822828858E-3},4.0910896542103448E-3,112.26293431218829,{"$f":"[4]branche!C43/[4]branche!P43","v":44.33208388207882},{"$f":"(1+([4]branche!G43/[4]branche!G44-1)-'Graph Hyper 8'!D41)*'Graph Hyper 8'!G42","v":206274.86792826685},{"$f":"G41/[4]branche!P43","v":20.897058852017715},null,null,"2006-03-01",110.68805509342596,111.55931994443115,2.520305701356107E-2]
["2005-12-01",{"$f":"[4]branche!T44/[4]branche!T45-1","v":1.5108539785896546E-2},{"$f":"[4]branche!C44/[4]branche!C45-1","v":7.9966807979992005E-3},7.1118589878973459E-3,111.80552787382018,{"$f":"[4]branche!C44/[4]branche!P44","v":43.944039126129219},{"$f":"(1+([4]branche!G44/[4]branche!G45-1)-'Graph Hyper 8'!D42)*'Graph Hyper 8'!G43","v":205487.77092431267},{"$f":"G42/[4]branche!P44","v":20.764310636841682},null,null,"2005-12-01",109.71918750219081,110.85064123927235,1.4987996641315116E-2]
["2005-09-01",{"$f":"[4]branche!T45/[4]branche!T46-1","v":8.7633707931611404E-3},{"$f":"[4]branche!C45/[4]branche!C46-1","v":5.1043942987341051E-3},3.6589764944270353E-3,111.01599775240436,{"$f":"[4]branche!C45/[4]branche!P45","v":43.549214168189202},{"$f":"(1+([4]branche!G45/[4]branche!G46-1)-'Graph Hyper 8'!D43)*'Graph Hyper 8'!G44","v":204372.82677705633},{"$f":"G43/[4]branche!P45","v":20.629758322857896},null,null,"2005-09-01",108.73339114727614,110.13233132057624,9.6389062669584025E-3]
["2005-06-01",{"$f":"[4]branche!T46/[4]branche!T47-1","v":7.31768226046281E-3},{"$f":"[4]branche!C46/[4]branche!C47-1","v":2.388986840722529E-3},4.928695419740281E-3,110.61127370191043,{"$f":"[4]branche!C46/[4]branche!P46","v":43.310563330541733},{"$f":"(1+([4]branche!G46/[4]branche!G47-1)-'Graph Hyper 8'!D44)*'Graph Hyper 8'!G45","v":202983.69589689784},{"$f":"G44/[4]branche!P46","v":20.48126730673896},null,null,"2005-06-01",108.13752930744293,109.3396093928928,5.5529486995238297E-3]
["2005-03-01",{"$f":"[4]branche!T47/[4]branche!T48-1","v":6.1408948095147409E-3},{"$f":"[4]branche!C47/[4]branche!C48-1","v":-4.3417265599288157E-4},6.5750674655076224E-3,110.0687782188468,{"$f":"[4]branche!C47/[4]branche!P47","v":43.242247063932055},{"$f":"(1+([4]branche!G47/[4]branche!G48-1)-'Graph Hyper 8'!D45)*'Graph Hyper 8'!G46","v":202080.9757736279},{"$f":"G45/[4]branche!P47","v":20.406654323934674},null,null,"2005-03-01",107.96695770286004,108.94128665859719,7.958864130255705E-3]
["2004-12-01",{"$f":"[4]branche!T48/[4]branche!T49-1","v":1.2314017958817924E-2},{"$f":"[4]branche!C48/[4]branche!C49-1","v":5.6692003962570681E-3},6.6448175625608563E-3,109.34979593324621,{"$f":"[4]branche!C48/[4]branche!P48","v":43.295131835592073},{"$f":"(1+([4]branche!G48/[4]branche!G49-1)-'Graph Hyper 8'!D46)*'Graph Hyper 8'!G47","v":201649.35964278047},{"$f":"G46/[4]branche!P48","v":20.379120520953268},null,null,"2004-12-01",108.09900005247479,108.79429696220778,1.2790468142448885E-2]
["2004-09-01",{"$f":"[4]branche!T49/[4]branche!T50-1","v":8.3437257347231952E-3},{"$f":"[4]branche!C49/[4]branche!C50-1","v":4.7882327411334913E-3},3.5554929935897039E-3,108.6279828053159,{"$f":"[4]branche!C49/[4]branche!P49","v":43.133454840016199},{"$f":"(1+([4]branche!G49/[4]branche!G50-1)-'Graph Hyper 8'!D47)*'Graph Hyper 8'!G48","v":201265.49097116312},{"$f":"G47/[4]branche!P49","v":20.379251819680348},null,null,"2004-09-01",107.69532599462443,108.79499790279499,1.5483883460970516E-2]
["2004-06-01",{"$f":"[4]branche!T50/[4]branche!T51-1","v":9.8708285412845154E-3},{"$f":"[4]branche!C50/[4]branche!C51-1","v":7.4664816284628621E-3},2.4043469128216532E-3,108.24312513230373,{"$f":"[4]branche!C50/[4]branche!P50","v":43.071390110839062},{"$f":"(1+([4]branche!G50/[4]branche!G51-1)-'Graph Hyper 8'!D48)*'Graph Hyper 8'!G49","v":200474.59737072946},{"$f":"G48/[4]branche!P50","v":20.367018253469887},null,null,"2004-06-01",107.5403631875344,108.72968879223551,1.914613578059754E-2]
["2004-03-01",{"$f":"[4]branche!T51/[4]branche!T52-1","v":1.0451807156594661E-2},{"$f":"[4]branche!C51/[4]branche!C52-1","v":7.2525515577428479E-3},3.1992555988518134E-3,107.98349534862658,{"$f":"[4]branche!C51/[4]branche!P51","v":42.900805382811704},{"$f":"(1+([4]branche!G51/[4]branche!G52-1)-'Graph Hyper 8'!D49)*'Graph Hyper 8'!G50","v":199450.57487604523},{"$f":"G49/[4]branche!P51","v":20.33342592272864},null,null,"2004-03-01",107.11444836195992,108.5503555377627,1.4972158071889563E-2]
["2003-12-01",{"$f":"[4]branche!T52/[4]branche!T53-1","v":1.2722157514510668E-2},{"$f":"[4]branche!C52/[4]branche!C53-1","v":1.0045233772293605E-2},2.6769237422170633E-3,107.63913025849156,{"$f":"[4]branche!C52/[4]branche!P52","v":42.748360295095722},{"$f":"(1+([4]branche!G52/[4]branche!G53-1)-'Graph Hyper 8'!D50)*'Graph Hyper 8'!G51","v":197772.92824672823},{"$f":"G50/[4]branche!P52","v":20.236458058009049},null,null,"2003-12-01",106.73382447085855,108.03269086919923,1.0928229209943519E-2]
["2003-09-01",{"$f":"[4]branche!T53/[4]branche!T54-1","v":1.220301604999352E-2},{"$f":"[4]branche!C53/[4]branche!C54-1","v":6.6341691348079657E-3},5.5688469151855546E-3,107.35175778929666,{"$f":"[4]branche!C53/[4]branche!P53","v":42.475765044156908},{"$f":"(1+([4]branche!G53/[4]branche!G54-1)-'Graph Hyper 8'!D51)*'Graph Hyper 8'!G52","v":197028.40767993088},{"$f":"G51/[4]branche!P53","v":20.232943898123935},null,null,"2003-09-01",106.05321044345618,108.01393046421902,3.6369273924241607E-3]
["2003-06-01",{"$f":"[4]branche!T54/[4]branche!T55-1","v":4.9941376393238812E-3},{"$f":"[4]branche!C54/[4]branche!C55-1","v":-1.2168173897819656E-5},5.0063058132217009E-3,106.75724304568796,{"$f":"[4]branche!C54/[4]branche!P54","v":42.262231684614356},{"$f":"(1+([4]branche!G54/[4]branche!G55-1)-'Graph Hyper 8'!D52)*'Graph Hyper 8'!G53","v":196253.87293297381},{"$f":"G52/[4]branche!P54","v":20.185120690031965},null,null,"2003-06-01",105.52006175754735,107.75862541817968,2.7712294412161054E-3]
["2003-03-01",{"$f":"[4]branche!T55/[4]branche!T56-1","v":4.1080919974170182E-3},{"$f":"[4]branche!C55/[4]branche!C56-1","v":5.110894236137753E-5},4.0569830550556407E-3,106.22544597797635,{"$f":"[4]branche!C55/[4]branche!P55","v":42.267962762948102},{"$f":"(1+([4]branche!G55/[4]branche!G56-1)-'Graph Hyper 8'!D53)*'Graph Hyper 8'!G54","v":195891.72683750151},{"$f":"G53/[4]branche!P55","v":20.15036021575904},null,null,"2003-03-01",105.53437107618976,107.57305600870946,1.5311611286228155E-2]
["2002-12-01",{"$f":"[4]branche!T56/[4]branche!T57-1","v":4.2177043815738724E-3},{"$f":"[4]branche!C56/[4]branche!C57-1","v":-1.6425188853225192E-3},5.8602232668963916E-3,105.7962324556152,{"$f":"[4]branche!C56/[4]branche!P56","v":42.286246500905648},{"$f":"(1+([4]branche!G56/[4]branche!G57-1)-'Graph Hyper 8'!D54)*'Graph Hyper 8'!G55","v":195533.38783498132},{"$f":"G54/[4]branche!P56","v":20.123228617958723},null,null,"2002-12-01",105.58002179271691,107.42821349182499,3.1305302644273558E-2]
["2002-09-01",{"$f":"[4]branche!T57/[4]branche!T58-1","v":7.8606945163675057E-3},{"$f":"[4]branche!C57/[4]branche!C58-1","v":2.0012611353625864E-3},5.8594333810049193E-3,105.17985502200646,{"$f":"[4]branche!C57/[4]branche!P57","v":42.32184357197211},{"$f":"(1+([4]branche!G57/[4]branche!G58-1)-'Graph Hyper 8'!D55)*'Graph Hyper 8'!G56","v":195384.02592163158},{"$f":"G55/[4]branche!P57","v":20.09172880340904},null,null,"2002-09-01",105.66890032533563,107.26005117221708,3.2847393164822769E-2]
["2002-06-01",{"$f":"[4]branche!T58/[4]branche!T59-1","v":9.4985776241629516E-3},{"$f":"[4]branche!C58/[4]branche!C59-1","v":5.2103217722436757E-3},4.2882558519192759E-3,104.56715076823848,{"$f":"[4]branche!C58/[4]branche!P58","v":42.145437008762755},{"$f":"(1+([4]branche!G58/[4]branche!G59-1)-'Graph Hyper 8'!D56)*'Graph Hyper 8'!G57","v":195178.85789643676},{"$f":"G56/[4]branche!P58","v":20.026971402700319},null,null,"2002-06-01",105.22844958001768,106.91434263803565,3.3465584572050844E-2]
["2002-03-01",{"$f":"[4]branche!T59/[4]branche!T60-1","v":1.1496996765747669E-2},{"$f":"[4]branche!C59/[4]branche!C60-1","v":6.5351427114561655E-3},4.9618540542915035E-3,104.12065476115329,{"$f":"[4]branche!C59/[4]branche!P59","v":41.630532235716032},{"$f":"(1+([4]branche!G59/[4]branche!G60-1)-'Graph Hyper 8'!D57)*'Graph Hyper 8'!G58","v":193565.93965205643},{"$f":"G57/[4]branche!P59","v":19.721038761518503},null,null,"2002-03-01",103.94283873351507,105.2811157978025,2.0407802672685715E-2]
["2001-12-01",{"$f":"[4]branche!T60/[4]branche!T61-1","v":3.5626241315620533E-3},{"$f":"[4]branche!C60/[4]branche!C61-1","v":-1.9176916892651441E-3},5.4803158208271974E-3,103.60657406159451,{"$f":"[4]branche!C60/[4]branche!P60","v":41.00264625080802},{"$f":"(1+([4]branche!G60/[4]branche!G61-1)-'Graph Hyper 8'!D58)*'Graph Hyper 8'!G59","v":192605.27818486452},{"$f":"G58/[4]branche!P60","v":19.453506603998115},null,null,"2001-12-01",102.37513714126072,103.85289062182952,1.0107777441210386E-2]
["2001-09-01",{"$f":"[4]branche!T61/[4]branche!T62-1","v":7.9269052614088231E-3},{"$f":"[4]branche!C61/[4]branche!C62-1","v":3.0183840301838405E-3},4.9085212312249826E-3,103.04187205993679,{"$f":"[4]branche!C61/[4]branche!P61","v":40.975892326445909},{"$f":"(1+([4]branche!G61/[4]branche!G62-1)-'Graph Hyper 8'!D59)*'Graph Hyper 8'!G60","v":191885.37611119065},{"$f":"G59/[4]branche!P61","v":19.331007133694396},null,null,"2001-09-01",102.308338119098,103.19892502325359,1.2777174902436794E-2]
["2001-06-01",{"$f":"[4]branche!T62/[4]branche!T63-1","v":6.0996476049413051E-3},{"$f":"[4]branche!C62/[4]branche!C63-1","v":-2.3175028167521372E-4},6.3313978866165188E-3,102.53855936427802,{"$f":"[4]branche!C62/[4]branche!P62","v":40.780687463545128},{"$f":"(1+([4]branche!G62/[4]branche!G63-1)-'Graph Hyper 8'!D60)*'Graph Hyper 8'!G61","v":190713.62084744245},{"$f":"G60/[4]branche!P62","v":19.179148901571075},null,null,"2001-06-01",101.82095190290433,102.38822715310783,1.0111236346271424E-2]
["2001-03-01",{"$f":"[4]branche!T63/[4]branche!T64-1","v":1.109323867103007E-2},{"$f":"[4]branche!C63/[4]branche!C64-1","v":6.6138222681066949E-3},4.4794164029233752E-3,101.89343150737214,{"$f":"[4]branche!C63/[4]branche!P63","v":40.797936008207685},{"$f":"(1+([4]branche!G63/[4]branche!G64-1)-'Graph Hyper 8'!D61)*'Graph Hyper 8'!G62","v":189167.90499661359},{"$f":"G61/[4]branche!P63","v":19.02733934123393},null,null,"2001-03-01",101.86401795562968,101.5777891181573,1.864017955629671E-2]
["2000-12-01",{"$f":"[4]branche!T64/[4]branche!T65-1","v":1.287058785761297E-2},{"$f":"[4]branche!C64/[4]branche!C65-1","v":8.5500891051439876E-3},4.320498752468982E-3,101.43904379071913,{"$f":"[4]branche!C64/[4]branche!P64","v":40.592347833094912},{"$f":"(1+([4]branche!G64/[4]branche!G65-1)-'Graph Hyper 8'!D62)*'Graph Hyper 8'!G63","v":189164.38498432213},{"$f":"G62/[4]branche!P64","v":19.056311827244183},null,null,"2000-12-01",101.3507067538831,101.73245924945624,{"$error":"#DIV/0!"}]
["2000-09-01",{"$f":"[4]branche!T65/[4]branche!T66-1","v":1.2144170392052178E-2},{"$f":"[4]branche!C65/[4]branche!C66-1","v":6.2790434092712122E-3},5.865126982780966E-3,101.00266191591537,{"$f":"[4]branche!C65/[4]branche!P65","v":40.458941356368165},{"$f":"(1+([4]branche!G65/[4]branche!G66-1)-'Graph Hyper 8'!D63)*'Graph Hyper 8'!G64","v":187301.18412521528},{"$f":"G63/[4]branche!P65","v":18.967400593951865},null,null,"2000-09-01",101.0176183413233,101.25780505090361,{"$error":"#DIV/0!"}]
["2000-06-01",{"$f":"[4]branche!T66/[4]branche!T67-1","v":1.2554354680397228E-2},{"$f":"[4]branche!C66/[4]branche!C67-1","v":8.4171278646554271E-3},4.1372268157418013E-3,{"$f":"E65*(1+D64)","v":100.41372268157419},{"$f":"[4]branche!C66/[4]branche!P66","v":40.372471858698638},{"$f":"(1+([4]branche!G66/[4]branche!G67-1)-'Graph Hyper 8'!D64)*'Graph Hyper 8'!G65","v":185579.16691692252},{"$f":"G64/[4]branche!P66","v":18.870602576382918},null,null,"2000-06-01",{"$f":"L65*F64/F65","v":100.801721868976},{"$f":"M65*H64/H65","v":100.7410471143714},{"$error":"#DIV/0!"}]
["2000-03-01",{"$f":"[4]branche!T67/[4]branche!T68-1","v":1.8326493006114442E-2},{"$f":"[4]branche!C67/[4]branche!C68-1","v":1.1132911815011415E-2},7.1935811911030267E-3,100,{"$f":"[4]branche!C67/[4]branche!P67","v":40.051371256510421},184141,{"$f":"G65/[4]branche!P67","v":18.731791178385418},null,null,"2000-03-01",100,100,{"$error":"#DIV/0!"}]
["1999-12-01",{"$f":"[4]branche!T68/[4]branche!T69-1","v":1.2872647885571409E-2},{"$f":"[4]branche!C68/[4]branche!C69-1","v":1.2459892770038117E-2},4.1275511553329203E-4,null,{"$f":"[4]branche!C68/[4]branche!P68","v":39.591463228640279},null,{"$f":"G66/[4]branche!P68","v":0}]
["1999-09-01",{"$f":"[4]branche!T69/[4]branche!T70-1","v":1.2747481863979226E-2},{"$f":"[4]branche!C69/[4]branche!C70-1","v":1.0759526938239228E-2},{"$f":"B67-C67","v":1.9879549257399987E-3},null,{"$f":"[4]branche!C69/[4]branche!P69","v":39.164358452138494},null,{"$f":"G67/[4]branche!P69","v":0}]
["1999-06-01",{"$f":"[4]branche!T70/[4]branche!T71-1","v":9.229017209385626E-3},{"$f":"[4]branche!C70/[4]branche!C71-1","v":8.3263108242039863E-3},9.027063851816397E-4,null,{"$f":"[4]branche!C70/[4]branche!P70","v":38.811877148423548},null,{"$f":"G68/[4]branche!P70","v":0}]
["1999-03-01",{"$f":"[4]branche!T71/[4]branche!T72-1","v":5.8348620652561856E-3},{"$f":"[4]branche!C71/[4]branche!C72-1","v":6.0090001706194496E-3},-1.7413810536326402E-4,null,{"$f":"[4]branche!C71/[4]branche!P71","v":38.727614199653118},null,{"$f":"G69/[4]branche!P71","v":0}]
["1998-12-01",{"$f":"[4]branche!T72/[4]branche!T73-1","v":6.7700070831895331E-3},{"$f":"[4]branche!C72/[4]branche!C73-1","v":7.9078678313955209E-3},-1.1378607482059877E-3,null,{"$f":"[4]branche!C72/[4]branche!P72","v":38.651389003379776},null,{"$f":"G70/[4]branche!P72","v":0}]
["1998-09-01",{"$f":"[4]branche!T73/[4]branche!T74-1","v":7.0179471988633946E-3},{"$f":"[4]branche!C73/[4]branche!C74-1","v":7.0871511221999306E-3},-6.9203923336536022E-5,null,{"$f":"[4]branche!C73/[4]branche!P73","v":38.386108589817638},null,{"$f":"G71/[4]branche!P73","v":0}]
["1998-06-01",{"$f":"[4]branche!T74/[4]branche!T75-1","v":1.49821249607347E-2},{"$f":"[4]branche!C74/[4]branche!C75-1","v":1.0552855888843693E-2},4.4292690718910066E-3,null,{"$f":"[4]branche!C74/[4]branche!P74","v":38.290143092497225},null,{"$f":"G72/[4]branche!P74","v":0}]
["1998-03-01",{"$f":"[4]branche!T75/[4]branche!T76-1","v":1.0236401332213152E-2},{"$f":"[4]branche!C75/[4]branche!C76-1","v":9.2010741025916332E-3},1.0353272296215188E-3,null,{"$f":"[4]branche!C75/[4]branche!P75","v":38.021481003971807},null,{"$f":"G73/[4]branche!P75","v":0}]
["1997-12-01",{"$f":"[4]branche!T76/[4]branche!T77-1","v":1.2971427346842646E-2},{"$f":"[4]branche!C76/[4]branche!C77-1","v":9.8800459303687305E-3},3.0913814164739151E-3,null,{"$f":"[4]branche!C76/[4]branche!P76","v":37.767899021273493},null,{"$f":"G74/[4]branche!P76","v":0}]
["1997-09-01",{"$f":"[4]branche!T77/[4]branche!T78-1","v":1.0427815757725778E-2},{"$f":"[4]branche!C77/[4]branche!C78-1","v":7.5254686569845575E-3},2.9023471007412205E-3,null,{"$f":"[4]branche!C77/[4]branche!P77","v":37.467915583262851},null,{"$f":"G75/[4]branche!P77","v":0}]
["1997-06-01",{"$f":"[4]branche!T78/[4]branche!T79-1","v":1.3763755131224409E-2},{"$f":"[4]branche!C78/[4]branche!C79-1","v":1.0676520169598414E-2},3.0872349616259953E-3,null,{"$f":"[4]branche!C78/[4]branche!P78","v":37.192330186314642},null,{"$f":"G76/[4]branche!P78","v":0}]
["1997-03-01",{"$f":"[4]branche!T79/[4]branche!T80-1","v":7.0837991649770338E-3},{"$f":"[4]branche!C79/[4]branche!C80-1","v":4.0004786897578359E-3},3.0833204752191978E-3,null,{"$f":"[4]branche!C79/[4]branche!P79","v":36.825977446359332},null,{"$f":"G77/[4]branche!P79","v":0}]
["1996-12-01",{"$f":"[4]branche!T80/[4]branche!T81-1","v":1.5689152342934776E-3},{"$f":"[4]branche!C80/[4]branche!C81-1","v":1.5753154911730682E-3},-6.4002568795906711E-6,null,{"$f":"[4]branche!C80/[4]branche!P80","v":36.698803747699515},null,{"$f":"G78/[4]branche!P80","v":0}]
["1996-09-01",{"$f":"[4]branche!T81/[4]branche!T82-1","v":6.7703556506675255E-3},{"$f":"[4]branche!C81/[4]branche!C82-1","v":3.674922591751395E-3},3.0954330589161305E-3,null,{"$f":"[4]branche!C81/[4]branche!P81","v":36.640699340185925},null,{"$f":"G79/[4]branche!P81","v":0}]
["1996-06-01",{"$f":"[4]branche!T82/[4]branche!T83-1","v":4.6068796068796658E-3},{"$f":"[4]branche!C82/[4]branche!C83-1","v":3.0569529878554658E-3},1.5499266190242E-3,null,{"$f":"[4]branche!C82/[4]branche!P82","v":36.538252223966509},null,{"$f":"G80/[4]branche!P82","v":0}]
["1996-03-01",{"$f":"[4]branche!T83/[4]branche!T84-1","v":1.2552599440882828E-2},{"$f":"[4]branche!C83/[4]branche!C84-1","v":5.4249077794563672E-3},7.1276916614264607E-3,null,{"$f":"[4]branche!C83/[4]branche!P83","v":36.452457505524549},null,{"$f":"G81/[4]branche!P83","v":0}]
["1995-12-01",{"$f":"[4]branche!T84/[4]branche!T85-1","v":4.4773448303911945E-3},{"$f":"[4]branche!C84/[4]branche!C85-1","v":2.7314490293652849E-3},1.7458958010259096E-3,null,{"$f":"[4]branche!C84/[4]branche!P84","v":36.328824338080196},null,{"$f":"G82/[4]branche!P84","v":0}]
["1995-09-01",{"$f":"[4]branche!T85/[4]branche!T86-1","v":4.2644271616234519E-3},{"$f":"[4]branche!C85/[4]branche!C86-1","v":2.3051642647280435E-3},1.9592628968954084E-3,null,{"$f":"[4]branche!C85/[4]branche!P85","v":36.256878806973326},null,{"$f":"G83/[4]branche!P85","v":0}]
["1995-06-01",{"$f":"[4]branche!T86/[4]branche!T87-1","v":8.8083653098092185E-3},{"$f":"[4]branche!C86/[4]branche!C87-1","v":4.4266109889596894E-3},4.3817543208495291E-3,null,{"$f":"[4]branche!C86/[4]branche!P86","v":36.183753007048843},null,{"$f":"G84/[4]branche!P86","v":0}]
["1995-03-01",{"$f":"[4]branche!T87/[4]branche!T88-1","v":6.4932264068933154E-3},{"$f":"[4]branche!C87/[4]branche!C88-1","v":5.6392465755432664E-3},8.5397983135004907E-4,null,{"$f":"[4]branche!C87/[4]branche!P87","v":35.986861436426977},null,{"$f":"G85/[4]branche!P87","v":0}]
["1994-12-01",{"$f":"[4]branche!T88/[4]branche!T89-1","v":1.2551443785590699E-2},{"$f":"[4]branche!C88/[4]branche!C89-1","v":9.2518875211984319E-3},3.2995562643922671E-3,null,{"$f":"[4]branche!C88/[4]branche!P88","v":35.727322255516206},null,{"$f":"G86/[4]branche!P88","v":0}]
["1994-09-01",{"$f":"[4]branche!T89/[4]branche!T90-1","v":7.9612873513397187E-3},{"$f":"[4]branche!C89/[4]branche!C90-1","v":6.3170874087135065E-3},1.6441999426262122E-3,null,{"$f":"[4]branche!C89/[4]branche!P89","v":35.417990083545604},null,{"$f":"G87/[4]branche!P89","v":0}]
["1994-06-01",{"$f":"[4]branche!T90/[4]branche!T91-1","v":1.4406925217271827E-2},{"$f":"[4]branche!C90/[4]branche!C91-1","v":1.1057443297479042E-2},3.349481919792785E-3,null,{"$f":"[4]branche!C90/[4]branche!P90","v":35.248123458086191},null,{"$f":"G88/[4]branche!P90","v":0}]
["1994-03-01",{"$f":"[4]branche!T91/[4]branche!T92-1","v":6.9944100066414716E-3},{"$f":"[4]branche!C91/[4]branche!C92-1","v":4.1972083121657455E-3},2.7972016944757261E-3,null,{"$f":"[4]branche!C91/[4]branche!P91","v":34.930104868992643},null,{"$f":"G89/[4]branche!P91","v":0}]
["1993-12-01",{"$f":"[4]branche!T92/[4]branche!T93-1","v":4.8489188127622818E-3},{"$f":"[4]branche!C92/[4]branche!C93-1","v":2.6617625707792136E-4},4.5827425556843604E-3,null,{"$f":"[4]branche!C92/[4]branche!P92","v":34.797285210711841},null,{"$f":"G90/[4]branche!P92","v":0}]
["1993-09-01",{"$f":"[4]branche!T93/[4]branche!T94-1","v":4.8479768079494612E-3},{"$f":"[4]branche!C93/[4]branche!C94-1","v":3.1647778131780324E-3},1.6831989947714288E-3,null,{"$f":"[4]branche!C93/[4]branche!P93","v":34.760592997581746},null,{"$f":"G91/[4]branche!P93","v":0}]
["1993-06-01",{"$f":"[4]branche!T94/[4]branche!T95-1","v":4.1174056837032236E-3},{"$f":"[4]branche!C94/[4]branche!C95-1","v":8.1081573529151463E-4},3.3065899484117089E-3,null,{"$f":"[4]branche!C94/[4]branche!P94","v":34.55320353536942},null,{"$f":"G92/[4]branche!P94","v":0}]
["1993-03-01",{"$f":"[4]branche!T95/[4]branche!T96-1","v":1.387249943807678E-3},{"$f":"[4]branche!C95/[4]branche!C96-1","v":-5.5175537938845221E-3},6.9048037376922E-3,null,{"$f":"[4]branche!C95/[4]branche!P95","v":34.327620715536654},null,{"$f":"G93/[4]branche!P95","v":0}]
["1992-12-01",{"$f":"[4]branche!T96/[4]branche!T97-1","v":-9.8327035720768841E-5},{"$f":"[4]branche!C96/[4]branche!C97-1","v":-2.5574291962623397E-3},2.4591021605415708E-3,null,{"$f":"[4]branche!C96/[4]branche!P96","v":34.264471532937357},null,{"$f":"G94/[4]branche!P96","v":0}]
["1992-09-01",{"$f":"[4]branche!T97/[4]branche!T98-1","v":3.5664946855000768E-3},{"$f":"[4]branche!C97/[4]branche!C98-1","v":-1.4077643619037072E-3},4.974259047403784E-3,null,{"$f":"[4]branche!C97/[4]branche!P97","v":34.129125115657452},null,{"$f":"G95/[4]branche!P97","v":0}]
["1992-06-01",{"$f":"[4]branche!T98/[4]branche!T99-1","v":2.1331600435108289E-3},{"$f":"[4]branche!C98/[4]branche!C99-1","v":9.9665473290566631E-4},1.1365053106051626E-3,null,{"$f":"[4]branche!C98/[4]branche!P98","v":34.051911336911544},null,{"$f":"G96/[4]branche!P98","v":0}]
["1992-03-01",{"$f":"[4]branche!T99/[4]branche!T100-1","v":1.5136631221184027E-2},{"$f":"[4]branche!C99/[4]branche!C100-1","v":9.3546847884558026E-3},5.7819464327282244E-3,null,{"$f":"[4]branche!C99/[4]branche!P99","v":33.932851756868601},null,{"$f":"G97/[4]branche!P99","v":0}]
["1991-12-01",{"$f":"[4]branche!T100/[4]branche!T101-1","v":1.102270873733624E-2},{"$f":"[4]branche!C100/[4]branche!C101-1","v":6.5588013056419037E-3},4.4639074316943361E-3,null,{"$f":"[4]branche!C100/[4]branche!P100","v":33.552541681537754},null,{"$f":"G98/[4]branche!P100","v":0}]
["1991-09-01",{"$f":"[4]branche!T101/[4]branche!T102-1","v":8.8051280363614648E-3},{"$f":"[4]branche!C101/[4]branche!C102-1","v":3.9125961641817142E-3},4.8925318721797506E-3,null,{"$f":"[4]branche!C101/[4]branche!P101","v":33.273854359642513},null,{"$f":"G99/[4]branche!P101","v":0}]
["1991-06-01",{"$f":"[4]branche!T102/[4]branche!T103-1","v":1.4139818440726204E-2},{"$f":"[4]branche!C102/[4]branche!C103-1","v":7.6904032432767444E-3},6.4494151974494596E-3,null,{"$f":"[4]branche!C102/[4]branche!P102","v":33.084903168119652},null,{"$f":"G100/[4]branche!P102","v":0}]
["1991-03-01",{"$f":"[4]branche!T103/[4]branche!T104-1","v":9.0780502772809246E-3},{"$f":"[4]branche!C103/[4]branche!C104-1","v":-3.6813725641837713E-4},9.4461875336993018E-3,null,{"$f":"[4]branche!C103/[4]branche!P103","v":32.779784125953576},null,{"$f":"G101/[4]branche!P103","v":0}]
["1990-12-01",{"$f":"[4]branche!T104/[4]branche!T105-1","v":4.8052338697548436E-3},{"$f":"[4]branche!C104/[4]branche!C105-1","v":-2.8762115654634712E-4},5.0928550263011907E-3,null,{"$f":"[4]branche!C104/[4]branche!P104","v":32.865203952987109},null,{"$f":"G102/[4]branche!P104","v":0}]
["1990-09-01",{"$f":"[4]branche!T105/[4]branche!T106-1","v":5.4666293655534215E-3},{"$f":"[4]branche!C105/[4]branche!C106-1","v":2.8845080207933194E-3},2.5821213447601021E-3,null,{"$f":"[4]branche!C105/[4]branche!P105","v":32.829931972789119},null,{"$f":"G103/[4]branche!P105","v":0}]
["1990-06-01",{"$f":"[4]branche!T106/[4]branche!T107-1","v":1.2730245148149466E-2},{"$f":"[4]branche!C106/[4]branche!C107-1","v":4.0484316998430359E-3},8.6818134483064302E-3,null,{"$f":"[4]branche!C106/[4]branche!P106","v":32.72919225654509},null,{"$f":"G104/[4]branche!P106","v":0}]
["1990-03-01",{"$f":"[4]branche!T107/[4]branche!T108-1","v":1.3617665321328687E-2},{"$f":"[4]branche!C107/[4]branche!C108-1","v":1.1338154148504698E-2},2.2795111728239892E-3,null,{"$f":"[4]branche!C107/[4]branche!P107","v":32.5222816399287},null,{"$f":"G105/[4]branche!P107","v":0}]
["1989-12-01",{"$f":"[4]branche!T108/[4]branche!T109-1","v":2.0890862773219387E-2},{"$f":"[4]branche!C108/[4]branche!C109-1","v":8.9066407379516654E-3},1.1984222035267722E-2,null,{"$f":"[4]branche!C108/[4]branche!P108","v":32.343737266726428},null,{"$f":"G106/[4]branche!P108","v":0}]
["1989-09-01",{"$f":"[4]branche!T109/[4]branche!T110-1","v":1.8271084969218698E-2},{"$f":"[4]branche!C109/[4]branche!C110-1","v":1.0298522316140257E-2},7.972562653078441E-3,null,{"$f":"[4]branche!C109/[4]branche!P109","v":32.112507908001874},null,{"$f":"G107/[4]branche!P109","v":0}]
["1989-06-01",{"$f":"[4]branche!T110/[4]branche!T111-1","v":1.5202771884701427E-2},{"$f":"[4]branche!C110/[4]branche!C111-1","v":1.0408962931246935E-2},4.7938089534544925E-3,null,{"$f":"[4]branche!C110/[4]branche!P110","v":31.843980331421676},null,{"$f":"G108/[4]branche!P110","v":0}]
["1989-03-01",{"$f":"[4]branche!T111/[4]branche!T112-1","v":2.0231986762714982E-2},{"$f":"[4]branche!C111/[4]branche!C112-1","v":1.6844500882299496E-2},3.3874858804154862E-3,null,{"$f":"[4]branche!C111/[4]branche!P111","v":31.567565353621198},null,{"$f":"G109/[4]branche!P111","v":0}]
["1988-12-01",{"$f":"[4]branche!T112/[4]branche!T113-1","v":2.1481832422073355E-2},{"$f":"[4]branche!C112/[4]branche!C113-1","v":9.1231643833793452E-3},1.235866803869401E-2,null,{"$f":"[4]branche!C112/[4]branche!P112","v":31.090157714473229},null,{"$f":"G110/[4]branche!P112","v":0}]
["1988-09-01",{"$f":"[4]branche!T113/[4]branche!T114-1","v":2.1481139149997386E-2},{"$f":"[4]branche!C113/[4]branche!C114-1","v":1.186170105280171E-2},9.6194380971956761E-3,null,{"$f":"[4]branche!C113/[4]branche!P113","v":30.874301216705028},null,{"$f":"G111/[4]branche!P113","v":0}]
["1988-06-01",{"$f":"[4]branche!T114/[4]branche!T115-1","v":1.7365346486345024E-2},{"$f":"[4]branche!C114/[4]branche!C115-1","v":7.5227770143024841E-3},9.8425694720425394E-3,null,{"$f":"[4]branche!C114/[4]branche!P114","v":30.599159074982481},null,{"$f":"G112/[4]branche!P114","v":0}]
["1988-03-01",{"$f":"[4]branche!T115/[4]branche!T116-1","v":2.0357454820299603E-2},{"$f":"[4]branche!C115/[4]branche!C116-1","v":1.305571883797918E-2},7.3017359823204231E-3,null,{"$f":"[4]branche!C115/[4]branche!P115","v":30.477160615117324},null,{"$f":"G113/[4]branche!P115","v":0}]
["1987-12-01",{"$f":"[4]branche!T116/[4]branche!T117-1","v":2.1795429110517128E-2},{"$f":"[4]branche!C116/[4]branche!C117-1","v":1.2791009389589547E-2},9.0044197209275811E-3,null,{"$f":"[4]branche!C116/[4]branche!P116","v":30.212175972083752},null,{"$f":"G114/[4]branche!P116","v":0}]
["1987-09-01",{"$f":"[4]branche!T117/[4]branche!T118-1","v":1.4854064100097153E-2},{"$f":"[4]branche!C117/[4]branche!C118-1","v":6.5248395947730131E-3},8.3292245053241398E-3,null,{"$f":"[4]branche!C117/[4]branche!P117","v":29.961300955480453},null,{"$f":"G115/[4]branche!P117","v":0}]
["1987-06-01",{"$f":"[4]branche!T118/[4]branche!T119-1","v":1.6288431636283907E-2},{"$f":"[4]branche!C118/[4]branche!C119-1","v":1.1663316565100112E-2},4.6251150711837941E-3,null,{"$f":"[4]branche!C118/[4]branche!P118","v":29.89461444180224},null,{"$f":"G116/[4]branche!P118","v":0}]
["1987-03-01",{"$f":"[4]branche!T119/[4]branche!T120-1","v":5.8675366421185871E-3},{"$f":"[4]branche!C119/[4]branche!C120-1","v":1.3560573519961761E-3},4.511479290122411E-3,null,{"$f":"[4]branche!C119/[4]branche!P119","v":29.678054015381861},null,{"$f":"G117/[4]branche!P119","v":0}]
["1986-12-01",{"$f":"[4]branche!T120/[4]branche!T121-1","v":7.3752229240873213E-3},{"$f":"[4]branche!C120/[4]branche!C121-1","v":9.0604169923680367E-4},6.4691812248505176E-3,null,{"$f":"[4]branche!C120/[4]branche!P120","v":29.772871395958401},null,{"$f":"G118/[4]branche!P120","v":0}]
["1986-09-01",{"$f":"[4]branche!T121/[4]branche!T122-1","v":1.7471822813194704E-2},{"$f":"[4]branche!C121/[4]branche!C122-1","v":4.4038399771599845E-3},1.3067982836034719E-2,null,{"$f":"[4]branche!C121/[4]branche!P121","v":29.859848283910669},null,{"$f":"G119/[4]branche!P121","v":0}]
["1986-06-01",{"$f":"[4]branche!T122/[4]branche!T123-1","v":2.0617521882277279E-2},{"$f":"[4]branche!C122/[4]branche!C123-1","v":9.9368181277550427E-3},1.0680703754522236E-2,null,{"$f":"[4]branche!C122/[4]branche!P122","v":29.817187366987316},null,{"$f":"G120/[4]branche!P122","v":0}]
["1986-03-01",{"$f":"[4]branche!T123/[4]branche!T124-1","v":2.0037474274831935E-2},{"$f":"[4]branche!C123/[4]branche!C124-1","v":2.2178955999696548E-3},1.781957867486228E-2,null,{"$f":"[4]branche!C123/[4]branche!P123","v":29.590567808540591},null,{"$f":"G121/[4]branche!P123","v":0}]
["1985-12-01",{"$f":"[4]branche!T124/[4]branche!T125-1","v":1.6707959442859854E-2},{"$f":"[4]branche!C124/[4]branche!C125-1","v":3.1052749817017666E-3},1.3602684461158088E-2,null,{"$f":"[4]branche!C124/[4]branche!P124","v":29.572708918633097},null,{"$f":"G122/[4]branche!P124","v":0}]
["1985-09-01",{"$f":"[4]branche!T125/[4]branche!T126-1","v":1.7487369056571778E-2},{"$f":"[4]branche!C125/[4]branche!C126-1","v":6.2420242826410899E-3},1.1245344773930688E-2,null,{"$f":"[4]branche!C125/[4]branche!P125","v":29.451274170828533},null,{"$f":"G123/[4]branche!P125","v":0}]
["1985-06-01",{"$f":"[4]branche!T126/[4]branche!T127-1","v":2.2051659557884351E-2},{"$f":"[4]branche!C126/[4]branche!C127-1","v":8.4382755767993256E-3},1.3613383981085025E-2,null,{"$f":"[4]branche!C126/[4]branche!P126","v":29.163698229570951},null,{"$f":"G124/[4]branche!P126","v":0}]
["1985-03-01",{"$f":"[4]branche!T127/[4]branche!T128-1","v":1.8917040779183436E-2},{"$f":"[4]branche!C127/[4]branche!C128-1","v":1.3254054452074282E-3},1.7591635333976008E-2,null,{"$f":"[4]branche!C127/[4]branche!P127","v":28.742100479783566},null,{"$f":"G125/[4]branche!P127","v":0}]
["1984-12-01",{"$f":"[4]branche!T128/[4]branche!T129-1","v":1.1113899344765032E-2},{"$f":"[4]branche!C128/[4]branche!C129-1","v":1.2519285222456489E-4},1.0988706492540468E-2,null,{"$f":"[4]branche!C128/[4]branche!P128","v":28.459241408214584},null,{"$f":"G126/[4]branche!P128","v":0}]
["1984-09-01",{"$f":"[4]branche!T129/[4]branche!T130-1","v":1.844647512167974E-2},{"$f":"[4]branche!C129/[4]branche!C130-1","v":7.1910162363431063E-3},1.1255458885336633E-2,null,{"$f":"[4]branche!C129/[4]branche!P129","v":28.268191895745947},null,{"$f":"G127/[4]branche!P129","v":0}]
["1984-06-01",{"$f":"[4]branche!T130/[4]branche!T131-1","v":1.6904418134565447E-2},{"$f":"[4]branche!C130/[4]branche!C131-1","v":3.7747368107567958E-3},1.3129681323808651E-2,null,{"$f":"[4]branche!C130/[4]branche!P130","v":27.933492178597326},null,{"$f":"G128/[4]branche!P130","v":0}]
["1984-03-01",{"$f":"[4]branche!T131/[4]branche!T132-1","v":2.4647158031777971E-2},{"$f":"[4]branche!C131/[4]branche!C132-1","v":4.6299412842665255E-3},2.0017216747511446E-2,null,{"$f":"[4]branche!C131/[4]branche!P131","v":27.747386687600709},null,{"$f":"G129/[4]branche!P131","v":0}]
["1983-12-01",{"$f":"[4]branche!T132/[4]branche!T133-1","v":2.1798282742774289E-2},{"$f":"[4]branche!C132/[4]branche!C133-1","v":6.277237112470857E-3},1.5521045630303432E-2,null,{"$f":"[4]branche!C132/[4]branche!P132","v":27.58417925229017},null,{"$f":"G130/[4]branche!P132","v":0}]
["1983-09-01",{"$f":"[4]branche!T133/[4]branche!T134-1","v":2.7396409268807931E-2},{"$f":"[4]branche!C133/[4]branche!C134-1","v":1.6246310655092522E-3},{"$f":"B131-C131","v":2.5771778203298679E-2},null,{"$f":"[4]branche!C133/[4]branche!P133","v":27.378496728659009},null,{"$f":"G131/[4]branche!P133","v":0}]
["1983-06-01",{"$f":"[4]branche!T134/[4]branche!T135-1","v":2.6424189866476322E-2},{"$f":"[4]branche!C134/[4]branche!C135-1","v":8.148637178158058E-4},2.5609326148660516E-2,null,{"$f":"[4]branche!C134/[4]branche!P134","v":27.305392303179389},null,{"$f":"G132/[4]branche!P134","v":0}]
["1983-03-01",{"$f":"[4]branche!T135/[4]branche!T136-1","v":3.1519265427470078E-2},{"$f":"[4]branche!C135/[4]branche!C136-1","v":3.4638098122350414E-3},2.8055455615235037E-2,null,{"$f":"[4]branche!C135/[4]branche!P135","v":27.260713514402951},null,{"$f":"G133/[4]branche!P135","v":0}]
["1982-12-01",{"$f":"[4]branche!T136/[4]branche!T137-1","v":2.2572270275360129E-2},{"$f":"[4]branche!C136/[4]branche!C137-1","v":5.4811205846527766E-3},1.7091149690707352E-2,null,{"$f":"[4]branche!C136/[4]branche!P136","v":27.148744617218732},null,{"$f":"G134/[4]branche!P136","v":0}]
["1982-09-01",{"$f":"[4]branche!T137/[4]branche!T138-1","v":1.9305919293578944E-2},{"$f":"[4]branche!C137/[4]branche!C138-1","v":7.8472005302576697E-4},1.8521199240553177E-2,null,{"$f":"[4]branche!C137/[4]branche!P137","v":26.891582050442189},null,{"$f":"G135/[4]branche!P137","v":0}]
["1982-06-01",{"$f":"[4]branche!T138/[4]branche!T139-1","v":3.3924976608352919E-2},{"$f":"[4]branche!C138/[4]branche!C139-1","v":6.9427396587700141E-3},2.6982236949582905E-2,null,{"$f":"[4]branche!C138/[4]branche!P138","v":26.669308057257222},null,{"$f":"G136/[4]branche!P138","v":0}]
["1982-03-01",{"$f":"[4]branche!T139/[4]branche!T140-1","v":4.1735586011342196E-2},{"$f":"[4]branche!C139/[4]branche!C140-1","v":8.015280457485785E-3},3.3720305553856411E-2,null,{"$f":"[4]branche!C139/[4]branche!P139","v":26.204830781911202},null,{"$f":"G137/[4]branche!P139","v":0}]
["1981-12-01",{"$f":"[4]branche!T140/[4]branche!T141-1","v":4.3392504930966469E-2},{"$f":"[4]branche!C140/[4]branche!C141-1","v":4.4234383980861214E-3},3.8969066532880348E-2,null,{"$f":"[4]branche!C140/[4]branche!P140","v":25.64003172400119},null,{"$f":"G138/[4]branche!P140","v":0}]
["1981-09-01",{"$f":"[4]branche!T141/[4]branche!T142-1","v":3.8626815508342238E-2},{"$f":"[4]branche!C141/[4]branche!C142-1","v":7.0239659595769943E-3},3.1602849548765244E-2,null,{"$f":"[4]branche!C141/[4]branche!P141","v":25.260658857692235},null,{"$f":"G139/[4]branche!P141","v":0}]
["1981-06-01",{"$f":"[4]branche!T142/[4]branche!T143-1","v":3.1200488513335012E-2},{"$f":"[4]branche!C142/[4]branche!C143-1","v":6.0830218374976486E-3},2.5117466675837363E-2,null,{"$f":"[4]branche!C142/[4]branche!P142","v":24.910226309585276},null,{"$f":"G140/[4]branche!P142","v":0}]
["1981-03-01",{"$f":"[4]branche!T143/[4]branche!T144-1","v":3.1695626633520879E-2},{"$f":"[4]branche!C143/[4]branche!C144-1","v":3.8748819958209779E-3},2.7820744637699901E-2,null,{"$f":"[4]branche!C143/[4]branche!P143","v":24.65273736080394},null,{"$f":"G141/[4]branche!P143","v":0}]
["1980-12-01",{"$f":"[4]branche!T144/[4]branche!T145-1","v":2.223556646302205E-2},{"$f":"[4]branche!C144/[4]branche!C145-1","v":-1.7743150158308074E-3},2.4009881478852857E-2,null,{"$f":"[4]branche!C144/[4]branche!P144","v":24.517625411582415},null,{"$f":"G142/[4]branche!P144","v":0}]
["1980-09-01",{"$f":"[4]branche!T145/[4]branche!T146-1","v":2.9494507857437346E-2},{"$f":"[4]branche!C145/[4]branche!C146-1","v":2.1020439611674213E-3},2.7392463896269925E-2,null,{"$f":"[4]branche!C145/[4]branche!P145","v":24.532220309144723},null,{"$f":"G143/[4]branche!P145","v":0}]
["1980-06-01",{"$f":"[4]branche!T146/[4]branche!T147-1","v":2.2818078516183338E-2},{"$f":"[4]branche!C146/[4]branche!C147-1","v":-6.1534474227775693E-3},2.8971525938960907E-2,null,{"$f":"[4]branche!C146/[4]branche!P146","v":24.463013619184782},null,{"$f":"G144/[4]branche!P146","v":0}]
["1980-03-01",{"$f":"[4]branche!T147/[4]branche!T148-1","v":4.25428246601256E-2},{"$f":"[4]branche!C147/[4]branche!C148-1","v":1.8909445920425094E-2},2.3633378739700506E-2,null,{"$f":"[4]branche!C147/[4]branche!P147","v":24.604013487792386},null,{"$f":"G145/[4]branche!P147","v":0}]
["1979-12-01",{"$f":"[4]branche!T148/[4]branche!T149-1","v":3.0916361344206722E-2},{"$f":"[4]branche!C148/[4]branche!C149-1","v":-9.4338114197090039E-4},3.1859742486177622E-2,null,{"$f":"[4]branche!C148/[4]branche!P148","v":24.11454815615291},null,{"$f":"G146/[4]branche!P148","v":0}]
["1979-09-01",{"$f":"[4]branche!T149/[4]branche!T150-1","v":3.7480585302051894E-2},{"$f":"[4]branche!C149/[4]branche!C150-1","v":1.2215501021667352E-2},2.5265084280384542E-2,null,{"$f":"[4]branche!C149/[4]branche!P149","v":24.151999922764269},null,{"$f":"G147/[4]branche!P149","v":0}]
["1979-06-01",{"$f":"[4]branche!T150/[4]branche!T151-1","v":2.6269151312408923E-2},{"$f":"[4]branche!C150/[4]branche!C151-1","v":1.3410908619446715E-3},2.4928060450464251E-2,null,{"$f":"[4]branche!C150/[4]branche!P150","v":23.902068685383806},null,{"$f":"G148/[4]branche!P150","v":0}]
["1979-03-01",{"$f":"[4]branche!T151/[4]branche!T152-1","v":3.6172987069433837E-2},{"$f":"[4]branche!C151/[4]branche!C152-1","v":9.3403672351040079E-3},2.6832619834329829E-2,null,{"$f":"[4]branche!C151/[4]branche!P151","v":23.923039643307163},null,{"$f":"G149/[4]branche!P151","v":0}]
["1978-12-01",{"$f":"[4]branche!T152/[4]branche!T153-1","v":3.1379580858455602E-2},{"$f":"[4]branche!C152/[4]branche!C153-1","v":7.4613029882291126E-3},2.391827787022649E-2,null,{"$f":"[4]branche!C152/[4]branche!P152","v":23.763848396501459},null,{"$f":"G150/[4]branche!P152","v":0}]
["1978-09-01",{"$f":"[4]branche!T153/[4]branche!T154-1","v":3.8584647616830559E-2},{"$f":"[4]branche!C153/[4]branche!C154-1","v":9.318939778274915E-3},2.9265707838555644E-2,null,{"$f":"[4]branche!C153/[4]branche!P153","v":23.602761705644966},null,{"$f":"G151/[4]branche!P153","v":0}]
["1978-06-01",{"$f":"[4]branche!T154/[4]branche!T155-1","v":4.1962282457097766E-2},{"$f":"[4]branche!C154/[4]branche!C155-1","v":4.4903363784078998E-3},3.7471946078689866E-2,null,{"$f":"[4]branche!C154/[4]branche!P154","v":23.360760047017223},null,{"$f":"G152/[4]branche!P154","v":0}]
["1978-03-01",{"$f":"[4]branche!T155/[4]branche!T156-1","v":2.978643686774074E-2},{"$f":"[4]branche!C155/[4]branche!C156-1","v":9.8963540414329643E-3},1.9890082826307776E-2,null,{"$f":"[4]branche!C155/[4]branche!P155","v":23.216187123614464},null,{"$f":"G153/[4]branche!P155","v":0}]
["1977-12-01",{"$f":"[4]branche!T156/[4]branche!T157-1","v":2.6183244261601679E-2},{"$f":"[4]branche!C156/[4]branche!C157-1","v":1.0197559063171102E-2},1.5985685198430577E-2,null,{"$f":"[4]branche!C156/[4]branche!P156","v":22.921110391305611},null,{"$f":"G154/[4]branche!P156","v":0}]
["1977-09-01",{"$f":"[4]branche!T157/[4]branche!T158-1","v":2.8592897255398153E-2},{"$f":"[4]branche!C157/[4]branche!C158-1","v":1.1561241820486012E-2},1.7031655434912141E-2,null,{"$f":"[4]branche!C157/[4]branche!P157","v":22.607975182327042},null,{"$f":"G155/[4]branche!P157","v":0}]
["1977-06-01",{"$f":"[4]branche!T158/[4]branche!T159-1","v":2.875044074968125E-2},{"$f":"[4]branche!C158/[4]branche!C159-1","v":2.9789055440501144E-3},2.5771535205631135E-2,null,{"$f":"[4]branche!C158/[4]branche!P158","v":22.246494946201501},null,{"$f":"G156/[4]branche!P158","v":0}]
["1977-03-01",{"$f":"[4]branche!T159/[4]branche!T160-1","v":2.4893324252574844E-2},{"$f":"[4]branche!C159/[4]branche!C160-1","v":1.7620815881172813E-2},7.2725083714020311E-3,null,{"$f":"[4]branche!C159/[4]branche!P159","v":22.053318586180264},null,{"$f":"G157/[4]branche!P159","v":0}]
["1976-12-01",{"$f":"[4]branche!T160/[4]branche!T161-1","v":3.0715012248757168E-2},{"$f":"[4]branche!C160/[4]branche!C161-1","v":5.4010536699296008E-3},2.5313958578827567E-2,null,{"$f":"[4]branche!C160/[4]branche!P160","v":21.540415288531705},null,{"$f":"G158/[4]branche!P160","v":0}]
["1976-09-01",{"$f":"[4]branche!T161/[4]branche!T162-1","v":3.7114627442240478E-2},{"$f":"[4]branche!C161/[4]branche!C162-1","v":1.682664195820549E-2},2.0287985484034987E-2,null,{"$f":"[4]branche!C161/[4]branche!P161","v":21.385178598456182},null,{"$f":"G159/[4]branche!P161","v":0}]
["1976-06-01",{"$f":"[4]branche!T162/[4]branche!T163-1","v":4.5855735463218972E-2},{"$f":"[4]branche!C162/[4]branche!C163-1","v":1.2930091850123837E-2},3.2925643613095135E-2,null,{"$f":"[4]branche!C162/[4]branche!P162","v":21.088146300283608},null,{"$f":"G160/[4]branche!P162","v":0}]
["1976-03-01",{"$f":"[4]branche!T163/[4]branche!T164-1","v":3.9292001098173435E-2},{"$f":"[4]branche!C163/[4]branche!C164-1","v":4.0162847079272535E-3},3.5275716390246181E-2,null,{"$f":"[4]branche!C163/[4]branche!P163","v":20.979745552911041},null,{"$f":"G161/[4]branche!P163","v":0}]
["1975-12-01",{"$f":"[4]branche!T164/[4]branche!T165-1","v":3.5693378159131539E-2},{"$f":"[4]branche!C164/[4]branche!C165-1","v":1.8856844577841647E-2},1.6836533581289892E-2,null,{"$f":"[4]branche!C164/[4]branche!P164","v":21.148302215342945},null,{"$f":"G162/[4]branche!P164","v":0}]
["1975-09-01",{"$f":"[4]branche!T165/[4]branche!T166-1","v":2.9018433417669298E-2},{"$f":"[4]branche!C165/[4]branche!C166-1","v":1.6479079038891342E-3},2.7370525513780164E-2,null,{"$f":"[4]branche!C165/[4]branche!P165","v":20.887426502083255},null,{"$f":"G163/[4]branche!P165","v":0}]
["1975-06-01",{"$f":"[4]branche!T166/[4]branche!T167-1","v":2.2346958526156424E-2},{"$f":"[4]branche!C166/[4]branche!C167-1","v":-1.3838695866345674E-2},3.6185654392502098E-2,null,{"$f":"[4]branche!C166/[4]branche!P166","v":20.863014365717067},null,{"$f":"G164/[4]branche!P166","v":0}]
["1975-03-01",{"$f":"[4]branche!T167/[4]branche!T168-1","v":2.79641855837931E-2},{"$f":"[4]branche!C167/[4]branche!C168-1","v":-6.4856953369771819E-3},3.4449880920770282E-2,null,{"$f":"[4]branche!C167/[4]branche!P167","v":21.055912060642484},null,{"$f":"G165/[4]branche!P167","v":0}]
["1974-12-01",{"$f":"[4]branche!T168/[4]branche!T169-1","v":3.0129686218975937E-2},{"$f":"[4]branche!C168/[4]branche!C169-1","v":-1.2671546822855762E-2},4.2801233041831699E-2,null,{"$f":"[4]branche!C168/[4]branche!P168","v":20.97862173520889},null,{"$f":"G166/[4]branche!P168","v":0}]
["1974-09-01",{"$f":"[4]branche!T169/[4]branche!T170-1","v":4.181387583957763E-2},{"$f":"[4]branche!C169/[4]branche!C170-1","v":7.3329724467654511E-3},3.4480903392812179E-2,null,{"$f":"[4]branche!C169/[4]branche!P169","v":21.068550497121926},null,{"$f":"G167/[4]branche!P169","v":0}]
["1974-06-01",{"$f":"[4]branche!T170/[4]branche!T171-1","v":3.8316570253764226E-2},{"$f":"[4]branche!C170/[4]branche!C171-1","v":1.0852121451793151E-2},2.7464448801971075E-2,null,{"$f":"[4]branche!C170/[4]branche!P170","v":20.80787906897498},null,{"$f":"G168/[4]branche!P170","v":0}]
["1974-03-01",{"$f":"[4]branche!T171/[4]branche!T172-1","v":3.2399700349592164E-2},{"$f":"[4]branche!C171/[4]branche!C172-1","v":2.7503212881766048E-2},4.8964874678261161E-3,null,{"$f":"[4]branche!C171/[4]branche!P171","v":20.52640024163253},null,{"$f":"G169/[4]branche!P171","v":0}]
["1973-12-01",{"$f":"[4]branche!T172/[4]branche!T173-1","v":5.1070624002099718E-2},{"$f":"[4]branche!C172/[4]branche!C173-1","v":1.0228872819264545E-2},4.0841751182835173E-2,null,{"$f":"[4]branche!C172/[4]branche!P172","v":19.943274440518255},null,{"$f":"G170/[4]branche!P172","v":0}]
["1973-09-01",{"$f":"[4]branche!T173/[4]branche!T174-1","v":4.1267166184609128E-2},{"$f":"[4]branche!C173/[4]branche!C174-1","v":1.3016589866207573E-2},2.8250576318401555E-2,null,{"$f":"[4]branche!C173/[4]branche!P173","v":19.737809014169432},null,{"$f":"G171/[4]branche!P173","v":0}]
["1973-06-01",{"$f":"[4]branche!T174/[4]branche!T175-1","v":3.424802732304788E-2},{"$f":"[4]branche!C174/[4]branche!C175-1","v":2.1626694988514883E-2},1.2621332334532998E-2,null,{"$f":"[4]branche!C174/[4]branche!P174","v":19.503484566998935},null,{"$f":"G172/[4]branche!P174","v":0}]
["1973-03-01",{"$f":"[4]branche!T175/[4]branche!T176-1","v":3.6904064087534216E-2},{"$f":"[4]branche!C175/[4]branche!C176-1","v":1.448294870831135E-2},2.2421115379222867E-2,null,{"$f":"[4]branche!C175/[4]branche!P175","v":19.147135047197473},null,{"$f":"G173/[4]branche!P175","v":0}]
["1972-12-01",{"$f":"[4]branche!T176/[4]branche!T177-1","v":2.6062550120288686E-2},{"$f":"[4]branche!C176/[4]branche!C177-1","v":1.3592795208996922E-2},1.2469754911291764E-2,null,{"$f":"[4]branche!C176/[4]branche!P176","v":18.974468692055343},null,{"$f":"G174/[4]branche!P176","v":0}]
["1972-09-01",{"$f":"[4]branche!T177/[4]branche!T178-1","v":3.4532821735974384E-2},{"$f":"[4]branche!C177/[4]branche!C178-1","v":1.1701406018746807E-2},2.2831415717227577E-2,null,{"$f":"[4]branche!C177/[4]branche!P177","v":18.74585793182251},null,{"$f":"G175/[4]branche!P177","v":0}]
["1972-06-01",{"$f":"[4]branche!T178/[4]branche!T179-1","v":2.3781717804437941E-2},{"$f":"[4]branche!C178/[4]branche!C179-1","v":1.4456336442166817E-2},9.3253813622711235E-3,null,{"$f":"[4]branche!C178/[4]branche!P178","v":18.477841820892404},null,{"$f":"G176/[4]branche!P178","v":0}]
["1972-03-01",{"$f":"[4]branche!T179/[4]branche!T180-1","v":3.3748559512703835E-2},{"$f":"[4]branche!C179/[4]branche!C180-1","v":6.2900010492077385E-3},2.7458558463496097E-2,null,{"$f":"[4]branche!C179/[4]branche!P179","v":18.091865126149493},null,{"$f":"G177/[4]branche!P179","v":0}]
["1971-12-01",{"$f":"[4]branche!T180/[4]branche!T181-1","v":1.9753777280358209E-2},{"$f":"[4]branche!C180/[4]branche!C181-1","v":9.9982514981482584E-3},9.7555257822099506E-3,null,{"$f":"[4]branche!C180/[4]branche!P180","v":17.806798755710002},null,{"$f":"G178/[4]branche!P180","v":0}]
["1971-09-01",{"$f":"[4]branche!T181/[4]branche!T182-1","v":3.2649523259173696E-2},{"$f":"[4]branche!C181/[4]branche!C182-1","v":1.274972230718463E-2},1.9899800951989066E-2,null,{"$f":"[4]branche!C181/[4]branche!P181","v":17.537144927940233},null,{"$f":"G179/[4]branche!P181","v":0}]
["1971-06-01",{"$f":"[4]branche!T182/[4]branche!T183-1","v":2.0913837349930686E-2},{"$f":"[4]branche!C182/[4]branche!C183-1","v":1.1034976644260341E-2},9.8788607056703448E-3,null,{"$f":"[4]branche!C182/[4]branche!P182","v":17.282481684132431},null,{"$f":"G180/[4]branche!P182","v":0}]
["1971-03-01",{"$f":"[4]branche!T183/[4]branche!T184-1","v":3.5556098604025976E-2},{"$f":"[4]branche!C183/[4]branche!C184-1","v":1.3019774228651304E-2},2.2536324375374672E-2,null,{"$f":"[4]branche!C183/[4]branche!P183","v":17.103368284309177},null,{"$f":"G181/[4]branche!P183","v":0}]
["1970-12-01",{"$f":"[4]branche!T184/[4]branche!T185-1","v":2.3319058485198996E-2},{"$f":"[4]branche!C184/[4]branche!C185-1","v":1.5011463603755271E-2},8.307594881443725E-3,null,{"$f":"[4]branche!C184/[4]branche!P184","v":16.921231284292755},null,{"$f":"G182/[4]branche!P184","v":0}]
["1970-09-01",{"$f":"[4]branche!T185/[4]branche!T186-1","v":2.6932460195172148E-2},{"$f":"[4]branche!C185/[4]branche!C186-1","v":1.2150572240007707E-2},1.4781887955164441E-2,null,{"$f":"[4]branche!C185/[4]branche!P185","v":16.706554458951921},null,{"$f":"G183/[4]branche!P185","v":0}]
["1970-06-01",{"$f":"[4]branche!T186/[4]branche!T187-1","v":3.0260938585177088E-2},{"$f":"[4]branche!C186/[4]branche!C187-1","v":1.4956934344215744E-2},1.5304004240961344E-2,null,{"$f":"[4]branche!C186/[4]branche!P186","v":16.554441193789899},null,{"$f":"G184/[4]branche!P186","v":0}]
["1970-03-01",{"$f":"[4]branche!T187/[4]branche!T188-1","v":3.5336414997432009E-2},{"$f":"[4]branche!C187/[4]branche!C188-1","v":2.4884884649720496E-2},1.0451530347711513E-2,null,{"$f":"[4]branche!C187/[4]branche!P187","v":16.339503918649399},null,{"$f":"G185/[4]branche!P187","v":0}]
["1969-12-01",{"$f":"[4]branche!T188/[4]branche!T189-1","v":2.4664935793979437E-2},{"$f":"[4]branche!C188/[4]branche!C189-1","v":1.114093640877023E-2},1.3523999385209207E-2,null,{"$f":"[4]branche!C188/[4]branche!P188","v":15.983328013818221},null,{"$f":"G186/[4]branche!P188","v":0}]
["1969-09-01",{"$f":"[4]branche!T189/[4]branche!T190-1","v":2.3631662117511887E-2},{"$f":"[4]branche!C189/[4]branche!C190-1","v":1.6068788655905886E-2},7.5628734616060012E-3,null,{"$f":"[4]branche!C189/[4]branche!P189","v":15.829212807159376},null,{"$f":"G187/[4]branche!P189","v":0}]
["1969-06-01",{"$f":"[4]branche!T190/[4]branche!T191-1","v":2.5335100898512319E-2},{"$f":"[4]branche!C190/[4]branche!C191-1","v":1.4390294661329239E-2},1.094480623718308E-2,null,{"$f":"[4]branche!C190/[4]branche!P190","v":15.539438151676544},null,{"$f":"G188/[4]branche!P190","v":0}]
["1969-03-01",{"$f":"[4]branche!T191/[4]branche!T192-1","v":3.8430652747504901E-2},{"$f":"[4]branche!C191/[4]branche!C192-1","v":9.7530223244084446E-3},2.8677630423096456E-2,null,{"$f":"[4]branche!C191/[4]branche!P191","v":15.240964979383175},null,{"$f":"G189/[4]branche!P191","v":0}]
["1968-12-01",{"$f":"[4]branche!T192/[4]branche!T193-1","v":3.4126858589054176E-2},{"$f":"[4]branche!C192/[4]branche!C193-1","v":1.2414587139889299E-2},2.1712271449164877E-2,null,{"$f":"[4]branche!C192/[4]branche!P192","v":14.981249826387282},null,{"$f":"G190/[4]branche!P192","v":0}]
["1968-09-01",{"$f":"[4]branche!T193/[4]branche!T194-1","v":0.10858796194818288},{"$f":"[4]branche!C193/[4]branche!C194-1","v":9.5593276112649894E-2},1.2994685835532982E-2,null,{"$f":"[4]branche!C193/[4]branche!P193","v":14.710371045388857},null,{"$f":"G191/[4]branche!P193","v":0}]
["1968-06-01",{"$f":"[4]branche!T194/[4]branche!T195-1","v":-3.8159892055995903E-2},{"$f":"[4]branche!C194/[4]branche!C195-1","v":-6.8108784953586854E-2},2.9948892897590951E-2,null,{"$f":"[4]branche!C194/[4]branche!P194","v":13.338576052963662},null,{"$f":"G192/[4]branche!P194","v":0}]
["1968-03-01",{"$f":"[4]branche!T195/[4]branche!T196-1","v":3.3557046979865834E-2},{"$f":"[4]branche!C195/[4]branche!C196-1","v":3.4307538804125848E-2},-7.5049182426001337E-4,null,{"$f":"[4]branche!C195/[4]branche!P195","v":14.262973256184791},null,{"$f":"G193/[4]branche!P195","v":0}]
["1967-12-01",{"$f":"[4]branche!T196/[4]branche!T197-1","v":8.9701873186174286E-3},{"$f":"[4]branche!C196/[4]branche!C197-1","v":1.2321482323823574E-2},-3.3512950052061452E-3,null,{"$f":"[4]branche!C196/[4]branche!P196","v":13.780960880017483},null,{"$f":"G194/[4]branche!P196","v":0}]
["1967-09-01",{"$f":"[4]branche!T197/[4]branche!T198-1","v":2.3170018446034168E-2},{"$f":"[4]branche!C197/[4]branche!C198-1","v":2.2523631687664913E-2},{"$f":"B195-C195","v":6.4638675836925508E-4},null,{"$f":"[4]branche!C197/[4]branche!P197","v":13.565420179123981},null,{"$f":"G195/[4]branche!P197","v":0}]
["1967-06-01",{"$f":"[4]branche!T198/[4]branche!T199-1","v":1.567355145311633E-2},{"$f":"[4]branche!C198/[4]branche!C199-1","v":1.0045043800259723E-2},5.6285076528566069E-3,null,{"$f":"[4]branche!C198/[4]branche!P198","v":13.225803533466616},null,{"$f":"G196/[4]branche!P198","v":0}]
["1967-03-01",{"$f":"[4]branche!T199/[4]branche!T200-1","v":2.5059721766827581E-2},{"$f":"[4]branche!C199/[4]branche!C200-1","v":1.379054342725472E-2},1.1269178339572861E-2,null,{"$f":"[4]branche!C199/[4]branche!P199","v":13.033080621634761},null,{"$f":"G197/[4]branche!P199","v":0}]
["1966-12-01",{"$f":"[4]branche!T200/[4]branche!T201-1","v":1.6377053082599291E-2},{"$f":"[4]branche!C200/[4]branche!C201-1","v":5.4363517291400321E-3},1.0940701353459259E-2,null,{"$f":"[4]branche!C200/[4]branche!P200","v":12.787400587518807},null,{"$f":"G198/[4]branche!P200","v":0}]

{"sheet":"Graph Hyper 9","index":24,"n_rows":198,"n_cols":3,"rows_kept":198,"cut":false,"hidden":false,"merged":[[130,13,131,15]]}
[]
["2015-12-01"]
["2015-09-01",10.199999999999999,{"$f":"[4]branche!H5/[4]branche!H9-1","v":9.8024160932443927E-3}]
["2015-06-01",10,{"$f":"[4]branche!H6/[4]branche!H10-1","v":8.6377759160556344E-3}]
["2015-03-01",10,{"$f":"[4]branche!H7/[4]branche!H11-1","v":9.5484779449275248E-3}]
["2014-12-01",10.1,{"$f":"[4]branche!H8/[4]branche!H12-1","v":1.1151214686843991E-2}]
["2014-09-01",10,{"$f":"[4]branche!H9/[4]branche!H13-1","v":1.1062424633049517E-2}]
["2014-06-01",9.6999999999999993,{"$f":"[4]branche!H10/[4]branche!H14-1","v":1.3393486404537303E-2}]
["2014-03-01",9.8000000000000007,{"$f":"[4]branche!H11/[4]branche!H15-1","v":1.7527360251153645E-2}]
["2013-12-01",9.6999999999999993,{"$f":"[4]branche!H12/[4]branche!H16-1","v":1.6344131862929157E-2}]
["2013-09-01",9.9,{"$f":"[4]branche!H13/[4]branche!H17-1","v":1.9069382978457394E-2}]
["2013-06-01",10,{"$f":"[4]branche!H14/[4]branche!H18-1","v":2.2020482527658647E-2}]
["2013-03-01",9.9,{"$f":"[4]branche!H15/[4]branche!H19-1","v":2.1460279926786896E-2}]
["2012-12-01",9.6999999999999993,{"$f":"[4]branche!H16/[4]branche!H20-1","v":2.264106324759374E-2}]
["2012-09-01",9.4,{"$f":"[4]branche!H17/[4]branche!H21-1","v":2.4368378465302376E-2}]
["2012-06-01",9.3000000000000007,{"$f":"[4]branche!H18/[4]branche!H22-1","v":2.1791795354625165E-2}]
["2012-03-01",9.1,{"$f":"[4]branche!H19/[4]branche!H23-1","v":2.06451826290035E-2}]
["2011-12-01",9,{"$f":"[4]branche!H20/[4]branche!H24-1","v":2.0907721107594979E-2}]
["2011-09-01",8.8000000000000007,{"$f":"[4]branche!H21/[4]branche!H25-1","v":1.6014211838269787E-2}]
["2011-06-01",8.6999999999999993,{"$f":"[4]branche!H22/[4]branche!H26-1","v":1.6606876101771917E-2}]
["2011-03-01",8.6999999999999993,{"$f":"[4]branche!H23/[4]branche!H27-1","v":1.6494366399843807E-2}]
["2010-12-01",8.8000000000000007,{"$f":"[4]branche!H24/[4]branche!H28-1","v":1.756154101376195E-2}]
["2010-09-01",8.8000000000000007,{"$f":"[4]branche!H25/[4]branche!H29-1","v":2.5005147124582461E-2}]
["2010-06-01",8.9,{"$f":"[4]branche!H26/[4]branche!H30-1","v":2.885977014013541E-2}]
["2010-03-01",9,{"$f":"[4]branche!H27/[4]branche!H31-1","v":3.166779603458858E-2}]
["2009-12-01",9.1999999999999993,{"$f":"[4]branche!H28/[4]branche!H32-1","v":2.7870636402880677E-2}]
["2009-09-01",8.8000000000000007,{"$f":"[4]branche!H29/[4]branche!H33-1","v":2.2729206999913654E-2}]
["2009-06-01",8.8000000000000007,{"$f":"[4]branche!H30/[4]branche!H34-1","v":2.2230157204351286E-2}]
["2009-03-01",8.1999999999999993,{"$f":"[4]branche!H31/[4]branche!H35-1","v":2.1200123852371577E-2}]
["2008-12-01",7.4,{"$f":"[4]branche!H32/[4]branche!H36-1","v":2.6570283870308131E-2}]
["2008-09-01",7.1,{"$f":"[4]branche!H33/[4]branche!H37-1","v":3.0043687348844994E-2}]
["2008-06-01",7,{"$f":"[4]branche!H34/[4]branche!H38-1","v":2.5907324940123821E-2}]
["2008-03-01",6.8,{"$f":"[4]branche!H35/[4]branche!H39-1","v":2.0861951283232649E-2}]
["2007-12-01",7.2,{"$f":"[4]branche!H36/[4]branche!H40-1","v":1.2100781711185116E-2}]
["2007-09-01",7.6,{"$f":"[4]branche!H37/[4]branche!H41-1","v":1.3145634674261775E-2}]
["2007-06-01",7.8,{"$f":"[4]branche!H38/[4]branche!H42-1","v":1.754983379211561E-2}]
["2007-03-01",8.1,{"$f":"[4]branche!H39/[4]branche!H43-1","v":2.5868005912402348E-2}]
["2006-12-01",8,{"$f":"[4]branche!H40/[4]branche!H44-1","v":3.7774210303830991E-2}]
["2006-09-01",8.5,{"$f":"[4]branche!H41/[4]branche!H45-1","v":4.2441138045738347E-2}]
["2006-06-01",8.6,{"$f":"[4]branche!H42/[4]branche!H46-1","v":4.5284175778297575E-2}]
["2006-03-01",8.6999999999999993,{"$f":"[4]branche!H43/[4]branche!H47-1","v":4.434014946962983E-2}]
["2005-12-01",8.6999999999999993,{"$f":"[4]branche!H44/[4]branche!H48-1","v":4.1680285640211645E-2}]
["2005-09-01",8.6,{"$f":"[4]branche!H45/[4]branche!H49-1","v":3.4470249064085801E-2}]
["2005-06-01",8.4,{"$f":"[4]branche!H46/[4]branche!H50-1","v":2.7546320103236432E-2}]
["2005-03-01",8.3000000000000007,{"$f":"[4]branche!H47/[4]branche!H51-1","v":2.2928151412188402E-2}]
["2004-12-01",8.5,{"$f":"[4]branche!H48/[4]branche!H52-1","v":2.2987339749984681E-2}]
["2004-09-01",8.5,{"$f":"[4]branche!H49/[4]branche!H53-1","v":1.9141135515643226E-2}]
["2004-06-01",8.4,{"$f":"[4]branche!H50/[4]branche!H54-1","v":2.2982688388405448E-2}]
["2004-03-01",8.6,{"$f":"[4]branche!H51/[4]branche!H55-1","v":2.5715929447791774E-2}]
["2003-12-01",8.4,{"$f":"[4]branche!H52/[4]branche!H56-1","v":2.3094608331521993E-2}]
["2003-09-01",8,{"$f":"[4]branche!H53/[4]branche!H57-1","v":2.7779076979136175E-2}]
["2003-06-01",8.1,{"$f":"[4]branche!H54/[4]branche!H58-1","v":2.8978632822070916E-2}]
["2003-03-01",8,{"$f":"[4]branche!H55/[4]branche!H59-1","v":4.2369213428104402E-2}]
["2002-12-01",7.6,{"$f":"[4]branche!H56/[4]branche!H60-1","v":5.6214431731012482E-2}]
["2002-09-01",7.5,{"$f":"[4]branche!H57/[4]branche!H61-1","v":6.0826067071917844E-2}]
["2002-06-01",7.5,{"$f":"[4]branche!H58/[4]branche!H62-1","v":6.4746549388567054E-2}]
["2002-03-01",7.5,{"$f":"[4]branche!H59/[4]branche!H63-1","v":5.898018756710921E-2}]
["2001-12-01",7.5,{"$f":"[4]branche!H60/[4]branche!H64-1","v":4.2550805873743602E-2}]
["2001-09-01",7.4,{"$f":"[4]branche!H61/[4]branche!H65-1","v":3.9618612243341511E-2}]
["2001-06-01",7.3,{"$f":"[4]branche!H62/[4]branche!H66-1","v":3.7704830885922469E-2}]
["2001-03-01",7.4,{"$f":"[4]branche!H63/[4]branche!H67-1","v":3.487848047729436E-2}]
["2000-12-01",7.7,{"$f":"[4]branche!H64/[4]branche!H68-1","v":4.6897100839515815E-2}]
["2000-09-01",8,{"$f":"[4]branche!H65/[4]branche!H69-1","v":5.0801537557891185E-2}]
["2000-06-01",8.3000000000000007,{"$f":"[4]branche!H66/[4]branche!H70-1","v":5.0127133045431815E-2}]
["2000-03-01",8.6999999999999993,{"$f":"[4]branche!H67/[4]branche!H71-1","v":4.3166179318902209E-2}]
["1999-12-01",9.1,{"$f":"[4]branche!H68/[4]branche!H72-1","v":3.625346908286553E-2}]
["1999-09-01",9.5,{"$f":"[4]branche!H69/[4]branche!H73-1","v":3.1352907083616266E-2}]
["1999-06-01",9.8000000000000007,{"$f":"[4]branche!H70/[4]branche!H74-1","v":2.9089974371335092E-2}]
["1999-03-01",9.9,{"$f":"[4]branche!H71/[4]branche!H75-1","v":3.0642086971669258E-2}]
["1998-12-01",9.8000000000000007,{"$f":"[4]branche!H72/[4]branche!H76-1","v":3.1436570578651901E-2}]
["1998-09-01",9.8000000000000007,{"$f":"[4]branche!H73/[4]branche!H77-1","v":2.8649521719469773E-2}]
["1998-06-01",9.9,{"$f":"[4]branche!H74/[4]branche!H78-1","v":2.5565991278165168E-2}]
["1998-03-01",10,{"$f":"[4]branche!H75/[4]branche!H79-1","v":2.7771367985948148E-2}]
["1997-12-01",10.199999999999999,{"$f":"[4]branche!H76/[4]branche!H80-1","v":2.6319985345177654E-2}]
["1997-09-01",10.3,{"$f":"[4]branche!H77/[4]branche!H81-1","v":2.3497052972307308E-2}]
["1997-06-01",10.4,{"$f":"[4]branche!H78/[4]branche!H82-1","v":2.3435316999498745E-2}]
["1997-03-01",10.3,{"$f":"[4]branche!H79/[4]branche!H83-1","v":2.1565452123133433E-2}]
["1996-12-01",10.199999999999999,{"$f":"[4]branche!H80/[4]branche!H84-1","v":2.0794757057909008E-2}]
["1996-09-01",10.199999999999999,{"$f":"[4]branche!H81/[4]branche!H85-1","v":2.3022408399997918E-2}]
["1996-06-01",10.199999999999999,{"$f":"[4]branche!H82/[4]branche!H86-1","v":2.4663852050830659E-2}]
["1996-03-01",9.9,{"$f":"[4]branche!H83/[4]branche!H87-1","v":2.9030452533138851E-2}]
["1995-12-01",9.6,{"$f":"[4]branche!H84/[4]branche!H88-1","v":3.0951875571833876E-2}]
["1995-09-01",9.5,{"$f":"[4]branche!H85/[4]branche!H89-1","v":3.9634469887074308E-2}]
["1995-06-01",9.6999999999999993,{"$f":"[4]branche!H86/[4]branche!H90-1","v":4.0963908865433662E-2}]
["1995-03-01",9.9,{"$f":"[4]branche!H87/[4]branche!H91-1","v":3.297880377478446E-2}]
["1994-12-01",10,{"$f":"[4]branche!H88/[4]branche!H92-1","v":2.8577769093167005E-2}]
["1994-09-01",10.3,{"$f":"[4]branche!H89/[4]branche!H93-1","v":2.0631943990303103E-2}]
["1994-06-01",10.4,{"$f":"[4]branche!H90/[4]branche!H94-1","v":1.6019483566377613E-2}]
["1994-03-01",10.3,{"$f":"[4]branche!H91/[4]branche!H95-1","v":1.9566027470476755E-2}]
["1993-12-01",10.1,{"$f":"[4]branche!H92/[4]branche!H96-1","v":2.6987075610961586E-2}]
["1993-09-01",9.8000000000000007,{"$f":"[4]branche!H93/[4]branche!H97-1","v":3.4653727391014577E-2}]
["1993-06-01",9.5,{"$f":"[4]branche!H94/[4]branche!H98-1","v":4.4683469217023264E-2}]
["1993-03-01",9.1999999999999993,{"$f":"[4]branche!H95/[4]branche!H99-1","v":4.3812409630876958E-2}]
["1992-12-01",8.9,{"$f":"[4]branche!H96/[4]branche!H100-1","v":4.6902090317149314E-2}]
["1992-09-01",8.8000000000000007,{"$f":"[4]branche!H97/[4]branche!H101-1","v":4.9788931444857631E-2}]
["1992-06-01",8.6,{"$f":"[4]branche!H98/[4]branche!H102-1","v":4.4280860422263979E-2}]
["1992-03-01",8.3000000000000007,{"$f":"[4]branche!H99/[4]branche!H103-1","v":5.4767777907710258E-2}]
["1991-12-01",8.1,{"$f":"[4]branche!H100/[4]branche!H104-1","v":4.4591996461095462E-2}]
["1991-09-01",7.9,{"$f":"[4]branche!H101/[4]branche!H105-1","v":4.1368178380853937E-2}]
["1991-06-01",7.7,{"$f":"[4]branche!H102/[4]branche!H106-1","v":4.7846737161587827E-2}]
["1991-03-01",7.5,{"$f":"[4]branche!H103/[4]branche!H107-1","v":5.1002409666615955E-2}]
["1990-12-01",7.6,{"$f":"[4]branche!H104/[4]branche!H108-1","v":5.7674214849758654E-2}]
["1990-09-01",7.6,{"$f":"[4]branche!H105/[4]branche!H109-1","v":6.4780256048708518E-2}]
["1990-06-01",7.6,{"$f":"[4]branche!H106/[4]branche!H110-1","v":6.2210869698593019E-2}]
["1990-03-01",7.7,{"$f":"[4]branche!H107/[4]branche!H111-1","v":5.9562835126092617E-2}]
["1989-12-01",7.7,{"$f":"[4]branche!H108/[4]branche!H112-1","v":6.2905610960676484E-2}]
["1989-09-01",7.8,{"$f":"[4]branche!H109/[4]branche!H113-1","v":5.6302922674397182E-2}]
["1989-06-01",7.9,{"$f":"[4]branche!H110/[4]branche!H114-1","v":5.696115367869159E-2}]
["1989-03-01",8,{"$f":"[4]branche!H111/[4]branche!H115-1","v":4.8155643563748463E-2}]
["1988-12-01",8.1999999999999993,{"$f":"[4]branche!H112/[4]branche!H116-1","v":4.5186944784124883E-2}]
["1988-09-01",8.4,{"$f":"[4]branche!H113/[4]branche!H117-1","v":4.1941458165041023E-2}]
["1988-06-01",8.4,{"$f":"[4]branche!H114/[4]branche!H118-1","v":3.8467811822139542E-2}]
["1988-03-01",8.6,{"$f":"[4]branche!H115/[4]branche!H119-1","v":3.4484632833985396E-2}]
["1987-12-01",8.6,{"$f":"[4]branche!H116/[4]branche!H120-1","v":3.3908434282638122E-2}]
["1987-09-01",8.6999999999999993,{"$f":"[4]branche!H117/[4]branche!H121-1","v":2.637391287028068E-2}]
["1987-06-01",8.8000000000000007,{"$f":"[4]branche!H118/[4]branche!H122-1","v":1.8038609278116846E-2}]
["1987-03-01",8.8000000000000007,{"$f":"[4]branche!H119/[4]branche!H123-1","v":2.9311428079539681E-2}]
["1986-12-01",8.6999999999999993,{"$f":"[4]branche!H120/[4]branche!H124-1","v":2.7568170365695366E-2}]
["1986-09-01",8.6,{"$f":"[4]branche!H121/[4]branche!H125-1","v":4.1198724346665605E-2}]
["1986-06-01",8.6,{"$f":"[4]branche!H122/[4]branche!H126-1","v":5.8265693307977706E-2}]
["1986-03-01",8.5,{"$f":"[4]branche!H123/[4]branche!H127-1","v":6.4188932208947946E-2}]
["1985-12-01",8.5,{"$f":"[4]branche!H124/[4]branche!H128-1","v":7.894276188100724E-2}]
["1985-09-01",8.6,{"$f":"[4]branche!H125/[4]branche!H129-1","v":8.9740722857175825E-2}]
["1985-06-01",8.5,{"$f":"[4]branche!H126/[4]branche!H130-1","v":8.1653662184775655E-2}]
["1985-03-01",8.5,{"$f":"[4]branche!H127/[4]branche!H131-1","v":8.3150714772594281E-2}]
["1984-12-01",8.4,{"$f":"[4]branche!H128/[4]branche!H132-1","v":7.8459778294575289E-2}]
["1984-09-01",8.1999999999999993,{"$f":"[4]branche!H129/[4]branche!H133-1","v":7.4686744874985056E-2}]
["1984-06-01",8,{"$f":"[4]branche!H130/[4]branche!H134-1","v":9.2167427639601618E-2}]
["1984-03-01",7.6,{"$f":"[4]branche!H131/[4]branche!H135-1","v":9.0751772690949029E-2}]
["1983-12-01",7.2,{"$f":"[4]branche!H132/[4]branche!H136-1","v":0.10133810749713534}]
["1983-09-01",6.9,{"$f":"[4]branche!H133/[4]branche!H137-1","v":0.10501177080864021}]
["1983-06-01",6.7,{"$f":"[4]branche!H134/[4]branche!H138-1","v":0.10928901884520603}]
["1983-03-01",6.7,{"$f":"[4]branche!H135/[4]branche!H139-1","v":0.13058105523940333}]
["1982-12-01",6.7,{"$f":"[4]branche!H136/[4]branche!H140-1","v":0.16446371190128306}]
["1982-09-01",6.7,{"$f":"[4]branche!H137/[4]branche!H141-1","v":0.19496661372567448}]
["1982-06-01",6.5,{"$f":"[4]branche!H138/[4]branche!H142-1","v":0.20932883512156675}]
["1982-03-01",6.4,{"$f":"[4]branche!H139/[4]branche!H143-1","v":0.20522787498823436}]
["1981-12-01",6.4,{"$f":"[4]branche!H140/[4]branche!H144-1","v":0.17257715584820943}]
["1981-09-01",6.2,{"$f":"[4]branche!H141/[4]branche!H145-1","v":0.14802357788850595}]
["1981-06-01",5.9,{"$f":"[4]branche!H142/[4]branche!H146-1","v":0.13826477220225941}]
["1981-03-01",5.6,{"$f":"[4]branche!H143/[4]branche!H147-1","v":0.13904423340637884}]
["1980-12-01",5.3,{"$f":"[4]branche!H144/[4]branche!H148-1","v":0.14765621570217058}]
["1980-09-01",5.0999999999999996,{"$f":"[4]branche!H145/[4]branche!H149-1","v":0.15319167858557869}]
["1980-06-01",5,{"$f":"[4]branche!H146/[4]branche!H150-1","v":0.15350049274597577}]
["1980-03-01",5,{"$f":"[4]branche!H147/[4]branche!H151-1","v":0.14698514323698331}]
["1979-12-01",4.9000000000000004,{"$f":"[4]branche!H148/[4]branche!H152-1","v":0.13267634929262595}]
["1979-09-01",4.9000000000000004,{"$f":"[4]branche!H149/[4]branche!H153-1","v":0.12853367574476571}]
["1979-06-01",4.7,{"$f":"[4]branche!H150/[4]branche!H154-1","v":0.12884373820166251}]
["1979-03-01",4.5999999999999996,{"$f":"[4]branche!H151/[4]branche!H155-1","v":0.1305125646434997}]
["1978-12-01",4.5999999999999996,{"$f":"[4]branche!H152/[4]branche!H156-1","v":0.14120152050862211}]
["1978-09-01",4.4000000000000004,{"$f":"[4]branche!H153/[4]branche!H157-1","v":0.14719473899808411}]
["1978-06-01",4.0999999999999996,{"$f":"[4]branche!H154/[4]branche!H158-1","v":0.14606693640606871}]
["1978-03-01",4,{"$f":"[4]branche!H155/[4]branche!H159-1","v":0.14607349880677245}]
["1977-12-01",4.2,{"$f":"[4]branche!H156/[4]branche!H160-1","v":0.14861292209274635}]
["1977-09-01",4.3,{"$f":"[4]branche!H157/[4]branche!H161-1","v":0.14860318996827404}]
["1977-06-01",4.0999999999999996,{"$f":"[4]branche!H158/[4]branche!H162-1","v":0.15351602137670661}]
["1977-03-01",3.8,{"$f":"[4]branche!H159/[4]branche!H163-1","v":0.15379077699000043}]
["1976-12-01",3.6,{"$f":"[4]branche!H160/[4]branche!H164-1","v":0.14191934451229149}]
["1976-09-01",3.6,{"$f":"[4]branche!H161/[4]branche!H165-1","v":0.13094088330000919}]
["1976-06-01",3.7,{"$f":"[4]branche!H162/[4]branche!H166-1","v":0.13003758141427357}]
["1976-03-01",3.6,{"$f":"[4]branche!H163/[4]branche!H167-1","v":0.14594252596591861}]
["1975-12-01",3.6,{"$f":"[4]branche!H164/[4]branche!H168-1","v":0.18258885959469651}]
["1975-09-01",3.5,{"$f":"[4]branche!H165/[4]branche!H169-1","v":0.19918123942715327}]
["1975-06-01",3.2,{"$f":"[4]branche!H166/[4]branche!H170-1","v":0.21272047802883343}]
["1975-03-01",2.9,{"$f":"[4]branche!H167/[4]branche!H171-1","v":0.23024275913057113}]
["1974-12-01",null,{"$f":"[4]branche!H168/[4]branche!H172-1","v":0.21955312638220281}]
["1974-09-01",null,{"$f":"[4]branche!H169/[4]branche!H173-1","v":0.21863211453674802}]
["1974-06-01",null,{"$f":"[4]branche!H170/[4]branche!H174-1","v":0.20728833912050093}]
["1974-03-01",null,{"$f":"[4]branche!H171/[4]branche!H175-1","v":0.17053172123958071}]
["1973-12-01",null,{"$f":"[4]branche!H172/[4]branche!H176-1","v":0.15028995527249278}]
["1973-09-01",null,{"$f":"[4]branche!H173/[4]branche!H177-1","v":0.1435142067423465}]
["1973-06-01",null,{"$f":"[4]branche!H174/[4]branche!H178-1","v":0.13643977501771865}]
["1973-03-01",null,{"$f":"[4]branche!H175/[4]branche!H179-1","v":0.14363392168679456}]
["1972-12-01",null,{"$f":"[4]branche!H176/[4]branche!H180-1","v":0.14302277781144257}]
["1972-09-01",null,{"$f":"[4]branche!H177/[4]branche!H181-1","v":0.14467777915226998}]
["1972-06-01",null,{"$f":"[4]branche!H178/[4]branche!H182-1","v":0.14509389899525282}]
["1972-03-01",null,{"$f":"[4]branche!H179/[4]branche!H183-1","v":0.13094990463114464}]
["1971-12-01",null,{"$f":"[4]branche!H180/[4]branche!H184-1","v":0.13004724615565522}]
["1971-09-01",null,{"$f":"[4]branche!H181/[4]branche!H185-1","v":0.12698189241940394}]
["1971-06-01",null,{"$f":"[4]branche!H182/[4]branche!H186-1","v":0.11636610000515657}]
["1971-03-01",null,{"$f":"[4]branche!H183/[4]branche!H187-1","v":0.12177683015422658}]
["1970-12-01",null,{"$f":"[4]branche!H184/[4]branche!H188-1","v":0.12470569505807738}]
["1970-09-01",null,{"$f":"[4]branche!H185/[4]branche!H189-1","v":0.12577169086438}]
["1970-06-01",null,{"$f":"[4]branche!H186/[4]branche!H190-1","v":0.13380452661311604}]
["1970-03-01",null,{"$f":"[4]branche!H187/[4]branche!H191-1","v":0.13781073445010072}]
["1969-12-01",null,{"$f":"[4]branche!H188/[4]branche!H192-1","v":0.134116247357146}]
["1969-09-01",null,{"$f":"[4]branche!H189/[4]branche!H193-1","v":0.1318319316224561}]
["1969-06-01",null,{"$f":"[4]branche!H190/[4]branche!H194-1","v":0.21915645645317228}]
["1969-03-01",null,{"$f":"[4]branche!H191/[4]branche!H195-1","v":0.19923068691494006}]
["1968-12-01",null,{"$f":"[4]branche!H192/[4]branche!H196-1","v":0.19796117156908877}]
["1968-09-01",null,{"$f":"[4]branche!H193/[4]branche!H197-1","v":0.18283362185358731}]
["1968-06-01",null,{"$f":"[4]branche!H194/[4]branche!H198-1","v":8.8305658233946094E-2}]
["1968-03-01",null,{"$f":"[4]branche!H195/[4]branche!H199-1","v":9.0847643626400298E-2}]
["1967-12-01",null,{"$f":"[4]branche!H196/[4]branche!H200-1","v":9.2244556468975114E-2}]
["1967-09-01",null,{"$f":"[4]branche!H197/[4]branche!H201-1","v":9.7957821067019335E-2}]
["1967-06-01",null,{"$f":"[4]branche!H198/[4]branche!H202-1","v":9.6032584188207926E-2}]
["1967-03-01",null,{"$f":"[4]branche!H199/[4]branche!H203-1","v":9.563717947031658E-2}]
["1966-12-01",null,{"$f":"[4]branche!H200/[4]branche!H204-1","v":8.0745974587880243E-2}]

{"sheet":"Graph Hyper 10","index":25,"n_rows":170,"n_cols":11,"rows_kept":170,"cut":false,"hidden":false,"merged":[]}
["Back to menu"]
[]
[null,null,null,null,null,null,null,"France ","Espagne","Italie","Allemagne"]
[null,null,null,null,null,null,1995,{"$f":"B87","v":98.83},{"$f":"C87","v":98.67},98.37,99.9]
[null,null,null,null,null,null,null,{"$f":"B88","v":99.59},{"$f":"C88","v":99.9},{"$f":"D88","v":99.42},{"$f":"E88","v":100.35}]
[null,null,null,null,null,null,null,101.42,100.56,100.64,100.03]
[null,null,null,null,null,null,null,100.16,100.87,101.57,99.72]
[null,null,null,null,null,null,1996,99.11,101.25,102.59,99.27]
[null,null,null,null,null,null,null,100.29,101.97,103.08,98.92]
[null,null,null,null,null,null,null,102.41,102.03,104.32,98.58]
[null,null,null,null,null,null,null,101.71,102.22,105.38,98.09]
[null,null,null,null,null,null,1997,97.69,102.42,107.07,97.78]
[null,null,null,null,null,null,null,100.76,103.22,107.28,97.42]
[null,null,null,null,null,null,null,101.71,103.76,107.33,97.27]
[null,null,null,null,null,null,null,101.47,104.54,107.82,96.81]
[null,null,null,null,null,null,1998,99.58,104.93,106.35,96.55]
[null,null,null,null,null,null,null,101.94,107.24,107.5,96.96]
[null,null,null,null,null,null,null,104.54,109.4,107.72,96.88]
[null,null,null,null,null,null,null,104.07,111.61,107.75,96.75]
[null,null,null,null,null,null,1999,105.25,115,107.52,96.67]
[null,null,null,null,null,null,null,107.84,118.84,108.21,96.84]
[null,null,null,null,null,null,null,112.32,122.08,108.74,97.08]
[null,null,null,null,null,null,null,112.56,122.23,109.35,97.4]
[null,null,null,null,null,null,2000,114.45,126.21,110.91,97.89]
[null,null,null,null,null,null,null,117.99,129.75,111.85,98.34]
[null,null,null,null,null,null,null,122.47,131.52000000000001,113.38,98.68]
[null,null,null,null,null,null,null,121.76,131.66999999999999,114.68,99.09]
[null,null,null,null,null,null,2001,123.42,137.12,116.01,99.29]
[null,null,null,null,null,null,null,127.66,141.84,117.48,99.58]
[null,null,null,null,null,null,null,131.66999999999999,144.94,120,99.87]
[null,null,null,null,null,null,null,131.66999999999999,146.41,123.21,99.98]
[null,null,null,null,null,null,2002,132.85,155.11000000000001,130.28,100.36]
[null,null,null,null,null,null,null,137.57,164.69,133.02000000000001,100.62]
[null,null,null,null,null,null,null,143.71,168.53,134.62,100.66]
[null,null,null,null,null,null,null,145.13,171.77,135.62,100.5]
[null,null,null,null,null,null,2003,147.72,181.35,138.69,100.39]
[null,null,null,null,null,null,null,153.62,193.15,140.55000000000001,99.69]
[null,null,null,null,null,null,null,160.46,198.31,143.15,99.59]
[null,null,null,null,null,null,null,163.53,203.47,144.04,100.19]
[null,null,null,null,null,null,2004,168.96,214.68,145.53,100.09]
[null,null,null,null,null,null,null,176.04,226.91,148.47,100.69]
[null,null,null,null,null,null,null,185.24,231.63,152.36000000000001,100.59]
[null,null,null,null,null,null,null,189.72,238.56,154.69999999999999,101.29]
[null,null,null,null,null,null,2005,195.15,248.44,157.65,104.99]
[null,null,null,null,null,null,null,203.65,258.47000000000003,160.56,103.49]
[null,null,null,null,null,null,null,214.03,262.74,163.69,104.69]
[null,null,null,null,null,null,null,218.04,268.93,165.16,103.99]
[null,null,null,null,null,null,2006,223,278.93,166.94,103.19]
[null,null,null,null,null,null,null,230.08,290.87,170.18,104.59]
[null,null,null,null,null,null,null,237.44,300.37,173.27,105.59]
[null,null,null,null,null,null,null,239.41,308.13,174.43,104.49]
[null,null,null,null,null,null,2007,241.13,315.52999999999997,176.73,103.89]
[null,null,null,null,null,null,null,245.3,324.54000000000002,178.75,103.79]
[null,null,null,null,null,null,null,250.95,328.05,181.21,104.49]
[null,null,null,null,null,null,null,252.67,325.70999999999998,182.17,104.69]
[null,null,null,null,null,null,2008,250.95,324.51,183.33,106.89]
[null,null,null,null,null,null,null,251.68,323.66000000000003,185.16,107.69]
[null,null,null,null,null,null,null,252.42,318.51,185.95,107.09]
[null,null,null,null,null,null,null,243.83,308.68,183.12,107.79]
[null,null,null,null,null,null,2009,234.74,300.43,183.77,107.59]
[null,null,null,null,null,null,null,231.3,299.08999999999997,183.57,106.49]
[null,null,null,null,null,null,null,235.23,296.37,183.85,106.49]
[null,null,null,null,null,null,null,235.97,295.17,182.65,106.99]
[null,null,null,null,null,null,2010,237.69,291.48,179.9,105.99]
[null,null,null,null,null,null,null,{"$f":"B148","v":242.6},296.22000000000003,180.81,107.19]
[null,null,null,null,null,null,null,{"$f":"B149","v":249.47},{"$f":"C149","v":291.31},{"$f":"D149","v":181.35},{"$f":"E149","v":107.99}]
[null,null,null,null,null,null,null,252.42,291.01,181.17,108.59]
[null,null,null,null,null,null,2011,253.89,281.10000000000002,180.99,109.29]
[null,null,null,null,null,null,null,259.05,277.73,182.98,109.69]
[null,null,null,null,null,null,null,264.20999999999998,267.82,182.98,110.89]
[null,null,null,null,null,null,null,261.75,253.92,181.71,111.09]
[null,null,null,null,null,null,2012,258.31,241.26,180.63,111.99]
[null,null,null,null,null,null,null,258.56,233.42,179.18,113.49]
[null,null,null,null,null,null,null,260.27999999999997,224.7,176.11,113.89]
[null,null,null,null,null,null,null,256.35000000000002,221.54,172.31,114.89]
[null,null,null,null,null,null,2013,253.4,210.31,169.78,115.79]
[null,null,null,null,null,null,null,252.91,208.64,168.69,117.19]
[null,null,null,null,null,null,null,255.12,210.28,166.16,118.19]
[null,null,null,null,null,null,null,252.42,207.59,163.09,117.69]
[null,null,null,null,null,null,2014,249.47,206.95,161.46,118.59]
[null,null,null,null,null,null,null,249.97,210.4,160.38,120.09]
[null,null,null,null,null,null,null,251.68,210.87,159.65,121.89]
[null,null,null,null,null,null,null,246.53,211.25,157.12,122.79]
[null,null,null,null,null,null,2015,244.32,210.17,155.68,124.49]
[null,null,null,null,null,null,null,244.56,218.85,155.68,125.39]
[null,null,null,null,null,null,null,248.62,220.32,156.04,127.19]
["1995-03-31",98.83,98.67,98.37,99.9]
["1995-06-30",99.59,99.9,99.42,100.35]
["1995-09-30",101.42,100.56,100.64,100.03]
["1995-12-31",100.16,100.87,101.57,99.72]
["1996-03-31",99.11,101.25,102.59,99.27]
["1996-06-30",100.29,101.97,103.08,98.92]
["1996-09-30",102.41,102.03,104.32,98.58]
["1996-12-31",101.71,102.22,105.38,98.09]
["1997-03-31",97.69,102.42,107.07,97.78]
["1997-06-30",100.76,103.22,107.28,97.42]
["1997-09-30",101.71,103.76,107.33,97.27]
["1997-12-31",101.47,104.54,107.82,96.81]
["1998-03-31",99.58,104.93,106.35,96.55]
["1998-06-30",101.94,107.24,107.5,96.96]
["1998-09-30",104.54,109.4,107.72,96.88]
["1998-12-31",104.07,111.61,107.75,96.75]
["1999-03-31",105.25,115,107.52,96.67]
["1999-06-30",107.84,118.84,108.21,96.84]
["1999-09-30",112.32,122.08,108.74,97.08]
["1999-12-31",112.56,122.23,109.35,97.4]
["2000-03-31",114.45,126.21,110.91,97.89]
["2000-06-30",117.99,129.75,111.85,98.34]
["2000-09-30",122.47,131.52000000000001,113.38,98.68]
["2000-12-31",121.76,131.66999999999999,114.68,99.09]
["2001-03-31",123.42,137.12,116.01,99.29]
["2001-06-30",127.66,141.84,117.48,99.58]
["2001-09-30",131.66999999999999,144.94,120,99.87]
["2001-12-31",131.66999999999999,146.41,123.21,99.98]
["2002-03-31",132.85,155.11000000000001,130.28,100.36]
["2002-06-30",137.57,164.69,133.02000000000001,100.62]
["2002-09-30",143.71,168.53,134.62,100.66]
["2002-12-31",145.13,171.77,135.62,100.5]
["2003-03-31",147.72,181.35,138.69,100.39]
["2003-06-30",153.62,193.15,140.55000000000001,99.69]
["2003-09-30",160.46,198.31,143.15,99.59]
["2003-12-31",163.53,203.47,144.04,100.19]
["2004-03-31",168.96,214.68,145.53,100.09]
["2004-06-30",176.04,226.91,148.47,100.69]
["2004-09-30",185.24,231.63,152.36000000000001,100.59]
["2004-12-31",189.72,238.56,154.69999999999999,101.29]
["2005-03-31",195.15,248.44,157.65,104.99]
["2005-06-30",203.65,258.47000000000003,160.56,103.49]
["2005-09-30",214.03,262.74,163.69,104.69]
["2005-12-31",218.04,268.93,165.16,103.99]
["2006-03-31",223,278.93,166.94,103.19]
["2006-06-30",230.08,290.87,170.18,104.59]
["2006-09-30",237.44,300.37,173.27,105.59]
["2006-12-31",239.41,308.13,174.43,104.49]
["2007-03-31",241.13,315.52999999999997,176.73,103.89]
["2007-06-30",245.3,324.54000000000002,178.75,103.79]
["2007-09-30",250.95,328.05,181.21,104.49]
["2007-12-31",252.67,325.70999999999998,182.17,104.69]
["2008-03-31",250.95,324.51,183.33,106.89]
["2008-06-30",251.68,323.66000000000003,185.16,107.69]
["2008-09-30",252.42,318.51,185.95,107.09]
["2008-12-31",243.83,308.68,183.12,107.79]
["2009-03-31",234.74,300.43,183.77,107.59]
["2009-06-30",231.3,299.08999999999997,183.57,106.49]
["2009-09-30",235.23,296.37,183.85,106.49]
["2009-12-31",235.97,295.17,182.65,106.99]
["2010-03-31",237.69,291.48,179.9,105.99]
["2010-06-30",242.6,296.22000000000003,180.81,107.19]
["2010-09-30",249.47,291.31,181.35,107.99]
["2010-12-31",252.42,291.01,181.17,108.59]
["2011-03-31",253.89,281.10000000000002,180.99,109.29]
["2011-06-30",259.05,277.73,182.98,109.69]
["2011-09-30",264.20999999999998,267.82,182.98,110.89]
["2011-12-31",261.75,253.92,181.71,111.09]
["2012-03-31",258.31,241.26,180.63,111.99]
["2012-06-30",258.56,233.42,179.18,113.49]
["2012-09-30",260.27999999999997,224.7,176.11,113.89]
["2012-12-31",256.35000000000002,221.54,172.31,114.89]
["2013-03-31",253.4,210.31,169.78,115.79]
["2013-06-30",252.91,208.64,168.69,117.19]
["2013-09-30",255.12,210.28,166.16,118.19]
["2013-12-31",252.42,207.59,163.09,117.69]
["2014-03-31",249.47,206.95,161.46,118.59]
["2014-06-30",249.97,210.4,160.38,120.09]
["2014-09-30",251.68,210.87,159.65,121.89]
["2014-12-31",246.53,211.25,157.12,122.79]
["2015-03-31",244.32,210.17,155.68,124.49]
["2015-06-30",244.56,218.85,155.68,125.39]
["2015-09-30",248.62,220.32,156.04,127.19]
["2015-12-31","","","",""]

{"sheet":"Graph hyper 11 ","index":26,"n_rows":17,"n_cols":3,"rows_kept":17,"cut":false,"hidden":false,"merged":[[0,4,0,6],[7,1,7,2],[20,2,20,3],[21,1,21,2]]}
[]
[]
[]
[]
["Parts de marché mondial"]
["BACI, WTFC"]
[]
[null,"haut de gamme"]
[null,2000,2014]
["Espagne",1.53,1.77]
["Royaume-Uni",5.86,4.2]
["Italie",4.05,4.22]
["France",5.4,4.6500000000000004]
["Japon",12.2,5.73]
["Chine",2.25,7.13]
["États-unis",17.32,11.05]
["Allemagne",11.26,14.24]